BEGIN:VCALENDAR
VERSION:2.0
PRODID:-//Prince of Peace - ECPv6.15.16.1//NONSGML v1.0//EN
CALSCALE:GREGORIAN
METHOD:PUBLISH
X-ORIGINAL-URL:https://popfb.org
X-WR-CALDESC:Events for Prince of Peace
REFRESH-INTERVAL;VALUE=DURATION:PT1H
X-Robots-Tag:noindex
X-PUBLISHED-TTL:PT1H
BEGIN:VTIMEZONE
TZID:America/New_York
BEGIN:DAYLIGHT
TZOFFSETFROM:-0500
TZOFFSETTO:-0400
TZNAME:EDT
DTSTART:20240310T070000
END:DAYLIGHT
BEGIN:STANDARD
TZOFFSETFROM:-0400
TZOFFSETTO:-0500
TZNAME:EST
DTSTART:20241103T060000
END:STANDARD
BEGIN:DAYLIGHT
TZOFFSETFROM:-0500
TZOFFSETTO:-0400
TZNAME:EDT
DTSTART:20250309T070000
END:DAYLIGHT
BEGIN:STANDARD
TZOFFSETFROM:-0400
TZOFFSETTO:-0500
TZNAME:EST
DTSTART:20251102T060000
END:STANDARD
BEGIN:DAYLIGHT
TZOFFSETFROM:-0500
TZOFFSETTO:-0400
TZNAME:EDT
DTSTART:20260308T070000
END:DAYLIGHT
BEGIN:STANDARD
TZOFFSETFROM:-0400
TZOFFSETTO:-0500
TZNAME:EST
DTSTART:20261101T060000
END:STANDARD
END:VTIMEZONE
BEGIN:VEVENT
DTSTART;TZID=America/New_York:20250822T110000
DTEND;TZID=America/New_York:20250822T120000
DTSTAMP:20260421T222323
CREATED:20250814T184842Z
LAST-MODIFIED:20250814T184842Z
UID:10008489-1755860400-1755864000@popfb.org
SUMMARY:Funeral: Odon Rebollar Vargas
DESCRIPTION:Please pray for the repose of the soul of Odon Rebollar Vargas\, who passed away on July 23\, 2024.  Father Ignacio will celebrate a Mass of Resurrection on Friday\, August 22 at 11am.
URL:https://popfb.org/event/funeral-odon-rebollar-vargas/
LOCATION:Prince of Peace\, 6439 Spout Springs Rd.\, Flowery Branch\, GA\, 30542\, United States
CATEGORIES:Highlighted Events,POP Funerals
END:VEVENT
BEGIN:VEVENT
DTSTART;TZID=America/New_York:20250826T100000
DTEND;TZID=America/New_York:20250826T120000
DTSTAMP:20260421T222323
CREATED:20250804T161205Z
LAST-MODIFIED:20250828T181857Z
UID:10008493-1756202400-1756209600@popfb.org
SUMMARY:Prayer and Life Workshops (EN)
DESCRIPTION:Do you want to learn to achieve silence and peace? To free you from anguish and fear? \nCome\, learn to live\, attend a Prayer and Life Workshop! During the 15 week workshop participants will learn a practical method of prayer\, learning to pray by praying. Through the practice of faith and surrender and as a result of praying\, participants begin to heal the wounds of the heart and experience greater serenity. By contemplating the image of Jesus and imitating his characteristics\, participants slowly begin to be transformed into a person more like Jesus.
URL:https://popfb.org/event/prayer-and-life-workshops-eng-3/2025-08-26/
CATEGORIES:Adult Faith Formation
ATTACH;FMTTYPE=image/png:https://popfb.org/wp-content/uploads/2025/08/Prayer-and-Life-Workshop.png
END:VEVENT
BEGIN:VEVENT
DTSTART;TZID=America/New_York:20250826T190000
DTEND;TZID=America/New_York:20250826T210000
DTSTAMP:20260421T222323
CREATED:20250804T161416Z
LAST-MODIFIED:20250828T182210Z
UID:10008523-1756234800-1756242000@popfb.org
SUMMARY:Prayer and Life Workshops (ES)
DESCRIPTION:Do you want to learn to achieve silence and peace? To free you from anguish and fear? \nCome\, learn to live\, attend a Prayer and Life Workshop! During the 15 week workshop participants will learn a practical method of prayer\, learning to pray by praying. Through the practice of faith and surrender and as a result of praying\, participants begin to heal the wounds of the heart and experience greater serenity. By contemplating the image of Jesus and imitating his characteristics\, participants slowly begin to be transformed into a person more like Jesus.
URL:https://popfb.org/event/prayer-and-life-workshops-esp-2/2025-08-26/
CATEGORIES:Adult Faith Formation
END:VEVENT
BEGIN:VEVENT
DTSTART;TZID=America/New_York:20250828T190000
DTEND;TZID=America/New_York:20250828T200000
DTSTAMP:20260421T222323
CREATED:20250807T172134Z
LAST-MODIFIED:20250826T154712Z
UID:10008578-1756407600-1756411200@popfb.org
SUMMARY:Communion Service
DESCRIPTION:Dates of Communion Service at 7pm: 8/28\, 8/21\, 9/9 & 9/11
URL:https://popfb.org/event/communion-service-7/2025-08-28/
CATEGORIES:Mass & Confession Page,Parish Notice
ATTACH;FMTTYPE=image/png:https://popfb.org/wp-content/uploads/2024/02/Communion-Service.png
END:VEVENT
BEGIN:VEVENT
DTSTART;VALUE=DATE:20250901
DTEND;VALUE=DATE:20250902
DTSTAMP:20260421T222323
CREATED:20250827T184247Z
LAST-MODIFIED:20250827T184247Z
UID:10008603-1756684800-1756771199@popfb.org
SUMMARY:Labor Day
DESCRIPTION:The Parish office will be closed on Monday\, September 1 in observance of Labor Day\nMass will be celebrated at 9am\nThere will be NO Exposition of the Blessed Sacrament (or overnight Adoration)\, but the chapel will be open for private prayer and devotions from 9am-9pm\nThe Blessed Sacrament will be exposed again after the 9am Mass on Tuesday\, September 2\nThere are no other scheduled events at the parish on Labor Day
URL:https://popfb.org/event/labor-day-2/
CATEGORIES:Highlighted Events,Mass & Confession Page
END:VEVENT
BEGIN:VEVENT
DTSTART;TZID=America/New_York:20250902T100000
DTEND;TZID=America/New_York:20250902T120000
DTSTAMP:20260421T222323
CREATED:20250804T161205Z
LAST-MODIFIED:20250828T181857Z
UID:10008494-1756807200-1756814400@popfb.org
SUMMARY:Prayer and Life Workshops (EN)
DESCRIPTION:Do you want to learn to achieve silence and peace? To free you from anguish and fear? \nCome\, learn to live\, attend a Prayer and Life Workshop! During the 15 week workshop participants will learn a practical method of prayer\, learning to pray by praying. Through the practice of faith and surrender and as a result of praying\, participants begin to heal the wounds of the heart and experience greater serenity. By contemplating the image of Jesus and imitating his characteristics\, participants slowly begin to be transformed into a person more like Jesus.
URL:https://popfb.org/event/prayer-and-life-workshops-eng-3/2025-09-02/
CATEGORIES:Adult Faith Formation
ATTACH;FMTTYPE=image/png:https://popfb.org/wp-content/uploads/2025/08/Prayer-and-Life-Workshop.png
END:VEVENT
BEGIN:VEVENT
DTSTART;TZID=America/New_York:20250902T190000
DTEND;TZID=America/New_York:20250902T210000
DTSTAMP:20260421T222323
CREATED:20250804T161416Z
LAST-MODIFIED:20250828T182210Z
UID:10008524-1756839600-1756846800@popfb.org
SUMMARY:Prayer and Life Workshops (ES)
DESCRIPTION:Do you want to learn to achieve silence and peace? To free you from anguish and fear? \nCome\, learn to live\, attend a Prayer and Life Workshop! During the 15 week workshop participants will learn a practical method of prayer\, learning to pray by praying. Through the practice of faith and surrender and as a result of praying\, participants begin to heal the wounds of the heart and experience greater serenity. By contemplating the image of Jesus and imitating his characteristics\, participants slowly begin to be transformed into a person more like Jesus.
URL:https://popfb.org/event/prayer-and-life-workshops-esp-2/2025-09-02/
CATEGORIES:Adult Faith Formation
END:VEVENT
BEGIN:VEVENT
DTSTART;TZID=America/New_York:20250904T190000
DTEND;TZID=America/New_York:20250904T200000
DTSTAMP:20260421T222323
CREATED:20250807T172134Z
LAST-MODIFIED:20250826T154712Z
UID:10008579-1757012400-1757016000@popfb.org
SUMMARY:Communion Service
DESCRIPTION:Dates of Communion Service at 7pm: 8/28\, 8/21\, 9/9 & 9/11
URL:https://popfb.org/event/communion-service-7/2025-09-04/
CATEGORIES:Mass & Confession Page,Parish Notice
ATTACH;FMTTYPE=image/png:https://popfb.org/wp-content/uploads/2024/02/Communion-Service.png
END:VEVENT
BEGIN:VEVENT
DTSTART;TZID=America/New_York:20250905T090000
DTEND;TZID=America/New_York:20250905T200000
DTSTAMP:20260421T222323
CREATED:20250826T151304Z
LAST-MODIFIED:20250826T151304Z
UID:10008567-1757062800-1757102400@popfb.org
SUMMARY:Encounter
DESCRIPTION:In our busy lives\, it’s easy to lose sight of the One who gives us true peace and purpose. That’s why we set aside time for Encounter\, a day dedicated to prayer\, adoration\, and personal connection with Jesus Christ in the Eucharist. \nEucharistic Adoration is a powerful way to spend quiet time with the Lord\, to rest in His presence\, and to allow Him to speak to our hearts. Whether you can come for a few minutes or stay for an hour\, your time before the Blessed Sacrament is an offering of love and trust. \nThis Friday\, we invite you to make space in your day to be with Jesus. Come whenever your schedule allows: \n9am: Our day of prayer begins with Mass in English. \n9:30am-7pm: After Mass\, Father will expose the Blessed Sacrament on the main altar of the Church for silent prayer. Adoration will continue in the Church until 7pm. Everyone is welcome—parishioners\, friends\, visitors\, ministries\, and small groups are all encouraged to come\, spend time with Jesus\, and adore Him in the Blessed Sacrament. \n7pm: We will begin a special period of praise & worship\, prayer & reflection\, culminating with Benediction.
URL:https://popfb.org/event/encounter-9/
CATEGORIES:Adoration Page,Highlighted Events,Mass & Confession Page
ATTACH;FMTTYPE=image/png:https://popfb.org/wp-content/uploads/2024/02/Encounter.png
END:VEVENT
BEGIN:VEVENT
DTSTART;TZID=America/New_York:20250909T090000
DTEND;TZID=America/New_York:20250909T094500
DTSTAMP:20260421T222323
CREATED:20250807T183404Z
LAST-MODIFIED:20250807T183701Z
UID:10008443-1757408400-1757411100@popfb.org
SUMMARY:Communion Service
DESCRIPTION:Dates of Communion Service at 9am: 9/9\, 9/10\, 9/11 & 9/12
URL:https://popfb.org/event/communion-service-8/2025-09-09/
CATEGORIES:Mass & Confession Page,Parish Notice
ATTACH;FMTTYPE=image/png:https://popfb.org/wp-content/uploads/2024/02/Communion-Service.png
END:VEVENT
BEGIN:VEVENT
DTSTART;TZID=America/New_York:20250909T100000
DTEND;TZID=America/New_York:20250909T120000
DTSTAMP:20260421T222323
CREATED:20250804T161205Z
LAST-MODIFIED:20250828T181857Z
UID:10008495-1757412000-1757419200@popfb.org
SUMMARY:Prayer and Life Workshops (EN)
DESCRIPTION:Do you want to learn to achieve silence and peace? To free you from anguish and fear? \nCome\, learn to live\, attend a Prayer and Life Workshop! During the 15 week workshop participants will learn a practical method of prayer\, learning to pray by praying. Through the practice of faith and surrender and as a result of praying\, participants begin to heal the wounds of the heart and experience greater serenity. By contemplating the image of Jesus and imitating his characteristics\, participants slowly begin to be transformed into a person more like Jesus.
URL:https://popfb.org/event/prayer-and-life-workshops-eng-3/2025-09-09/
CATEGORIES:Adult Faith Formation
ATTACH;FMTTYPE=image/png:https://popfb.org/wp-content/uploads/2025/08/Prayer-and-Life-Workshop.png
END:VEVENT
BEGIN:VEVENT
DTSTART;TZID=America/New_York:20250909T190000
DTEND;TZID=America/New_York:20250909T200000
DTSTAMP:20260421T222323
CREATED:20250807T172134Z
LAST-MODIFIED:20250826T154712Z
UID:10008404-1757444400-1757448000@popfb.org
SUMMARY:Communion Service
DESCRIPTION:Dates of Communion Service at 7pm: 8/28\, 8/21\, 9/9 & 9/11
URL:https://popfb.org/event/communion-service-7/2025-09-09/
CATEGORIES:Mass & Confession Page,Parish Notice
ATTACH;FMTTYPE=image/png:https://popfb.org/wp-content/uploads/2024/02/Communion-Service.png
END:VEVENT
BEGIN:VEVENT
DTSTART;TZID=America/New_York:20250909T190000
DTEND;TZID=America/New_York:20250909T210000
DTSTAMP:20260421T222323
CREATED:20250804T161416Z
LAST-MODIFIED:20250828T182210Z
UID:10008525-1757444400-1757451600@popfb.org
SUMMARY:Prayer and Life Workshops (ES)
DESCRIPTION:Do you want to learn to achieve silence and peace? To free you from anguish and fear? \nCome\, learn to live\, attend a Prayer and Life Workshop! During the 15 week workshop participants will learn a practical method of prayer\, learning to pray by praying. Through the practice of faith and surrender and as a result of praying\, participants begin to heal the wounds of the heart and experience greater serenity. By contemplating the image of Jesus and imitating his characteristics\, participants slowly begin to be transformed into a person more like Jesus.
URL:https://popfb.org/event/prayer-and-life-workshops-esp-2/2025-09-09/
CATEGORIES:Adult Faith Formation
END:VEVENT
BEGIN:VEVENT
DTSTART;TZID=America/New_York:20250910T090000
DTEND;TZID=America/New_York:20250910T094500
DTSTAMP:20260421T222323
CREATED:20250807T183404Z
LAST-MODIFIED:20250807T183701Z
UID:10008444-1757494800-1757497500@popfb.org
SUMMARY:Communion Service
DESCRIPTION:Dates of Communion Service at 9am: 9/9\, 9/10\, 9/11 & 9/12
URL:https://popfb.org/event/communion-service-8/2025-09-10/
CATEGORIES:Mass & Confession Page,Parish Notice
ATTACH;FMTTYPE=image/png:https://popfb.org/wp-content/uploads/2024/02/Communion-Service.png
END:VEVENT
BEGIN:VEVENT
DTSTART;TZID=America/New_York:20250911T090000
DTEND;TZID=America/New_York:20250911T094500
DTSTAMP:20260421T222323
CREATED:20250807T183404Z
LAST-MODIFIED:20250807T183701Z
UID:10008445-1757581200-1757583900@popfb.org
SUMMARY:Communion Service
DESCRIPTION:Dates of Communion Service at 9am: 9/9\, 9/10\, 9/11 & 9/12
URL:https://popfb.org/event/communion-service-8/2025-09-11/
CATEGORIES:Mass & Confession Page,Parish Notice
ATTACH;FMTTYPE=image/png:https://popfb.org/wp-content/uploads/2024/02/Communion-Service.png
END:VEVENT
BEGIN:VEVENT
DTSTART;TZID=America/New_York:20250911T100000
DTEND;TZID=America/New_York:20250911T113000
DTSTAMP:20260421T222323
CREATED:20250814T182804Z
LAST-MODIFIED:20250814T182804Z
UID:10008456-1757584800-1757590200@popfb.org
SUMMARY:Luke: The Story of Salvation Fulfilled
DESCRIPTION:• 8 Week Bible Study in English\n• 9/11/25 – 10/30/25\n• 10am or 7pm \nThe Gospel of Luke takes you on a journey that begins with the foretelling of John the Baptist’s birth and culminates in Jesus’ ascension into heaven. Along the way\, you will witness key moments in salvation history\, including the Annunciation; the Nativity; Jesus’ baptism; his public ministry; the Last Supper; and Jesus’ suffering\, death\, and glorious Resurrection. The Gospel’s powerful prose and beautiful details will deepen your desire to draw closer to Jesus and be transformed by his teachings. \nThe Gospel of Luke continually reveals how Jesus is the fulfillment of Old Testament prophecies. With Luke: The Story of Salvation Fulfilled\, you will experience joy as you see how God has been faithful throughout the ages and how God’s promise can guide you in your everyday lives. \nFor questions\, contact Suzanne Coughlin at suzanne@popfb.org.
URL:https://popfb.org/event/luke-the-story-of-salvation-fulfilled/2025-09-11/
CATEGORIES:Adult Faith Formation,Highlighted Events
ATTACH;FMTTYPE=image/png:https://popfb.org/wp-content/uploads/2025/08/Events-Calendar-Thumbnail-website-11.png
END:VEVENT
BEGIN:VEVENT
DTSTART;TZID=America/New_York:20250911T190000
DTEND;TZID=America/New_York:20250911T200000
DTSTAMP:20260421T222323
CREATED:20250807T172134Z
LAST-MODIFIED:20250826T154712Z
UID:10008406-1757617200-1757620800@popfb.org
SUMMARY:Communion Service
DESCRIPTION:Dates of Communion Service at 7pm: 8/28\, 8/21\, 9/9 & 9/11
URL:https://popfb.org/event/communion-service-7/2025-09-11/
CATEGORIES:Mass & Confession Page,Parish Notice
ATTACH;FMTTYPE=image/png:https://popfb.org/wp-content/uploads/2024/02/Communion-Service.png
END:VEVENT
BEGIN:VEVENT
DTSTART;TZID=America/New_York:20250911T190000
DTEND;TZID=America/New_York:20250911T203000
DTSTAMP:20260421T222323
CREATED:20250827T181802Z
LAST-MODIFIED:20250827T181802Z
UID:10008595-1757617200-1757622600@popfb.org
SUMMARY:Luke: The Story of Salvation Fulfilled
DESCRIPTION:• 8 Week Bible Study in English\n• 9/11/25 – 10/30/25\n• 10am or 7pm \nThe Gospel of Luke takes you on a journey that begins with the foretelling of John the Baptist’s birth and culminates in Jesus’ ascension into heaven. Along the way\, you will witness key moments in salvation history\, including the Annunciation; the Nativity; Jesus’ baptism; his public ministry; the Last Supper; and Jesus’ suffering\, death\, and glorious Resurrection. The Gospel’s powerful prose and beautiful details will deepen your desire to draw closer to Jesus and be transformed by his teachings. \nThe Gospel of Luke continually reveals how Jesus is the fulfillment of Old Testament prophecies. With Luke: The Story of Salvation Fulfilled\, you will experience joy as you see how God has been faithful throughout the ages and how God’s promise can guide you in your everyday lives. \nFor questions\, contact Suzanne Coughlin at suzanne@popfb.org.
URL:https://popfb.org/event/luke-the-story-of-salvation-fulfilled-2/2025-09-11/
CATEGORIES:Adult Faith Formation,Highlighted Events
ATTACH;FMTTYPE=image/png:https://popfb.org/wp-content/uploads/2025/08/Events-Calendar-Thumbnail-website-11.png
END:VEVENT
BEGIN:VEVENT
DTSTART;TZID=America/New_York:20250912T090000
DTEND;TZID=America/New_York:20250912T094500
DTSTAMP:20260421T222323
CREATED:20250807T183404Z
LAST-MODIFIED:20250807T183701Z
UID:10008446-1757667600-1757670300@popfb.org
SUMMARY:Communion Service
DESCRIPTION:Dates of Communion Service at 9am: 9/9\, 9/10\, 9/11 & 9/12
URL:https://popfb.org/event/communion-service-8/2025-09-12/
CATEGORIES:Mass & Confession Page,Parish Notice
ATTACH;FMTTYPE=image/png:https://popfb.org/wp-content/uploads/2024/02/Communion-Service.png
END:VEVENT
BEGIN:VEVENT
DTSTART;TZID=America/New_York:20250912T130000
DTEND;TZID=America/New_York:20250912T140000
DTSTAMP:20260421T222323
CREATED:20250909T152746Z
LAST-MODIFIED:20250909T153850Z
UID:10008612-1757682000-1757685600@popfb.org
SUMMARY:Funeral: Leandro Rebollar Rico
DESCRIPTION:Please pray for the repose of the soul of Leandro Rebollar Rico\, who passed away on September 6\, 2025. Monsignor Jaime Barona will celebrate a Mass of Resurrection on Friday\, September 12 at 1pm.
URL:https://popfb.org/event/funeral-leandro-rebollar-rico/
LOCATION:Prince of Peace\, 6439 Spout Springs Rd.\, Flowery Branch\, GA\, 30542\, United States
CATEGORIES:Highlighted Events,POP Funerals
END:VEVENT
BEGIN:VEVENT
DTSTART;TZID=America/New_York:20250913T130000
DTEND;TZID=America/New_York:20250913T140000
DTSTAMP:20260421T222323
CREATED:20250728T135953Z
LAST-MODIFIED:20250728T140354Z
UID:10008348-1757768400-1757772000@popfb.org
SUMMARY:Funeral: Anthony O'Neill
DESCRIPTION:Please pray for the repose of the soul of Anthony O’Neill\, who passed away on July 19\, 2025.  Father Pete will celebrate a Mass of Resurrection on Saturday\, September 13 at 1pm.
URL:https://popfb.org/event/funeral-anthony-oneill/
LOCATION:Prince of Peace\, 6439 Spout Springs Rd.\, Flowery Branch\, GA\, 30542\, United States
CATEGORIES:POP Funerals
END:VEVENT
BEGIN:VEVENT
DTSTART;TZID=America/New_York:20250915T110000
DTEND;TZID=America/New_York:20250915T120000
DTSTAMP:20260421T222323
CREATED:20250828T152037Z
LAST-MODIFIED:20250828T152037Z
UID:10008606-1757934000-1757937600@popfb.org
SUMMARY:Funeral: Elsie Ioa Ballentine
DESCRIPTION:Please pray for the repose of the soul of Elsie Ioa Ballentine\, who passed away on July 30\, 2025. Father Ignacio will celebrate a Mass of Resurrection on Monday\, September 15 at 11am.
URL:https://popfb.org/event/funeral-elsie-ioa-ballentine/
LOCATION:Prince of Peace\, 6439 Spout Springs Rd.\, Flowery Branch\, GA\, 30542\, United States
CATEGORIES:Highlighted Events,POP Funerals
END:VEVENT
BEGIN:VEVENT
DTSTART;TZID=America/New_York:20250916T100000
DTEND;TZID=America/New_York:20250916T120000
DTSTAMP:20260421T222323
CREATED:20250804T161205Z
LAST-MODIFIED:20250828T181857Z
UID:10008496-1758016800-1758024000@popfb.org
SUMMARY:Prayer and Life Workshops (EN)
DESCRIPTION:Do you want to learn to achieve silence and peace? To free you from anguish and fear? \nCome\, learn to live\, attend a Prayer and Life Workshop! During the 15 week workshop participants will learn a practical method of prayer\, learning to pray by praying. Through the practice of faith and surrender and as a result of praying\, participants begin to heal the wounds of the heart and experience greater serenity. By contemplating the image of Jesus and imitating his characteristics\, participants slowly begin to be transformed into a person more like Jesus.
URL:https://popfb.org/event/prayer-and-life-workshops-eng-3/2025-09-16/
CATEGORIES:Adult Faith Formation
ATTACH;FMTTYPE=image/png:https://popfb.org/wp-content/uploads/2025/08/Prayer-and-Life-Workshop.png
END:VEVENT
BEGIN:VEVENT
DTSTART;TZID=America/New_York:20250916T190000
DTEND;TZID=America/New_York:20250916T210000
DTSTAMP:20260421T222323
CREATED:20250804T161416Z
LAST-MODIFIED:20250828T182210Z
UID:10008526-1758049200-1758056400@popfb.org
SUMMARY:Prayer and Life Workshops (ES)
DESCRIPTION:Do you want to learn to achieve silence and peace? To free you from anguish and fear? \nCome\, learn to live\, attend a Prayer and Life Workshop! During the 15 week workshop participants will learn a practical method of prayer\, learning to pray by praying. Through the practice of faith and surrender and as a result of praying\, participants begin to heal the wounds of the heart and experience greater serenity. By contemplating the image of Jesus and imitating his characteristics\, participants slowly begin to be transformed into a person more like Jesus.
URL:https://popfb.org/event/prayer-and-life-workshops-esp-2/2025-09-16/
CATEGORIES:Adult Faith Formation
END:VEVENT
BEGIN:VEVENT
DTSTART;TZID=America/New_York:20250917T120000
DTEND;TZID=America/New_York:20250917T130000
DTSTAMP:20260421T222323
CREATED:20250915T144716Z
LAST-MODIFIED:20250915T161608Z
UID:10008617-1758110400-1758114000@popfb.org
SUMMARY:Funeral: Mark A. Lunday
DESCRIPTION:Please pray for the repose of the soul of Mark A. Lunday\, who passed away on September 11\, 2025. Father Pete will celebrate a Mass of Resurrection on Wednesday\, September 17 at 12pm.
URL:https://popfb.org/event/funeral-mark-a-lunday/
LOCATION:Prince of Peace\, 6439 Spout Springs Rd.\, Flowery Branch\, GA\, 30542\, United States
CATEGORIES:Highlighted Events,POP Funerals
END:VEVENT
BEGIN:VEVENT
DTSTART;TZID=America/New_York:20250918T100000
DTEND;TZID=America/New_York:20250918T113000
DTSTAMP:20260421T222323
CREATED:20250814T182804Z
LAST-MODIFIED:20250814T182804Z
UID:10008457-1758189600-1758195000@popfb.org
SUMMARY:Luke: The Story of Salvation Fulfilled
DESCRIPTION:• 8 Week Bible Study in English\n• 9/11/25 – 10/30/25\n• 10am or 7pm \nThe Gospel of Luke takes you on a journey that begins with the foretelling of John the Baptist’s birth and culminates in Jesus’ ascension into heaven. Along the way\, you will witness key moments in salvation history\, including the Annunciation; the Nativity; Jesus’ baptism; his public ministry; the Last Supper; and Jesus’ suffering\, death\, and glorious Resurrection. The Gospel’s powerful prose and beautiful details will deepen your desire to draw closer to Jesus and be transformed by his teachings. \nThe Gospel of Luke continually reveals how Jesus is the fulfillment of Old Testament prophecies. With Luke: The Story of Salvation Fulfilled\, you will experience joy as you see how God has been faithful throughout the ages and how God’s promise can guide you in your everyday lives. \nFor questions\, contact Suzanne Coughlin at suzanne@popfb.org.
URL:https://popfb.org/event/luke-the-story-of-salvation-fulfilled/2025-09-18/
CATEGORIES:Adult Faith Formation,Highlighted Events
ATTACH;FMTTYPE=image/png:https://popfb.org/wp-content/uploads/2025/08/Events-Calendar-Thumbnail-website-11.png
END:VEVENT
BEGIN:VEVENT
DTSTART;TZID=America/New_York:20250918T190000
DTEND;TZID=America/New_York:20250918T203000
DTSTAMP:20260421T222323
CREATED:20250827T181802Z
LAST-MODIFIED:20250827T181802Z
UID:10008596-1758222000-1758227400@popfb.org
SUMMARY:Luke: The Story of Salvation Fulfilled
DESCRIPTION:• 8 Week Bible Study in English\n• 9/11/25 – 10/30/25\n• 10am or 7pm \nThe Gospel of Luke takes you on a journey that begins with the foretelling of John the Baptist’s birth and culminates in Jesus’ ascension into heaven. Along the way\, you will witness key moments in salvation history\, including the Annunciation; the Nativity; Jesus’ baptism; his public ministry; the Last Supper; and Jesus’ suffering\, death\, and glorious Resurrection. The Gospel’s powerful prose and beautiful details will deepen your desire to draw closer to Jesus and be transformed by his teachings. \nThe Gospel of Luke continually reveals how Jesus is the fulfillment of Old Testament prophecies. With Luke: The Story of Salvation Fulfilled\, you will experience joy as you see how God has been faithful throughout the ages and how God’s promise can guide you in your everyday lives. \nFor questions\, contact Suzanne Coughlin at suzanne@popfb.org.
URL:https://popfb.org/event/luke-the-story-of-salvation-fulfilled-2/2025-09-18/
CATEGORIES:Adult Faith Formation,Highlighted Events
ATTACH;FMTTYPE=image/png:https://popfb.org/wp-content/uploads/2025/08/Events-Calendar-Thumbnail-website-11.png
END:VEVENT
BEGIN:VEVENT
DTSTART;TZID=America/New_York:20250918T190000
DTEND;TZID=America/New_York:20250918T203000
DTSTAMP:20260421T222323
CREATED:20250828T180302Z
LAST-MODIFIED:20250828T181006Z
UID:10008608-1758222000-1758227400@popfb.org
SUMMARY:Lectio: St. Mark with Luis Soto (ES)
DESCRIPTION:10-Week Bible Study in Spanish\n9/18/25 – 11/20/25\n7:00 PM \nIs the Gospel of Saint Mark merely an abridged version of the life of Jesus? What does this\, the shortest of all the Gospels\, offer that Matthew\, Luke\, or John do not? Join Luis Soto in this 10-session series\, conducted entirely in Spanish\, to deepen your understanding of the Gospel of Saint Mark as never before. \nExplore this action-filled Gospel\, discovering Saint Peter’s perspective on the life and teachings of Jesus. Combining the instruction of Luis Soto with the cinematic excellence for which the Augustine Institute is renowned\, this LECTIO series\, the first conducted entirely in Spanish\, guides participants step by step through the rich ecclesial tradition\, enabling a deeper understanding of and prayerful engagement with the Gospel of Saint Mark. \nFor questions\, please contact Carmela Trevino at 678-960-0069 or via email at carmela@popfb.org.
URL:https://popfb.org/event/lectio-st-mark-with-luis-soto-es/
CATEGORIES:Adult Faith Formation,Highlighted Events
END:VEVENT
BEGIN:VEVENT
DTSTART;TZID=America/New_York:20250920T110000
DTEND;TZID=America/New_York:20250920T190000
DTSTAMP:20260421T222323
CREATED:20250814T183717Z
LAST-MODIFIED:20250814T183717Z
UID:10008436-1758366000-1758394800@popfb.org
SUMMARY:Parish Picnic 2025
DESCRIPTION:Join us for a joyful celebration of our 50th Anniversary! \nCome enjoy a fun-filled day for all ages\, a wonderful opportunity to gather in fellowship and give thanks for our vibrant faith community. \n11:00 AM–3:00 PM | Family Fun & Fellowship\nEnjoy delicious food\, popcorn\, drinks\, inflatables for kids\, music\, games\, and a special “Walk Down POP Memory Lane”—a tribute to the people and moments that have shaped our parish over the past five decades. \n4:00 PM | Outdoor Mass (Vigil Mass)\nBring your lawn chair or blanket as we celebrate the Eucharist together under the open sky. \n5:30 PM–8:00 PM | Food Trucks \nChoose from a variety of delicious food options available for purchase. \n6:00 PM | Live Concert \nCap off the evening with music from the Shane Brothers Band. \nClick here to Volunteer!\nAll are welcome\, bring your family\, invite friends\, and be part of this memorable celebration!
URL:https://popfb.org/event/parish-picnic-2025-2/
CATEGORIES:50th Anniversary Page,Highlighted Events
ATTACH;FMTTYPE=image/png:https://popfb.org/wp-content/uploads/2025/07/Events-Calendar-Thumbnail-website-2.png
END:VEVENT
BEGIN:VEVENT
DTSTART;TZID=America/New_York:20250923T100000
DTEND;TZID=America/New_York:20250923T120000
DTSTAMP:20260421T222323
CREATED:20250804T161205Z
LAST-MODIFIED:20250828T181857Z
UID:10008497-1758621600-1758628800@popfb.org
SUMMARY:Prayer and Life Workshops (EN)
DESCRIPTION:Do you want to learn to achieve silence and peace? To free you from anguish and fear? \nCome\, learn to live\, attend a Prayer and Life Workshop! During the 15 week workshop participants will learn a practical method of prayer\, learning to pray by praying. Through the practice of faith and surrender and as a result of praying\, participants begin to heal the wounds of the heart and experience greater serenity. By contemplating the image of Jesus and imitating his characteristics\, participants slowly begin to be transformed into a person more like Jesus.
URL:https://popfb.org/event/prayer-and-life-workshops-eng-3/2025-09-23/
CATEGORIES:Adult Faith Formation
ATTACH;FMTTYPE=image/png:https://popfb.org/wp-content/uploads/2025/08/Prayer-and-Life-Workshop.png
END:VEVENT
END:VCALENDAR