BEGIN:VCALENDAR
VERSION:2.0
PRODID:-//Prince of Peace - ECPv6.15.16.1//NONSGML v1.0//EN
CALSCALE:GREGORIAN
METHOD:PUBLISH
X-ORIGINAL-URL:https://popfb.org
X-WR-CALDESC:Events for Prince of Peace
REFRESH-INTERVAL;VALUE=DURATION:PT1H
X-Robots-Tag:noindex
X-PUBLISHED-TTL:PT1H
BEGIN:VTIMEZONE
TZID:America/New_York
BEGIN:DAYLIGHT
TZOFFSETFROM:-0500
TZOFFSETTO:-0400
TZNAME:EDT
DTSTART:20250309T070000
END:DAYLIGHT
BEGIN:STANDARD
TZOFFSETFROM:-0400
TZOFFSETTO:-0500
TZNAME:EST
DTSTART:20251102T060000
END:STANDARD
BEGIN:DAYLIGHT
TZOFFSETFROM:-0500
TZOFFSETTO:-0400
TZNAME:EDT
DTSTART:20260308T070000
END:DAYLIGHT
BEGIN:STANDARD
TZOFFSETFROM:-0400
TZOFFSETTO:-0500
TZNAME:EST
DTSTART:20261101T060000
END:STANDARD
BEGIN:DAYLIGHT
TZOFFSETFROM:-0500
TZOFFSETTO:-0400
TZNAME:EDT
DTSTART:20270314T070000
END:DAYLIGHT
BEGIN:STANDARD
TZOFFSETFROM:-0400
TZOFFSETTO:-0500
TZNAME:EST
DTSTART:20271107T060000
END:STANDARD
END:VTIMEZONE
BEGIN:VEVENT
DTSTART;TZID=America/New_York:20260424T120000
DTEND;TZID=America/New_York:20260424T130000
DTSTAMP:20260421T041748
CREATED:20260408T180523Z
LAST-MODIFIED:20260408T180523Z
UID:10009935-1777032000-1777035600@popfb.org
SUMMARY:Funeral: Diane Friesen
DESCRIPTION:Please pray for the repose of the soul of Diane Friesen\, who passed away on February 22\, 2026. Father Eric Hill will celebrate a Mass of Resurrection on April 24 at 12pm. The Rosary will be prayed at 11:15 am.
URL:https://popfb.org/event/funeral-diane-friesen/
LOCATION:Prince of Peace\, 6439 Spout Springs Rd.\, Flowery Branch\, GA\, 30542\, United States
CATEGORIES:Highlighted Events,POP Funerals
ATTACH;FMTTYPE=image/png:https://popfb.org/wp-content/uploads/2026/04/For-Funerals-Page-13.png
END:VEVENT
END:VCALENDAR