BEGIN:VCALENDAR
VERSION:2.0
PRODID:-//Prince of Peace - ECPv6.15.16.1//NONSGML v1.0//EN
CALSCALE:GREGORIAN
METHOD:PUBLISH
X-ORIGINAL-URL:https://popfb.org
X-WR-CALDESC:Events for Prince of Peace
REFRESH-INTERVAL;VALUE=DURATION:PT1H
X-Robots-Tag:noindex
X-PUBLISHED-TTL:PT1H
BEGIN:VTIMEZONE
TZID:America/New_York
BEGIN:DAYLIGHT
TZOFFSETFROM:-0500
TZOFFSETTO:-0400
TZNAME:EDT
DTSTART:20240310T070000
END:DAYLIGHT
BEGIN:STANDARD
TZOFFSETFROM:-0400
TZOFFSETTO:-0500
TZNAME:EST
DTSTART:20241103T060000
END:STANDARD
BEGIN:DAYLIGHT
TZOFFSETFROM:-0500
TZOFFSETTO:-0400
TZNAME:EDT
DTSTART:20250309T070000
END:DAYLIGHT
BEGIN:STANDARD
TZOFFSETFROM:-0400
TZOFFSETTO:-0500
TZNAME:EST
DTSTART:20251102T060000
END:STANDARD
BEGIN:DAYLIGHT
TZOFFSETFROM:-0500
TZOFFSETTO:-0400
TZNAME:EDT
DTSTART:20260308T070000
END:DAYLIGHT
BEGIN:STANDARD
TZOFFSETFROM:-0400
TZOFFSETTO:-0500
TZNAME:EST
DTSTART:20261101T060000
END:STANDARD
END:VTIMEZONE
BEGIN:VEVENT
DTSTART;TZID=America/New_York:20251202T180000
DTEND;TZID=America/New_York:20251202T184500
DTSTAMP:20260421T153226
CREATED:20251121T153435Z
LAST-MODIFIED:20251209T165847Z
UID:10008890-1764698400-1764701100@popfb.org
SUMMARY:No Confessions
DESCRIPTION:Date(s) of no Confessions on: 12/9\, 12/16\, 12/18\, 12/25\, 12/27\, 12/30 1/1
URL:https://popfb.org/event/no-confessions-9/2025-12-02/
CATEGORIES:Confessions,Mass & Confession Page,Parish Notice
ATTACH;FMTTYPE=image/png:https://popfb.org/wp-content/uploads/2024/02/Confessions.png
END:VEVENT
BEGIN:VEVENT
DTSTART;TZID=America/New_York:20251202T190000
DTEND;TZID=America/New_York:20251202T200000
DTSTAMP:20260421T153226
CREATED:20251121T153059Z
LAST-MODIFIED:20251201T185156Z
UID:10008869-1764702000-1764705600@popfb.org
SUMMARY:Communion Service
DESCRIPTION:Dates of Communion Services: \n7pm: 12/2\, 12/4\, 12/9\, 12/16 & 12/18
URL:https://popfb.org/event/communion-service-9/2025-12-02/
CATEGORIES:Mass & Confession Page,Parish Notice
ATTACH;FMTTYPE=image/png:https://popfb.org/wp-content/uploads/2024/02/Communion-Service.png
END:VEVENT
BEGIN:VEVENT
DTSTART;TZID=America/New_York:20251204T180000
DTEND;TZID=America/New_York:20251204T184500
DTSTAMP:20260421T153226
CREATED:20251121T153435Z
LAST-MODIFIED:20251209T165847Z
UID:10008891-1764871200-1764873900@popfb.org
SUMMARY:No Confessions
DESCRIPTION:Date(s) of no Confessions on: 12/9\, 12/16\, 12/18\, 12/25\, 12/27\, 12/30 1/1
URL:https://popfb.org/event/no-confessions-9/2025-12-04/
CATEGORIES:Confessions,Mass & Confession Page,Parish Notice
ATTACH;FMTTYPE=image/png:https://popfb.org/wp-content/uploads/2024/02/Confessions.png
END:VEVENT
BEGIN:VEVENT
DTSTART;TZID=America/New_York:20251204T190000
DTEND;TZID=America/New_York:20251204T200000
DTSTAMP:20260421T153226
CREATED:20251121T153059Z
LAST-MODIFIED:20251201T185156Z
UID:10008870-1764874800-1764878400@popfb.org
SUMMARY:Communion Service
DESCRIPTION:Dates of Communion Services: \n7pm: 12/2\, 12/4\, 12/9\, 12/16 & 12/18
URL:https://popfb.org/event/communion-service-9/2025-12-04/
CATEGORIES:Mass & Confession Page,Parish Notice
ATTACH;FMTTYPE=image/png:https://popfb.org/wp-content/uploads/2024/02/Communion-Service.png
END:VEVENT
BEGIN:VEVENT
DTSTART;TZID=America/New_York:20251209T180000
DTEND;TZID=America/New_York:20251209T184500
DTSTAMP:20260421T153226
CREATED:20251121T153435Z
LAST-MODIFIED:20251209T165847Z
UID:10008892-1765303200-1765305900@popfb.org
SUMMARY:No Confessions
DESCRIPTION:Date(s) of no Confessions on: 12/9\, 12/16\, 12/18\, 12/25\, 12/27\, 12/30 1/1
URL:https://popfb.org/event/no-confessions-9/2025-12-09/
CATEGORIES:Confessions,Mass & Confession Page,Parish Notice
ATTACH;FMTTYPE=image/png:https://popfb.org/wp-content/uploads/2024/02/Confessions.png
END:VEVENT
BEGIN:VEVENT
DTSTART;TZID=America/New_York:20251209T190000
DTEND;TZID=America/New_York:20251209T200000
DTSTAMP:20260421T153226
CREATED:20251121T153059Z
LAST-MODIFIED:20251201T185156Z
UID:10008871-1765306800-1765310400@popfb.org
SUMMARY:Communion Service
DESCRIPTION:Dates of Communion Services: \n7pm: 12/2\, 12/4\, 12/9\, 12/16 & 12/18
URL:https://popfb.org/event/communion-service-9/2025-12-09/
CATEGORIES:Mass & Confession Page,Parish Notice
ATTACH;FMTTYPE=image/png:https://popfb.org/wp-content/uploads/2024/02/Communion-Service.png
END:VEVENT
BEGIN:VEVENT
DTSTART;TZID=America/New_York:20251216T180000
DTEND;TZID=America/New_York:20251216T184500
DTSTAMP:20260421T153226
CREATED:20251121T153435Z
LAST-MODIFIED:20251209T165847Z
UID:10008894-1765908000-1765910700@popfb.org
SUMMARY:No Confessions
DESCRIPTION:Date(s) of no Confessions on: 12/9\, 12/16\, 12/18\, 12/25\, 12/27\, 12/30 1/1
URL:https://popfb.org/event/no-confessions-9/2025-12-16/
CATEGORIES:Confessions,Mass & Confession Page,Parish Notice
ATTACH;FMTTYPE=image/png:https://popfb.org/wp-content/uploads/2024/02/Confessions.png
END:VEVENT
BEGIN:VEVENT
DTSTART;TZID=America/New_York:20251216T190000
DTEND;TZID=America/New_York:20251216T200000
DTSTAMP:20260421T153226
CREATED:20251121T153059Z
LAST-MODIFIED:20251201T185156Z
UID:10008873-1765911600-1765915200@popfb.org
SUMMARY:Communion Service
DESCRIPTION:Dates of Communion Services: \n7pm: 12/2\, 12/4\, 12/9\, 12/16 & 12/18
URL:https://popfb.org/event/communion-service-9/2025-12-16/
CATEGORIES:Mass & Confession Page,Parish Notice
ATTACH;FMTTYPE=image/png:https://popfb.org/wp-content/uploads/2024/02/Communion-Service.png
END:VEVENT
BEGIN:VEVENT
DTSTART;TZID=America/New_York:20251218T180000
DTEND;TZID=America/New_York:20251218T184500
DTSTAMP:20260421T153226
CREATED:20251121T153435Z
LAST-MODIFIED:20251209T165847Z
UID:10008895-1766080800-1766083500@popfb.org
SUMMARY:No Confessions
DESCRIPTION:Date(s) of no Confessions on: 12/9\, 12/16\, 12/18\, 12/25\, 12/27\, 12/30 1/1
URL:https://popfb.org/event/no-confessions-9/2025-12-18/
CATEGORIES:Confessions,Mass & Confession Page,Parish Notice
ATTACH;FMTTYPE=image/png:https://popfb.org/wp-content/uploads/2024/02/Confessions.png
END:VEVENT
BEGIN:VEVENT
DTSTART;TZID=America/New_York:20251218T190000
DTEND;TZID=America/New_York:20251218T200000
DTSTAMP:20260421T153226
CREATED:20251121T153059Z
LAST-MODIFIED:20251201T185156Z
UID:10008874-1766084400-1766088000@popfb.org
SUMMARY:Communion Service
DESCRIPTION:Dates of Communion Services: \n7pm: 12/2\, 12/4\, 12/9\, 12/16 & 12/18
URL:https://popfb.org/event/communion-service-9/2025-12-18/
CATEGORIES:Mass & Confession Page,Parish Notice
ATTACH;FMTTYPE=image/png:https://popfb.org/wp-content/uploads/2024/02/Communion-Service.png
END:VEVENT
BEGIN:VEVENT
DTSTART;TZID=America/New_York:20251223T190000
DTEND;TZID=America/New_York:20251223T200000
DTSTAMP:20260421T153226
CREATED:20251216T155623Z
LAST-MODIFIED:20251216T155623Z
UID:10008955-1766516400-1766520000@popfb.org
SUMMARY:No Mass nor Communion Service
DESCRIPTION:No Mass or Communion Service will be held on December 23 at 7pm.
URL:https://popfb.org/event/no-mass-nor-communion-service-3/
CATEGORIES:Mass & Confession Page,Parish Notice
ATTACH;FMTTYPE=image/png:https://popfb.org/wp-content/uploads/2024/02/Events-Calendar-Thumbnail-website-12.png
END:VEVENT
BEGIN:VEVENT
DTSTART;TZID=America/New_York:20251225T180000
DTEND;TZID=America/New_York:20251225T184500
DTSTAMP:20260421T153226
CREATED:20251121T153435Z
LAST-MODIFIED:20251209T165847Z
UID:10008936-1766685600-1766688300@popfb.org
SUMMARY:No Confessions
DESCRIPTION:Date(s) of no Confessions on: 12/9\, 12/16\, 12/18\, 12/25\, 12/27\, 12/30 1/1
URL:https://popfb.org/event/no-confessions-9/2025-12-25/
CATEGORIES:Confessions,Mass & Confession Page,Parish Notice
ATTACH;FMTTYPE=image/png:https://popfb.org/wp-content/uploads/2024/02/Confessions.png
END:VEVENT
END:VCALENDAR