BEGIN:VCALENDAR
VERSION:2.0
PRODID:-//Prince of Peace - ECPv6.15.16.1//NONSGML v1.0//EN
CALSCALE:GREGORIAN
METHOD:PUBLISH
X-ORIGINAL-URL:https://popfb.org
X-WR-CALDESC:Events for Prince of Peace
REFRESH-INTERVAL;VALUE=DURATION:PT1H
X-Robots-Tag:noindex
X-PUBLISHED-TTL:PT1H
BEGIN:VTIMEZONE
TZID:America/New_York
BEGIN:DAYLIGHT
TZOFFSETFROM:-0500
TZOFFSETTO:-0400
TZNAME:EDT
DTSTART:20240310T070000
END:DAYLIGHT
BEGIN:STANDARD
TZOFFSETFROM:-0400
TZOFFSETTO:-0500
TZNAME:EST
DTSTART:20241103T060000
END:STANDARD
BEGIN:DAYLIGHT
TZOFFSETFROM:-0500
TZOFFSETTO:-0400
TZNAME:EDT
DTSTART:20250309T070000
END:DAYLIGHT
BEGIN:STANDARD
TZOFFSETFROM:-0400
TZOFFSETTO:-0500
TZNAME:EST
DTSTART:20251102T060000
END:STANDARD
BEGIN:DAYLIGHT
TZOFFSETFROM:-0500
TZOFFSETTO:-0400
TZNAME:EDT
DTSTART:20260308T070000
END:DAYLIGHT
BEGIN:STANDARD
TZOFFSETFROM:-0400
TZOFFSETTO:-0500
TZNAME:EST
DTSTART:20261101T060000
END:STANDARD
END:VTIMEZONE
BEGIN:VEVENT
DTSTART;VALUE=DATE:20250421
DTEND;VALUE=DATE:20250422
DTSTAMP:20260423T012613
CREATED:20250416T145512Z
LAST-MODIFIED:20250416T150255Z
UID:10008132-1745193600-1745279999@popfb.org
SUMMARY:Campus Closed
DESCRIPTION:Our campus will be closed on Monday\, April 21\, in observance of Easter. All parish activities will be suspended.
URL:https://popfb.org/event/campus-closed/
CATEGORIES:Adoration Page,Mass & Confession Page,Parish Notice
ATTACH;FMTTYPE=image/png:https://popfb.org/wp-content/uploads/2024/09/59.png
END:VEVENT
BEGIN:VEVENT
DTSTART;VALUE=DATE:20250421
DTEND;VALUE=DATE:20250422
DTSTAMP:20260423T012613
CREATED:20250402T183644Z
LAST-MODIFIED:20250416T181622Z
UID:10008116-1745193600-1745279999@popfb.org
SUMMARY:Holy Week & Easter Notices
DESCRIPTION:4/14-4/19\n• No confessions during Holy Week \n4/17\, 4/18 & 4/19\n• No daily Mass nor Communion Service at 9am. Visit popfb.org/holyweek to see our Paschal Triduum and Easter Mass schedule. \n4/17\, 4/18 & 4/21\n• Parish office will be closed \n4/16-4/22\n• Exposition of the Blessed Sacrament Suspended from Wednesday\, April 16\, at noon until Tuesday\, April 22\, after 9am Mass\n• 9am-9pm: Chapel open for silent prayer. \n4/21\n• No Mass nor Communion Service\n• The building will be closed \n4/14-4/18\n• SVDP helpline and pantry closed
URL:https://popfb.org/event/holy-week-ester-notices/2025-04-21/
CATEGORIES:Adoration Page,Confessions,Mass & Confession Page,Parish Notice
ATTACH;FMTTYPE=image/png:https://popfb.org/wp-content/uploads/2025/04/Events-Calendar-Thumbnail-website-65.png
END:VEVENT
BEGIN:VEVENT
DTSTART;TZID=America/New_York:20250424T180000
DTEND;TZID=America/New_York:20250424T184500
DTSTAMP:20260423T012613
CREATED:20250317T185114Z
LAST-MODIFIED:20250317T185114Z
UID:10008030-1745517600-1745520300@popfb.org
SUMMARY:No Confessions
DESCRIPTION:No Confessions at 6pm: 4/15\, 4/24
URL:https://popfb.org/event/no-confessions-16/2025-04-24/
CATEGORIES:Confessions,Mass & Confession Page,Parish Notice
ATTACH;FMTTYPE=image/png:https://popfb.org/wp-content/uploads/2024/02/Confessions.png
END:VEVENT
BEGIN:VEVENT
DTSTART;TZID=America/New_York:20250424T190000
DTEND;TZID=America/New_York:20250424T200000
DTSTAMP:20260423T012613
CREATED:20250317T185702Z
LAST-MODIFIED:20250317T185702Z
UID:10008042-1745521200-1745524800@popfb.org
SUMMARY:Communion Service
DESCRIPTION:Communion Service at 7pm: 4/15\, 4/24
URL:https://popfb.org/event/communion-service-13/2025-04-24/
CATEGORIES:Mass & Confession Page,Parish Notice
ATTACH;FMTTYPE=image/png:https://popfb.org/wp-content/uploads/2024/02/Communion-Service.png
END:VEVENT
BEGIN:VEVENT
DTSTART;TZID=America/New_York:20250428T120000
DTEND;TZID=America/New_York:20250428T130000
DTSTAMP:20260423T012613
CREATED:20250424T184142Z
LAST-MODIFIED:20250424T184142Z
UID:10008145-1745841600-1745845200@popfb.org
SUMMARY:Special Mass for Pope Francis
DESCRIPTION:Fr. Pete Coppola will celebrate a bilingual Mass of Suffrage for Pope Francis at noon on Monday\, April 28\, 2025. All are welcome to join as we continue to pray for the repose of his soul\, for the people God entrusted to his care\, and for his successor. Mass will be livestreamed.
URL:https://popfb.org/event/special-mass-for-pope-francis/
CATEGORIES:Highlighted Events,Mass & Confession Page
END:VEVENT
BEGIN:VEVENT
DTSTART;TZID=America/New_York:20250501T180000
DTEND;TZID=America/New_York:20250501T184500
DTSTAMP:20260423T012613
CREATED:20250501T133606Z
LAST-MODIFIED:20250501T133606Z
UID:10008150-1746122400-1746125100@popfb.org
SUMMARY:No Confessions
DESCRIPTION:No Confessions at 6pm: 5/1
URL:https://popfb.org/event/no-confessions-6/
CATEGORIES:Confessions,Mass & Confession Page,Parish Notice
ATTACH;FMTTYPE=image/png:https://popfb.org/wp-content/uploads/2024/02/Confessions.png
END:VEVENT
BEGIN:VEVENT
DTSTART;TZID=America/New_York:20250501T190000
DTEND;TZID=America/New_York:20250501T200000
DTSTAMP:20260423T012613
CREATED:20250501T134506Z
LAST-MODIFIED:20250501T135008Z
UID:10008155-1746126000-1746129600@popfb.org
SUMMARY:Communion Service
DESCRIPTION:Communion Service at 7pm: 5/1
URL:https://popfb.org/event/communion-service-6/
CATEGORIES:Mass & Confession Page,Parish Notice
ATTACH;FMTTYPE=image/png:https://popfb.org/wp-content/uploads/2024/02/Communion-Service.png
END:VEVENT
BEGIN:VEVENT
DTSTART;TZID=America/New_York:20250502T190000
DTEND;TZID=America/New_York:20250502T200000
DTSTAMP:20260423T012613
CREATED:20250416T152055Z
LAST-MODIFIED:20250416T152055Z
UID:10008136-1746212400-1746216000@popfb.org
SUMMARY:May Crowning & Solemn Vespers
DESCRIPTION:The month of May is dedicated to Our Blessed Mother. Join Fr. Pete for a special May Crowning Event at 7pm on Friday\, May 2 in the Church. \nThe event will include: \n• Glorious Mysteries of the Rosary\n• Solemn Vespers\n• Crowning Our Lady \nPlease note: Encounter will resume next month\, June 6\, 2025
URL:https://popfb.org/event/may-crowning-solemn-vespers/
CATEGORIES:Adoration Page,Highlighted Events,Mass & Confession Page
ATTACH;FMTTYPE=image/png:https://popfb.org/wp-content/uploads/2025/04/Events-Calendar-Thumbnail-website-70.png
END:VEVENT
BEGIN:VEVENT
DTSTART;VALUE=DATE:20250526
DTEND;VALUE=DATE:20250527
DTSTAMP:20260423T012613
CREATED:20250514T140103Z
LAST-MODIFIED:20250514T140331Z
UID:10008179-1748217600-1748303999@popfb.org
SUMMARY:Memorial Day
DESCRIPTION:Monday\, May 26 \n• The Parish office will be closed on Monday\, May 26 in observance of Memorial Day.\n• Mass will be celebrated at 9am\n• There will be NO Exposition of the Blessed Sacrament (or overnight Adoration). The chapel will be open for private prayer from 9am-9pm\n• The Blessed Sacrament will be exposed again after the 9am Mass on Tuesday\, May 27.\n• There are no other scheduled events at the parish on Memorial Day
URL:https://popfb.org/event/memorial-day/
CATEGORIES:Adoration Page,Highlighted Events,Mass & Confession Page,Parish Notice
ATTACH;FMTTYPE=image/png:https://popfb.org/wp-content/uploads/2024/05/Memorial-Day.png
END:VEVENT
BEGIN:VEVENT
DTSTART;TZID=America/New_York:20250606T090000
DTEND;TZID=America/New_York:20250606T200000
DTSTAMP:20260423T012613
CREATED:20250512T150234Z
LAST-MODIFIED:20250512T150234Z
UID:10008163-1749200400-1749240000@popfb.org
SUMMARY:Encounter
DESCRIPTION:In our busy lives\, it’s easy to lose sight of the One who gives us true peace and purpose. That’s why we set aside time for Encounter\, a day dedicated to prayer\, adoration\, and personal connection with Jesus Christ in the Eucharist. \nEucharistic Adoration is a powerful way to spend quiet time with the Lord\, to rest in His presence\, and to allow Him to speak to our hearts. Whether you can come for a few minutes or stay for an hour\, your time before the Blessed Sacrament is an offering of love and trust. \nThis Friday\, we invite you to make space in your day to be with Jesus. Come whenever your schedule allows: \n9am: Our day of prayer begins with Mass in English. \n9:30am-7pm: After Mass\, Father will expose the Blessed Sacrament on the main altar of the Church for silent prayer. Adoration will continue in the Church until 7pm. Everyone is welcome—parishioners\, friends\, visitors\, ministries\, and small groups are all encouraged to come\, spend time with Jesus\, and adore Him in the Blessed Sacrament. \n7pm: We will begin a special period of praise & worship\, prayer & reflection\, culminating with Benediction.
URL:https://popfb.org/event/encounter-6/
CATEGORIES:Adoration Page,Highlighted Events,Mass & Confession Page
ATTACH;FMTTYPE=image/png:https://popfb.org/wp-content/uploads/2024/02/Encounter.png
END:VEVENT
BEGIN:VEVENT
DTSTART;TZID=America/New_York:20250607T090000
DTEND;TZID=America/New_York:20250607T100000
DTSTAMP:20260423T012613
CREATED:20250529T140013Z
LAST-MODIFIED:20250529T140013Z
UID:10008223-1749286800-1749290400@popfb.org
SUMMARY:No Mass nor Communion Service
DESCRIPTION:No Mass nor Communion Service on: 6/7 and 6/28 at 9am\, and 6/26 at 7pm. \nPlease note: All Masses will celebrate the liturgy of the day\, and everyone is invited to attend. \n• First Eucharists: The Sacrament of First Eucharist will be celebrated on Saturday\, June 7\, at 10am and 1pm. Please note that there will be no 9am Mass and no Confessions on this day.\n• Confirmations: The Sacrament of Confirmation will be celebrated by Bishop Konzen on Saturday\, June 28\, at 10am and 1pm There will be no 9am Mass and no Confessions on this day as well \n 
URL:https://popfb.org/event/no-mass-nor-communion-service/2025-06-07/
CATEGORIES:Mass & Confession Page,Parish Notice
ATTACH;FMTTYPE=image/png:https://popfb.org/wp-content/uploads/2024/02/Events-Calendar-Thumbnail-website-12.png
END:VEVENT
BEGIN:VEVENT
DTSTART;TZID=America/New_York:20250607T093000
DTEND;TZID=America/New_York:20250607T103000
DTSTAMP:20260423T012613
CREATED:20250529T141012Z
LAST-MODIFIED:20250529T141012Z
UID:10008239-1749288600-1749292200@popfb.org
SUMMARY:No Confessions
DESCRIPTION:No Confessions on: 6/7\, 6/26\, 6/28
URL:https://popfb.org/event/no-confessions-7/2025-06-07/
CATEGORIES:Confessions,Mass & Confession Page,Parish Notice
ATTACH;FMTTYPE=image/png:https://popfb.org/wp-content/uploads/2024/02/Confessions.png
END:VEVENT
BEGIN:VEVENT
DTSTART;TZID=America/New_York:20250607T100000
DTEND;TZID=America/New_York:20250607T110000
DTSTAMP:20260423T012613
CREATED:20250529T134525Z
LAST-MODIFIED:20250529T140432Z
UID:10008194-1749290400-1749294000@popfb.org
SUMMARY:Sacramental Masses
DESCRIPTION:All Masses will celebrate the liturgy of the day\, and everyone is invited to attend. \nFirst Eucharists: The Sacrament of First Eucharist will be celebrated on Saturday\, June 7\, at 10am and 1pm. Please note that there will be no 9am Mass and no Confessions on this day. \nConfirmations: The Sacrament of Confirmation will be celebrated by Bishop Konzen on Saturday\, June 28\, at 10am and 1pm There will be no 9am Mass and no Confessions on this day as well
URL:https://popfb.org/event/sacramental-masses/2025-06-07/1/
CATEGORIES:Children Sacramental Preparation,Confessions,Highlighted Events,Mass & Confession Page
END:VEVENT
BEGIN:VEVENT
DTSTART;TZID=America/New_York:20250607T130000
DTEND;TZID=America/New_York:20250607T140000
DTSTAMP:20260423T012613
CREATED:20250529T134525Z
LAST-MODIFIED:20250529T140432Z
UID:10008195-1749301200-1749304800@popfb.org
SUMMARY:Sacramental Masses
DESCRIPTION:All Masses will celebrate the liturgy of the day\, and everyone is invited to attend. \nFirst Eucharists: The Sacrament of First Eucharist will be celebrated on Saturday\, June 7\, at 10am and 1pm. Please note that there will be no 9am Mass and no Confessions on this day. \nConfirmations: The Sacrament of Confirmation will be celebrated by Bishop Konzen on Saturday\, June 28\, at 10am and 1pm There will be no 9am Mass and no Confessions on this day as well
URL:https://popfb.org/event/sacramental-masses/2025-06-07/2/
CATEGORIES:Children Sacramental Preparation,Confessions,Highlighted Events,Mass & Confession Page
END:VEVENT
BEGIN:VEVENT
DTSTART;TZID=America/New_York:20250622T180000
DTEND;TZID=America/New_York:20250622T190000
DTSTAMP:20260423T012613
CREATED:20250612T175752Z
LAST-MODIFIED:20250620T144058Z
UID:10008259-1750615200-1750618800@popfb.org
SUMMARY:Corpus Christi Procession
DESCRIPTION:On the feast of Corpus Christi\, Catholic communities worldwide come together to celebrate through Eucharistic processions—a powerful public expression of faith that carries the Blessed Sacrament beyond the church walls and into the streets. \nThis year\, Prince of Peace will hold a special Eucharistic Procession following the 5pm Mass on Sunday\, June 22. While in previous years we have kept the procession simple and inside the church\, we are excited to honor the rich tradition of the Church by bringing the Blessed Sacrament outside. The procession will lead to the edge of our property\, near the main entrance. \nThrough this visible act of devotion\, we hope to share with the Flowery Branch community our deep love and reverence for our Eucharistic Lord.
URL:https://popfb.org/event/corpus-christi-procession/
CATEGORIES:Adoration Page,Highlighted Events,Mass & Confession Page
ATTACH;FMTTYPE=image/png:https://popfb.org/wp-content/uploads/2025/06/Events-Calendar-Thumbnail-website-5.png
END:VEVENT
BEGIN:VEVENT
DTSTART;TZID=America/New_York:20250626T180000
DTEND;TZID=America/New_York:20250626T184500
DTSTAMP:20260423T012613
CREATED:20250529T141012Z
LAST-MODIFIED:20250529T141012Z
UID:10008240-1750960800-1750963500@popfb.org
SUMMARY:No Confessions
DESCRIPTION:No Confessions on: 6/7\, 6/26\, 6/28
URL:https://popfb.org/event/no-confessions-7/2025-06-26/
CATEGORIES:Confessions,Mass & Confession Page,Parish Notice
ATTACH;FMTTYPE=image/png:https://popfb.org/wp-content/uploads/2024/02/Confessions.png
END:VEVENT
BEGIN:VEVENT
DTSTART;TZID=America/New_York:20250626T190000
DTEND;TZID=America/New_York:20250626T200000
DTSTAMP:20260423T012613
CREATED:20250529T140013Z
LAST-MODIFIED:20250529T140013Z
UID:10008224-1750964400-1750968000@popfb.org
SUMMARY:No Mass nor Communion Service
DESCRIPTION:No Mass nor Communion Service on: 6/7 and 6/28 at 9am\, and 6/26 at 7pm. \nPlease note: All Masses will celebrate the liturgy of the day\, and everyone is invited to attend. \n• First Eucharists: The Sacrament of First Eucharist will be celebrated on Saturday\, June 7\, at 10am and 1pm. Please note that there will be no 9am Mass and no Confessions on this day.\n• Confirmations: The Sacrament of Confirmation will be celebrated by Bishop Konzen on Saturday\, June 28\, at 10am and 1pm There will be no 9am Mass and no Confessions on this day as well \n 
URL:https://popfb.org/event/no-mass-nor-communion-service/2025-06-26/
CATEGORIES:Mass & Confession Page,Parish Notice
ATTACH;FMTTYPE=image/png:https://popfb.org/wp-content/uploads/2024/02/Events-Calendar-Thumbnail-website-12.png
END:VEVENT
BEGIN:VEVENT
DTSTART;TZID=America/New_York:20250628T090000
DTEND;TZID=America/New_York:20250628T100000
DTSTAMP:20260423T012613
CREATED:20250529T140013Z
LAST-MODIFIED:20250529T140013Z
UID:10008225-1751101200-1751104800@popfb.org
SUMMARY:No Mass nor Communion Service
DESCRIPTION:No Mass nor Communion Service on: 6/7 and 6/28 at 9am\, and 6/26 at 7pm. \nPlease note: All Masses will celebrate the liturgy of the day\, and everyone is invited to attend. \n• First Eucharists: The Sacrament of First Eucharist will be celebrated on Saturday\, June 7\, at 10am and 1pm. Please note that there will be no 9am Mass and no Confessions on this day.\n• Confirmations: The Sacrament of Confirmation will be celebrated by Bishop Konzen on Saturday\, June 28\, at 10am and 1pm There will be no 9am Mass and no Confessions on this day as well \n 
URL:https://popfb.org/event/no-mass-nor-communion-service/2025-06-28/
CATEGORIES:Mass & Confession Page,Parish Notice
ATTACH;FMTTYPE=image/png:https://popfb.org/wp-content/uploads/2024/02/Events-Calendar-Thumbnail-website-12.png
END:VEVENT
BEGIN:VEVENT
DTSTART;TZID=America/New_York:20250628T093000
DTEND;TZID=America/New_York:20250628T103000
DTSTAMP:20260423T012613
CREATED:20250529T141012Z
LAST-MODIFIED:20250529T141012Z
UID:10008241-1751103000-1751106600@popfb.org
SUMMARY:No Confessions
DESCRIPTION:No Confessions on: 6/7\, 6/26\, 6/28
URL:https://popfb.org/event/no-confessions-7/2025-06-28/
CATEGORIES:Confessions,Mass & Confession Page,Parish Notice
ATTACH;FMTTYPE=image/png:https://popfb.org/wp-content/uploads/2024/02/Confessions.png
END:VEVENT
BEGIN:VEVENT
DTSTART;TZID=America/New_York:20250628T100000
DTEND;TZID=America/New_York:20250628T110000
DTSTAMP:20260423T012613
CREATED:20250529T134525Z
LAST-MODIFIED:20250529T140432Z
UID:10008196-1751104800-1751108400@popfb.org
SUMMARY:Sacramental Masses
DESCRIPTION:All Masses will celebrate the liturgy of the day\, and everyone is invited to attend. \nFirst Eucharists: The Sacrament of First Eucharist will be celebrated on Saturday\, June 7\, at 10am and 1pm. Please note that there will be no 9am Mass and no Confessions on this day. \nConfirmations: The Sacrament of Confirmation will be celebrated by Bishop Konzen on Saturday\, June 28\, at 10am and 1pm There will be no 9am Mass and no Confessions on this day as well
URL:https://popfb.org/event/sacramental-masses/2025-06-28/1/
CATEGORIES:Children Sacramental Preparation,Confessions,Highlighted Events,Mass & Confession Page
END:VEVENT
BEGIN:VEVENT
DTSTART;TZID=America/New_York:20250628T130000
DTEND;TZID=America/New_York:20250628T140000
DTSTAMP:20260423T012613
CREATED:20250529T134525Z
LAST-MODIFIED:20250529T140432Z
UID:10008197-1751115600-1751119200@popfb.org
SUMMARY:Sacramental Masses
DESCRIPTION:All Masses will celebrate the liturgy of the day\, and everyone is invited to attend. \nFirst Eucharists: The Sacrament of First Eucharist will be celebrated on Saturday\, June 7\, at 10am and 1pm. Please note that there will be no 9am Mass and no Confessions on this day. \nConfirmations: The Sacrament of Confirmation will be celebrated by Bishop Konzen on Saturday\, June 28\, at 10am and 1pm There will be no 9am Mass and no Confessions on this day as well
URL:https://popfb.org/event/sacramental-masses/2025-06-28/2/
CATEGORIES:Children Sacramental Preparation,Confessions,Highlighted Events,Mass & Confession Page
END:VEVENT
BEGIN:VEVENT
DTSTART;VALUE=DATE:20250704
DTEND;VALUE=DATE:20250705
DTSTAMP:20260423T012613
CREATED:20250613T141115Z
LAST-MODIFIED:20250613T141115Z
UID:10008276-1751587200-1751673599@popfb.org
SUMMARY:4th of July Notices
DESCRIPTION:4th of July Notices \n• The Parish office will be closed\n• Mass will be celebrated at 9am\n• There will be NO Exposition of the Blessed Sacrament\, but the chapel will be open for private prayer from 9am-9pm.\n• There are no other scheduled events at the parish.\n• SVDP Pantry will be closed on July 2 and July 4. The helpline will remain open during the 4th of July week.
URL:https://popfb.org/event/4th-of-july-notices-2/
CATEGORIES:Adoration Page,Highlighted Events,Mass & Confession Page,Parish Notice
ATTACH;FMTTYPE=image/png:https://popfb.org/wp-content/uploads/2025/06/Events-Calendar-Thumbnail-website-7.png
END:VEVENT
BEGIN:VEVENT
DTSTART;TZID=America/New_York:20250711T090000
DTEND;TZID=America/New_York:20250711T200000
DTSTAMP:20260423T012613
CREATED:20250630T164952Z
LAST-MODIFIED:20250630T164952Z
UID:10008301-1752224400-1752264000@popfb.org
SUMMARY:Encounter
DESCRIPTION:In our busy lives\, it’s easy to lose sight of the One who gives us true peace and purpose. That’s why we set aside time for Encounter\, a day dedicated to prayer\, adoration\, and personal connection with Jesus Christ in the Eucharist. \nEucharistic Adoration is a powerful way to spend quiet time with the Lord\, to rest in His presence\, and to allow Him to speak to our hearts. Whether you can come for a few minutes or stay for an hour\, your time before the Blessed Sacrament is an offering of love and trust. \nThis Friday\, we invite you to make space in your day to be with Jesus. Come whenever your schedule allows: \n9am: Our day of prayer begins with Mass in English. \n9:30am-7pm: After Mass\, Father will expose the Blessed Sacrament on the main altar of the Church for silent prayer. Adoration will continue in the Church until 7pm. Everyone is welcome—parishioners\, friends\, visitors\, ministries\, and small groups are all encouraged to come\, spend time with Jesus\, and adore Him in the Blessed Sacrament. \n7pm: We will begin a special period of praise & worship\, prayer & reflection\, culminating with Benediction.
URL:https://popfb.org/event/encounter-7/
CATEGORIES:Adoration Page,Highlighted Events,Mass & Confession Page
ATTACH;FMTTYPE=image/png:https://popfb.org/wp-content/uploads/2024/02/Encounter.png
END:VEVENT
BEGIN:VEVENT
DTSTART;TZID=America/New_York:20250801T090000
DTEND;TZID=America/New_York:20250801T200000
DTSTAMP:20260423T012613
CREATED:20250721T155356Z
LAST-MODIFIED:20250721T155356Z
UID:10008333-1754038800-1754078400@popfb.org
SUMMARY:Encounter
DESCRIPTION:In our busy lives\, it’s easy to lose sight of the One who gives us true peace and purpose. That’s why we set aside time for Encounter\, a day dedicated to prayer\, adoration\, and personal connection with Jesus Christ in the Eucharist. \nEucharistic Adoration is a powerful way to spend quiet time with the Lord\, to rest in His presence\, and to allow Him to speak to our hearts. Whether you can come for a few minutes or stay for an hour\, your time before the Blessed Sacrament is an offering of love and trust. \nThis Friday\, we invite you to make space in your day to be with Jesus. Come whenever your schedule allows: \n9am: Our day of prayer begins with Mass in English. \n9:30am-7pm: After Mass\, Father will expose the Blessed Sacrament on the main altar of the Church for silent prayer. Adoration will continue in the Church until 7pm. Everyone is welcome—parishioners\, friends\, visitors\, ministries\, and small groups are all encouraged to come\, spend time with Jesus\, and adore Him in the Blessed Sacrament. \n7pm: We will begin a special period of praise & worship\, prayer & reflection\, culminating with Benediction.
URL:https://popfb.org/event/encounter-8/
CATEGORIES:Adoration Page,Highlighted Events,Mass & Confession Page
ATTACH;FMTTYPE=image/png:https://popfb.org/wp-content/uploads/2024/02/Encounter.png
END:VEVENT
BEGIN:VEVENT
DTSTART;VALUE=DATE:20250814
DTEND;VALUE=DATE:20250816
DTSTAMP:20260423T012613
CREATED:20250731T182322Z
LAST-MODIFIED:20250731T182322Z
UID:10008355-1755129600-1755302399@popfb.org
SUMMARY:Assumption of the Blessed Virgin Mary
DESCRIPTION:The Solemnity of the Assumption of Mary is an important Catholic Holy Day of Obligation\, celebrating the belief that the Virgin Mary was taken body and soul into heaven at the end of her earthly life. It underscores Mary’s purity\, her role as the Mother of God\, and her close relationship with Jesus Christ. \nMass Times:\n \n• Thursday\, August 14: Vigil Mass at 7pm (esp)\n• Friday\, August 15: 9am\, 12:15pm\, 7pm \nPlease Note: There will not be an Exposition of the Blessed Sacrament. The chapel will remain open for private prayer from 9am to 9pm.
URL:https://popfb.org/event/assumption-of-the-blessed-virgin-mary-2/
CATEGORIES:Highlighted Events,Mass & Confession Page
ATTACH;FMTTYPE=image/png:https://popfb.org/wp-content/uploads/2024/08/Assumption-of-Mary.png
END:VEVENT
BEGIN:VEVENT
DTSTART;TZID=America/New_York:20250821T190000
DTEND;TZID=America/New_York:20250821T200000
DTSTAMP:20260423T012613
CREATED:20250807T172134Z
LAST-MODIFIED:20250826T154712Z
UID:10008447-1755802800-1755806400@popfb.org
SUMMARY:Communion Service
DESCRIPTION:Dates of Communion Service at 7pm: 8/28\, 8/21\, 9/9 & 9/11
URL:https://popfb.org/event/communion-service-7/2025-08-21/
CATEGORIES:Mass & Confession Page,Parish Notice
ATTACH;FMTTYPE=image/png:https://popfb.org/wp-content/uploads/2024/02/Communion-Service.png
END:VEVENT
BEGIN:VEVENT
DTSTART;TZID=America/New_York:20250828T190000
DTEND;TZID=America/New_York:20250828T200000
DTSTAMP:20260423T012613
CREATED:20250807T172134Z
LAST-MODIFIED:20250826T154712Z
UID:10008578-1756407600-1756411200@popfb.org
SUMMARY:Communion Service
DESCRIPTION:Dates of Communion Service at 7pm: 8/28\, 8/21\, 9/9 & 9/11
URL:https://popfb.org/event/communion-service-7/2025-08-28/
CATEGORIES:Mass & Confession Page,Parish Notice
ATTACH;FMTTYPE=image/png:https://popfb.org/wp-content/uploads/2024/02/Communion-Service.png
END:VEVENT
BEGIN:VEVENT
DTSTART;VALUE=DATE:20250901
DTEND;VALUE=DATE:20250902
DTSTAMP:20260423T012613
CREATED:20250827T184247Z
LAST-MODIFIED:20250827T184247Z
UID:10008603-1756684800-1756771199@popfb.org
SUMMARY:Labor Day
DESCRIPTION:The Parish office will be closed on Monday\, September 1 in observance of Labor Day\nMass will be celebrated at 9am\nThere will be NO Exposition of the Blessed Sacrament (or overnight Adoration)\, but the chapel will be open for private prayer and devotions from 9am-9pm\nThe Blessed Sacrament will be exposed again after the 9am Mass on Tuesday\, September 2\nThere are no other scheduled events at the parish on Labor Day
URL:https://popfb.org/event/labor-day-2/
CATEGORIES:Highlighted Events,Mass & Confession Page
END:VEVENT
BEGIN:VEVENT
DTSTART;TZID=America/New_York:20250904T190000
DTEND;TZID=America/New_York:20250904T200000
DTSTAMP:20260423T012613
CREATED:20250807T172134Z
LAST-MODIFIED:20250826T154712Z
UID:10008579-1757012400-1757016000@popfb.org
SUMMARY:Communion Service
DESCRIPTION:Dates of Communion Service at 7pm: 8/28\, 8/21\, 9/9 & 9/11
URL:https://popfb.org/event/communion-service-7/2025-09-04/
CATEGORIES:Mass & Confession Page,Parish Notice
ATTACH;FMTTYPE=image/png:https://popfb.org/wp-content/uploads/2024/02/Communion-Service.png
END:VEVENT
BEGIN:VEVENT
DTSTART;TZID=America/New_York:20250905T090000
DTEND;TZID=America/New_York:20250905T200000
DTSTAMP:20260423T012613
CREATED:20250826T151304Z
LAST-MODIFIED:20250826T151304Z
UID:10008567-1757062800-1757102400@popfb.org
SUMMARY:Encounter
DESCRIPTION:In our busy lives\, it’s easy to lose sight of the One who gives us true peace and purpose. That’s why we set aside time for Encounter\, a day dedicated to prayer\, adoration\, and personal connection with Jesus Christ in the Eucharist. \nEucharistic Adoration is a powerful way to spend quiet time with the Lord\, to rest in His presence\, and to allow Him to speak to our hearts. Whether you can come for a few minutes or stay for an hour\, your time before the Blessed Sacrament is an offering of love and trust. \nThis Friday\, we invite you to make space in your day to be with Jesus. Come whenever your schedule allows: \n9am: Our day of prayer begins with Mass in English. \n9:30am-7pm: After Mass\, Father will expose the Blessed Sacrament on the main altar of the Church for silent prayer. Adoration will continue in the Church until 7pm. Everyone is welcome—parishioners\, friends\, visitors\, ministries\, and small groups are all encouraged to come\, spend time with Jesus\, and adore Him in the Blessed Sacrament. \n7pm: We will begin a special period of praise & worship\, prayer & reflection\, culminating with Benediction.
URL:https://popfb.org/event/encounter-9/
CATEGORIES:Adoration Page,Highlighted Events,Mass & Confession Page
ATTACH;FMTTYPE=image/png:https://popfb.org/wp-content/uploads/2024/02/Encounter.png
END:VEVENT
END:VCALENDAR