BEGIN:VCALENDAR
VERSION:2.0
PRODID:-//Prince of Peace - ECPv6.15.16.1//NONSGML v1.0//EN
CALSCALE:GREGORIAN
METHOD:PUBLISH
X-WR-CALNAME:Prince of Peace
X-ORIGINAL-URL:https://popfb.org
X-WR-CALDESC:Events for Prince of Peace
REFRESH-INTERVAL;VALUE=DURATION:PT1H
X-Robots-Tag:noindex
X-PUBLISHED-TTL:PT1H
BEGIN:VTIMEZONE
TZID:America/New_York
BEGIN:DAYLIGHT
TZOFFSETFROM:-0500
TZOFFSETTO:-0400
TZNAME:EDT
DTSTART:20240310T070000
END:DAYLIGHT
BEGIN:STANDARD
TZOFFSETFROM:-0400
TZOFFSETTO:-0500
TZNAME:EST
DTSTART:20241103T060000
END:STANDARD
BEGIN:DAYLIGHT
TZOFFSETFROM:-0500
TZOFFSETTO:-0400
TZNAME:EDT
DTSTART:20250309T070000
END:DAYLIGHT
BEGIN:STANDARD
TZOFFSETFROM:-0400
TZOFFSETTO:-0500
TZNAME:EST
DTSTART:20251102T060000
END:STANDARD
BEGIN:DAYLIGHT
TZOFFSETFROM:-0500
TZOFFSETTO:-0400
TZNAME:EDT
DTSTART:20260308T070000
END:DAYLIGHT
BEGIN:STANDARD
TZOFFSETFROM:-0400
TZOFFSETTO:-0500
TZNAME:EST
DTSTART:20261101T060000
END:STANDARD
BEGIN:DAYLIGHT
TZOFFSETFROM:-0500
TZOFFSETTO:-0400
TZNAME:EDT
DTSTART:20270314T070000
END:DAYLIGHT
BEGIN:STANDARD
TZOFFSETFROM:-0400
TZOFFSETTO:-0500
TZNAME:EST
DTSTART:20271107T060000
END:STANDARD
END:VTIMEZONE
BEGIN:VEVENT
DTSTART;TZID=America/New_York:20251205T090000
DTEND;TZID=America/New_York:20251205T200000
DTSTAMP:20260422T182629
CREATED:20251023T150236Z
LAST-MODIFIED:20251023T150236Z
UID:10008687-1764925200-1764964800@popfb.org
SUMMARY:Encounter
DESCRIPTION:In our busy lives\, it’s easy to lose sight of the One who gives us true peace and purpose. That’s why we set aside time for Encounter\, a day dedicated to prayer\, adoration\, and personal connection with Jesus Christ in the Eucharist. \nEucharistic Adoration is a powerful way to spend quiet time with the Lord\, to rest in His presence\, and to allow Him to speak to our hearts. Whether you can come for a few minutes or stay for an hour\, your time before the Blessed Sacrament is an offering of love and trust. \nThis Friday\, we invite you to make space in your day to be with Jesus. Come whenever your schedule allows: \n9am: Our day of prayer begins with Mass in English. \n9:30am-7pm: After Mass\, Father will expose the Blessed Sacrament on the main altar of the Church for silent prayer. Adoration will continue in the Church until 7pm. Everyone is welcome—parishioners\, friends\, visitors\, ministries\, and small groups are all encouraged to come\, spend time with Jesus\, and adore Him in the Blessed Sacrament. \n7pm: We will begin a special period of praise & worship\, prayer & reflection\, culminating with Benediction.
URL:https://popfb.org/event/encounter/2025-12-05/
CATEGORIES:Adoration Page,Highlighted Events,Mass & Confession Page
ATTACH;FMTTYPE=image/png:https://popfb.org/wp-content/uploads/2024/02/Encounter.png
END:VEVENT
BEGIN:VEVENT
DTSTART;VALUE=DATE:20251208
DTEND;VALUE=DATE:20251209
DTSTAMP:20260422T182629
CREATED:20251113T190707Z
LAST-MODIFIED:20251113T190707Z
UID:10008847-1765152000-1765238399@popfb.org
SUMMARY:Solemnity of the Immaculate Conception of the Blessed Virgin Mary
DESCRIPTION:Join us as we celebrate the Solemnity of the Immaculate Conception of the Blessed Virgin Mary\, a holy day of obligation. \n• Monday\, December 8\n• Mass Times: 9 am\, 12:15 pm\, 5 pm \, 7 pm (en/es) \nThis solemnity honors Mary\, conceived without original sin\, as a sign of God’s grace and her special role in salvation history. Declared a dogma of the Church in 1854 by Pope Pius IX\, the Immaculate Conception reminds us of God’s power and love in preparing Mary to be the Mother of Christ. \nCome and celebrate this sacred mystery with us!
URL:https://popfb.org/event/solemnity-of-the-immaculate-conception-of-the-blessed-virgin-mary-2/
CATEGORIES:Highlighted Events,Mass & Confession Page
ATTACH;FMTTYPE=image/png:https://popfb.org/wp-content/uploads/2024/11/Events-Calendar-Thumbnail-website-47.png
END:VEVENT
BEGIN:VEVENT
DTSTART;TZID=America/New_York:20251209T180000
DTEND;TZID=America/New_York:20251209T184500
DTSTAMP:20260422T182629
CREATED:20251121T153435Z
LAST-MODIFIED:20251209T165847Z
UID:10008892-1765303200-1765305900@popfb.org
SUMMARY:No Confessions
DESCRIPTION:Date(s) of no Confessions on: 12/9\, 12/16\, 12/18\, 12/25\, 12/27\, 12/30 1/1
URL:https://popfb.org/event/no-confessions-9/2025-12-09/
CATEGORIES:Confessions,Mass & Confession Page,Parish Notice
ATTACH;FMTTYPE=image/png:https://popfb.org/wp-content/uploads/2024/02/Confessions.png
END:VEVENT
BEGIN:VEVENT
DTSTART;TZID=America/New_York:20251209T190000
DTEND;TZID=America/New_York:20251209T200000
DTSTAMP:20260422T182629
CREATED:20251121T153059Z
LAST-MODIFIED:20251201T185156Z
UID:10008871-1765306800-1765310400@popfb.org
SUMMARY:Communion Service
DESCRIPTION:Dates of Communion Services: \n7pm: 12/2\, 12/4\, 12/9\, 12/16 & 12/18
URL:https://popfb.org/event/communion-service-9/2025-12-09/
CATEGORIES:Mass & Confession Page,Parish Notice
ATTACH;FMTTYPE=image/png:https://popfb.org/wp-content/uploads/2024/02/Communion-Service.png
END:VEVENT
BEGIN:VEVENT
DTSTART;TZID=America/New_York:20251211T203000
DTEND;TZID=America/New_York:20251212T203000
DTSTAMP:20260422T182629
CREATED:20251113T192011Z
LAST-MODIFIED:20251113T192522Z
UID:10008848-1765485000-1765571400@popfb.org
SUMMARY:Our Lady of Guadalupe Celebration
DESCRIPTION:We invite you to join us in our celebrations honoring Our Lady of Guadalupe\, beginning on December 3 and culminating on December 12\, the day the Church officially celebrates her as the Empress of the Americas\, a title that highlights her importance not only in Mexico but throughout all of the Americas. \nThis celebration\, one of the most significant for the Catholic community\, commemorates the miraculous appearance of the Virgin Mary to St. Juan Diego at Tepeyac\, Mexico\, in 1531. This miraculous event has been a symbol of hope and love for millions of faithful around the world. \nThroughout these days\, we will celebrate with prayer\, reflection\, and community\, remembering the message of Our Lady of Guadalupe: unity\, faith\, and compassion for others. \nWednesday\, December 3\nThe novena of Our Lady of Guadalupe starts at 7:30pm in the Youth Room \nThursday\, December 11\nJoin us at 8:30pm for the final day of the Novena with worship music\, traditional dances\, and delicious food in the Youth Room. We will conclude the evening at midnight with the classic Mexican Mañanitas. \nFriday\, December 12\nCelebrate Mass at 7pm in Spanish\, honoring Our Lady of Guadalupe\, followed by a procession from the church to the Youth Room. The evening continues with more worship music\, dances\, food\, and fellowship.
URL:https://popfb.org/event/our-lady-of-guadalupe-celebration/
CATEGORIES:Advent and Christmas,Highlighted Events,Mass & Confession Page
ATTACH;FMTTYPE=image/png:https://popfb.org/wp-content/uploads/2024/11/Events-Calendar-Thumbnail-website-45.png
END:VEVENT
BEGIN:VEVENT
DTSTART;TZID=America/New_York:20251216T180000
DTEND;TZID=America/New_York:20251216T184500
DTSTAMP:20260422T182629
CREATED:20251121T153435Z
LAST-MODIFIED:20251209T165847Z
UID:10008894-1765908000-1765910700@popfb.org
SUMMARY:No Confessions
DESCRIPTION:Date(s) of no Confessions on: 12/9\, 12/16\, 12/18\, 12/25\, 12/27\, 12/30 1/1
URL:https://popfb.org/event/no-confessions-9/2025-12-16/
CATEGORIES:Confessions,Mass & Confession Page,Parish Notice
ATTACH;FMTTYPE=image/png:https://popfb.org/wp-content/uploads/2024/02/Confessions.png
END:VEVENT
BEGIN:VEVENT
DTSTART;TZID=America/New_York:20251216T190000
DTEND;TZID=America/New_York:20251216T200000
DTSTAMP:20260422T182629
CREATED:20251121T153059Z
LAST-MODIFIED:20251201T185156Z
UID:10008873-1765911600-1765915200@popfb.org
SUMMARY:Communion Service
DESCRIPTION:Dates of Communion Services: \n7pm: 12/2\, 12/4\, 12/9\, 12/16 & 12/18
URL:https://popfb.org/event/communion-service-9/2025-12-16/
CATEGORIES:Mass & Confession Page,Parish Notice
ATTACH;FMTTYPE=image/png:https://popfb.org/wp-content/uploads/2024/02/Communion-Service.png
END:VEVENT
BEGIN:VEVENT
DTSTART;TZID=America/New_York:20251218T180000
DTEND;TZID=America/New_York:20251218T184500
DTSTAMP:20260422T182629
CREATED:20251121T153435Z
LAST-MODIFIED:20251209T165847Z
UID:10008895-1766080800-1766083500@popfb.org
SUMMARY:No Confessions
DESCRIPTION:Date(s) of no Confessions on: 12/9\, 12/16\, 12/18\, 12/25\, 12/27\, 12/30 1/1
URL:https://popfb.org/event/no-confessions-9/2025-12-18/
CATEGORIES:Confessions,Mass & Confession Page,Parish Notice
ATTACH;FMTTYPE=image/png:https://popfb.org/wp-content/uploads/2024/02/Confessions.png
END:VEVENT
BEGIN:VEVENT
DTSTART;TZID=America/New_York:20251218T190000
DTEND;TZID=America/New_York:20251218T200000
DTSTAMP:20260422T182629
CREATED:20251121T153059Z
LAST-MODIFIED:20251201T185156Z
UID:10008874-1766084400-1766088000@popfb.org
SUMMARY:Communion Service
DESCRIPTION:Dates of Communion Services: \n7pm: 12/2\, 12/4\, 12/9\, 12/16 & 12/18
URL:https://popfb.org/event/communion-service-9/2025-12-18/
CATEGORIES:Mass & Confession Page,Parish Notice
ATTACH;FMTTYPE=image/png:https://popfb.org/wp-content/uploads/2024/02/Communion-Service.png
END:VEVENT
BEGIN:VEVENT
DTSTART;TZID=America/New_York:20251223T190000
DTEND;TZID=America/New_York:20251223T200000
DTSTAMP:20260422T182629
CREATED:20251216T155623Z
LAST-MODIFIED:20251216T155623Z
UID:10008955-1766516400-1766520000@popfb.org
SUMMARY:No Mass nor Communion Service
DESCRIPTION:No Mass or Communion Service will be held on December 23 at 7pm.
URL:https://popfb.org/event/no-mass-nor-communion-service-3/
CATEGORIES:Mass & Confession Page,Parish Notice
ATTACH;FMTTYPE=image/png:https://popfb.org/wp-content/uploads/2024/02/Events-Calendar-Thumbnail-website-12.png
END:VEVENT
BEGIN:VEVENT
DTSTART;VALUE=DATE:20251224
DTEND;VALUE=DATE:20251226
DTSTAMP:20260422T182629
CREATED:20251216T182254Z
LAST-MODIFIED:20251216T182424Z
UID:10009078-1766534400-1766707199@popfb.org
SUMMARY:Christmas Schedule
DESCRIPTION:Christmas Eve\n• 12/24: *3pm\, 5:30pm & 8pm (es) \n* Christmas Nativity Pageant at 2:30pm \nChristmas Day\n• 12/25: Midnight & 10am \nMary\, Mother of God\n• 12/31: 7pm (Vigil)\n• 1/1: 9am\, 12:15pm & 7pm (es) \nNotices\n• 12/22- 01/04: Exposition Supended (The chapel will remain open for silent prayer 9am-9pm)\n• 12/23: No Mass nor Communion Service at 7pm\n• 12/24-01/02: Building closed\, except for liturgical events\n• 12/23\, 12/25 & 1/1: No confessions\n• 01/05: Parish office reopens\n• 12/22 – 1/2: SVDP Intake helpline and pantry will be closed.
URL:https://popfb.org/event/christmas-schedule-2/
CATEGORIES:Highlighted Events,Mass & Confession Page
ATTACH;FMTTYPE=image/png:https://popfb.org/wp-content/uploads/2024/12/98-1.png
END:VEVENT
BEGIN:VEVENT
DTSTART;TZID=America/New_York:20251225T180000
DTEND;TZID=America/New_York:20251225T184500
DTSTAMP:20260422T182629
CREATED:20251121T153435Z
LAST-MODIFIED:20251209T165847Z
UID:10008936-1766685600-1766688300@popfb.org
SUMMARY:No Confessions
DESCRIPTION:Date(s) of no Confessions on: 12/9\, 12/16\, 12/18\, 12/25\, 12/27\, 12/30 1/1
URL:https://popfb.org/event/no-confessions-9/2025-12-25/
CATEGORIES:Confessions,Mass & Confession Page,Parish Notice
ATTACH;FMTTYPE=image/png:https://popfb.org/wp-content/uploads/2024/02/Confessions.png
END:VEVENT
BEGIN:VEVENT
DTSTART;VALUE=DATE:20251231
DTEND;VALUE=DATE:20260102
DTSTAMP:20260422T182629
CREATED:20251227T140654Z
LAST-MODIFIED:20251227T141323Z
UID:10009088-1767139200-1767311999@popfb.org
SUMMARY:Mary\, Mother of God
DESCRIPTION:••• Mass Schedule •••\n• Wednesday\, December 31: 7pm (Vigil)\n• Thursday\, January 1: 9am\, 12:15pm\, 7pm (es) \n••• Notices •••\n• 12/22- 01/04: Exposition Supended (The chapel will remain open for silent prayer 9am-9pm)\n• 12/24-01/02: Building closed\, except for liturgical events\n• 1/1: No confessions\n• 01/05: Parish office reopens\n• 12/22 – 1/2: SVDP Intake helpline and pantry will be closed.
URL:https://popfb.org/event/mary-mother-of-god-2/
CATEGORIES:Highlighted Events,Mass & Confession Page
ATTACH;FMTTYPE=image/png:https://popfb.org/wp-content/uploads/2025/12/Events-Calendar-Thumbnail-website-47.png
END:VEVENT
BEGIN:VEVENT
DTSTART;TZID=America/New_York:20260101T180000
DTEND;TZID=America/New_York:20260101T184500
DTSTAMP:20260422T182629
CREATED:20251121T153435Z
LAST-MODIFIED:20251209T165847Z
UID:10008937-1767290400-1767293100@popfb.org
SUMMARY:No Confessions
DESCRIPTION:Date(s) of no Confessions on: 12/9\, 12/16\, 12/18\, 12/25\, 12/27\, 12/30 1/1
URL:https://popfb.org/event/no-confessions-9/2026-01-01/
CATEGORIES:Confessions,Mass & Confession Page,Parish Notice
ATTACH;FMTTYPE=image/png:https://popfb.org/wp-content/uploads/2024/02/Confessions.png
END:VEVENT
BEGIN:VEVENT
DTSTART;TZID=America/New_York:20260108T180000
DTEND;TZID=America/New_York:20260108T184500
DTSTAMP:20260422T182629
CREATED:20260106T184758Z
LAST-MODIFIED:20260106T184758Z
UID:10009182-1767895200-1767897900@popfb.org
SUMMARY:No Confessions
DESCRIPTION:Date(s) of no Confessions on: 1/8\, 1/13 & 1/20
URL:https://popfb.org/event/no-confessions-3/2026-01-08/
CATEGORIES:Confessions,Mass & Confession Page,Parish Notice
ATTACH;FMTTYPE=image/png:https://popfb.org/wp-content/uploads/2024/02/Confessions.png
END:VEVENT
BEGIN:VEVENT
DTSTART;TZID=America/New_York:20260108T190000
DTEND;TZID=America/New_York:20260108T200000
DTSTAMP:20260422T182629
CREATED:20260106T185031Z
LAST-MODIFIED:20260106T185031Z
UID:10009194-1767898800-1767902400@popfb.org
SUMMARY:Communion Service
DESCRIPTION:Dates of Communion Services: \n7pm: 1/8\, 1/13 & 1/20
URL:https://popfb.org/event/communion-service-4/2026-01-08/
CATEGORIES:Mass & Confession Page,Parish Notice
ATTACH;FMTTYPE=image/png:https://popfb.org/wp-content/uploads/2024/02/Communion-Service.png
END:VEVENT
BEGIN:VEVENT
DTSTART;TZID=America/New_York:20260109T090000
DTEND;TZID=America/New_York:20260109T200000
DTSTAMP:20260422T182629
CREATED:20251216T161431Z
LAST-MODIFIED:20260123T182258Z
UID:10008688-1767949200-1767988800@popfb.org
SUMMARY:Encounter
DESCRIPTION:In our busy lives\, it’s easy to lose sight of the One who gives us true peace and purpose. That’s why we set aside time for Encounter\, a day dedicated to prayer\, adoration\, and personal connection with Jesus Christ in the Eucharist. \nEucharistic Adoration is a powerful way to spend quiet time with the Lord\, to rest in His presence\, and to allow Him to speak to our hearts. Whether you can come for a few minutes or stay for an hour\, your time before the Blessed Sacrament is an offering of love and trust. \nThis Friday\, we invite you to make space in your day to be with Jesus. Come whenever your schedule allows: \n9am: Our day of prayer begins with Mass in English. \n9:30am-7pm: After Mass\, Father will expose the Blessed Sacrament on the main altar of the Church for silent prayer. Adoration will continue in the Church until 7pm. Everyone is welcome—parishioners\, friends\, visitors\, ministries\, and small groups are all encouraged to come\, spend time with Jesus\, and adore Him in the Blessed Sacrament. \n7pm: We will begin a special period of praise & worship\, prayer & reflection\, culminating with Benediction.
URL:https://popfb.org/event/encounter-2/2026-01-09/
CATEGORIES:Adoration Page,Highlighted Events,Mass & Confession Page
ATTACH;FMTTYPE=image/png:https://popfb.org/wp-content/uploads/2024/02/Encounter.png
END:VEVENT
BEGIN:VEVENT
DTSTART;TZID=America/New_York:20260113T180000
DTEND;TZID=America/New_York:20260113T184500
DTSTAMP:20260422T182629
CREATED:20260106T184758Z
LAST-MODIFIED:20260106T184758Z
UID:10009183-1768327200-1768329900@popfb.org
SUMMARY:No Confessions
DESCRIPTION:Date(s) of no Confessions on: 1/8\, 1/13 & 1/20
URL:https://popfb.org/event/no-confessions-3/2026-01-13/
CATEGORIES:Confessions,Mass & Confession Page,Parish Notice
ATTACH;FMTTYPE=image/png:https://popfb.org/wp-content/uploads/2024/02/Confessions.png
END:VEVENT
BEGIN:VEVENT
DTSTART;TZID=America/New_York:20260113T190000
DTEND;TZID=America/New_York:20260113T200000
DTSTAMP:20260422T182629
CREATED:20260106T185031Z
LAST-MODIFIED:20260106T185031Z
UID:10009195-1768330800-1768334400@popfb.org
SUMMARY:Communion Service
DESCRIPTION:Dates of Communion Services: \n7pm: 1/8\, 1/13 & 1/20
URL:https://popfb.org/event/communion-service-4/2026-01-13/
CATEGORIES:Mass & Confession Page,Parish Notice
ATTACH;FMTTYPE=image/png:https://popfb.org/wp-content/uploads/2024/02/Communion-Service.png
END:VEVENT
BEGIN:VEVENT
DTSTART;TZID=America/New_York:20260120T180000
DTEND;TZID=America/New_York:20260120T184500
DTSTAMP:20260422T182629
CREATED:20260106T184758Z
LAST-MODIFIED:20260106T184758Z
UID:10009184-1768932000-1768934700@popfb.org
SUMMARY:No Confessions
DESCRIPTION:Date(s) of no Confessions on: 1/8\, 1/13 & 1/20
URL:https://popfb.org/event/no-confessions-3/2026-01-20/
CATEGORIES:Confessions,Mass & Confession Page,Parish Notice
ATTACH;FMTTYPE=image/png:https://popfb.org/wp-content/uploads/2024/02/Confessions.png
END:VEVENT
BEGIN:VEVENT
DTSTART;TZID=America/New_York:20260120T190000
DTEND;TZID=America/New_York:20260120T200000
DTSTAMP:20260422T182629
CREATED:20260106T185031Z
LAST-MODIFIED:20260106T185031Z
UID:10009196-1768935600-1768939200@popfb.org
SUMMARY:Communion Service
DESCRIPTION:Dates of Communion Services: \n7pm: 1/8\, 1/13 & 1/20
URL:https://popfb.org/event/communion-service-4/2026-01-20/
CATEGORIES:Mass & Confession Page,Parish Notice
ATTACH;FMTTYPE=image/png:https://popfb.org/wp-content/uploads/2024/02/Communion-Service.png
END:VEVENT
BEGIN:VEVENT
DTSTART;TZID=America/New_York:20260202T090000
DTEND;TZID=America/New_York:20260202T093000
DTSTAMP:20260422T182629
CREATED:20260122T124604Z
LAST-MODIFIED:20260122T124604Z
UID:10009509-1770022800-1770024600@popfb.org
SUMMARY:Presentation of the Lord
DESCRIPTION:Candle Mass \nJoin us on Monday\, February 2\, as we celebrate the Candle Mass in honor of the Feast of the Presentation of the Lord. Mass will be celebrated at 9am. \nDuring Mass\, candles will be blessed as a sign of Christ\, the Light of the World\, who guides us in faith and hope. This beautiful tradition invites us to reflect on Simeon’s proclamation and renew our call to carry Christ’s light into our daily lives. \nAll are welcome to attend and participate.
URL:https://popfb.org/event/presentation-of-the-lord/
CATEGORIES:Highlighted Events,Mass & Confession Page
ATTACH;FMTTYPE=image/png:https://popfb.org/wp-content/uploads/2026/01/137.png
END:VEVENT
BEGIN:VEVENT
DTSTART;TZID=America/New_York:20260203T090000
DTEND;TZID=America/New_York:20260203T093000
DTSTAMP:20260422T182629
CREATED:20260122T124401Z
LAST-MODIFIED:20260122T124401Z
UID:10009505-1770109200-1770111000@popfb.org
SUMMARY:Blessing of Throats
DESCRIPTION:All are invited to the traditional Blessing of Throats on Tuesday\, February 3\, at the 9am or 7pm Mass\, in honor of St. Blaise\, a 4th-century bishop and martyr known for his miraculous healing of a boy who was choking on a fishbone. \nThis special blessing is a centuries-old Catholic tradition\, asking for health and protection from illnesses of the throat and body throughout the year. \nAll are welcome to participate.
URL:https://popfb.org/event/blessing-of-throats-2/2026-02-03/1/
CATEGORIES:Highlighted Events,Mass & Confession Page
ATTACH;FMTTYPE=image/png:https://popfb.org/wp-content/uploads/2026/01/138.png
END:VEVENT
BEGIN:VEVENT
DTSTART;TZID=America/New_York:20260203T190000
DTEND;TZID=America/New_York:20260203T193000
DTSTAMP:20260422T182629
CREATED:20260122T124401Z
LAST-MODIFIED:20260122T124401Z
UID:10009506-1770145200-1770147000@popfb.org
SUMMARY:Blessing of Throats
DESCRIPTION:All are invited to the traditional Blessing of Throats on Tuesday\, February 3\, at the 9am or 7pm Mass\, in honor of St. Blaise\, a 4th-century bishop and martyr known for his miraculous healing of a boy who was choking on a fishbone. \nThis special blessing is a centuries-old Catholic tradition\, asking for health and protection from illnesses of the throat and body throughout the year. \nAll are welcome to participate.
URL:https://popfb.org/event/blessing-of-throats-2/2026-02-03/2/
CATEGORIES:Highlighted Events,Mass & Confession Page
ATTACH;FMTTYPE=image/png:https://popfb.org/wp-content/uploads/2026/01/138.png
END:VEVENT
BEGIN:VEVENT
DTSTART;TZID=America/New_York:20260206T090000
DTEND;TZID=America/New_York:20260206T200000
DTSTAMP:20260422T182629
CREATED:20251216T161431Z
LAST-MODIFIED:20260123T182258Z
UID:10009513-1770368400-1770408000@popfb.org
SUMMARY:Encounter
DESCRIPTION:In our busy lives\, it’s easy to lose sight of the One who gives us true peace and purpose. That’s why we set aside time for Encounter\, a day dedicated to prayer\, adoration\, and personal connection with Jesus Christ in the Eucharist. \nEucharistic Adoration is a powerful way to spend quiet time with the Lord\, to rest in His presence\, and to allow Him to speak to our hearts. Whether you can come for a few minutes or stay for an hour\, your time before the Blessed Sacrament is an offering of love and trust. \nThis Friday\, we invite you to make space in your day to be with Jesus. Come whenever your schedule allows: \n9am: Our day of prayer begins with Mass in English. \n9:30am-7pm: After Mass\, Father will expose the Blessed Sacrament on the main altar of the Church for silent prayer. Adoration will continue in the Church until 7pm. Everyone is welcome—parishioners\, friends\, visitors\, ministries\, and small groups are all encouraged to come\, spend time with Jesus\, and adore Him in the Blessed Sacrament. \n7pm: We will begin a special period of praise & worship\, prayer & reflection\, culminating with Benediction.
URL:https://popfb.org/event/encounter-2/2026-02-06/
CATEGORIES:Adoration Page,Highlighted Events,Mass & Confession Page
ATTACH;FMTTYPE=image/png:https://popfb.org/wp-content/uploads/2024/02/Encounter.png
END:VEVENT
BEGIN:VEVENT
DTSTART;VALUE=DATE:20260218
DTEND;VALUE=DATE:20260219
DTSTAMP:20260422T182629
CREATED:20260131T182850Z
LAST-MODIFIED:20260212T155825Z
UID:10009790-1771372800-1771459199@popfb.org
SUMMARY:Ash Wednesday
DESCRIPTION:6:00 AM: Service & Ashes (English)\n9:00 AM: Mass & Ashes (English)\n12:15 PM: Service & Ashes (English)\n3:00 PM: Service & Ashes (English)\n5:00 PM: Service & Ashes (English)\n7:00 PM: Mass & Ashes (English/Spanish)
URL:https://popfb.org/event/ash-wednesday-2/
CATEGORIES:Highlighted Events,Mass & Confession Page
ATTACH;FMTTYPE=image/png:https://popfb.org/wp-content/uploads/2024/02/Events-Calendar-Thumbnail-website-6.png
END:VEVENT
BEGIN:VEVENT
DTSTART;TZID=America/New_York:20260219T180000
DTEND;TZID=America/New_York:20260219T184500
DTSTAMP:20260422T182629
CREATED:20260209T191054Z
LAST-MODIFIED:20260209T191534Z
UID:10009799-1771524000-1771526700@popfb.org
SUMMARY:No Confessions
DESCRIPTION:Due to the number of Penance Services at other parishes that our priests are called to assist with\, regular Tuesday and Thursday evening confessions will be suspended during Lent. Additional confession times will be offered during Lent only (February 19–March 28). \nNo confessions will take place during Holy Week (March 29–April 5) \nFor the most up-to-date information\, visit popfb.org/confession.
URL:https://popfb.org/event/no-confessions-4/2026-02-19/
CATEGORIES:Confessions,Mass & Confession Page,Parish Notice
ATTACH;FMTTYPE=image/png:https://popfb.org/wp-content/uploads/2024/02/Confessions.png
END:VEVENT
BEGIN:VEVENT
DTSTART;TZID=America/New_York:20260223T190000
DTEND;TZID=America/New_York:20260223T203000
DTSTAMP:20260422T182629
CREATED:20260131T183810Z
LAST-MODIFIED:20260131T183810Z
UID:10009792-1771873200-1771878600@popfb.org
SUMMARY:Lenten Penance Service
DESCRIPTION:Come and receive the gift of God’s forgiveness at our Lenten Penance Service on Monday\, February 23. This is a beautiful opportunity to prepare your heart for Easter through the Sacrament of Reconciliation. Multiple priests will be available for confession. Childcare will be provided.
URL:https://popfb.org/event/lenten-penance-service/
CATEGORIES:Confessions,Highlighted Events,Mass & Confession Page
ATTACH;FMTTYPE=image/png:https://popfb.org/wp-content/uploads/2024/02/Confessions.png
END:VEVENT
BEGIN:VEVENT
DTSTART;TZID=America/New_York:20260224T180000
DTEND;TZID=America/New_York:20260224T184500
DTSTAMP:20260422T182629
CREATED:20260209T191501Z
LAST-MODIFIED:20260209T191501Z
UID:10009817-1771956000-1771958700@popfb.org
SUMMARY:No Confessions
DESCRIPTION:Due to the number of Penance Services at other parishes that our priests are called to assist with\, regular Tuesday and Thursday evening confessions will be suspended during Lent. Additional confession times will be offered during Lent only (February 19–March 28). \nNo confessions will take place during Holy Week (March 29–April 5) \nFor the most up-to-date information\, visit popfb.org/confession.
URL:https://popfb.org/event/no-confessions-10/2026-02-24/
CATEGORIES:Confessions,Mass & Confession Page,Parish Notice
ATTACH;FMTTYPE=image/png:https://popfb.org/wp-content/uploads/2024/02/Confessions.png
END:VEVENT
BEGIN:VEVENT
DTSTART;TZID=America/New_York:20260226T180000
DTEND;TZID=America/New_York:20260226T184500
DTSTAMP:20260422T182629
CREATED:20260209T191054Z
LAST-MODIFIED:20260209T191534Z
UID:10009800-1772128800-1772131500@popfb.org
SUMMARY:No Confessions
DESCRIPTION:Due to the number of Penance Services at other parishes that our priests are called to assist with\, regular Tuesday and Thursday evening confessions will be suspended during Lent. Additional confession times will be offered during Lent only (February 19–March 28). \nNo confessions will take place during Holy Week (March 29–April 5) \nFor the most up-to-date information\, visit popfb.org/confession.
URL:https://popfb.org/event/no-confessions-4/2026-02-26/
CATEGORIES:Confessions,Mass & Confession Page,Parish Notice
ATTACH;FMTTYPE=image/png:https://popfb.org/wp-content/uploads/2024/02/Confessions.png
END:VEVENT
END:VCALENDAR