BEGIN:VCALENDAR
VERSION:2.0
PRODID:-//Prince of Peace - ECPv6.15.16.1//NONSGML v1.0//EN
CALSCALE:GREGORIAN
METHOD:PUBLISH
X-WR-CALNAME:Prince of Peace
X-ORIGINAL-URL:https://popfb.org
X-WR-CALDESC:Events for Prince of Peace
REFRESH-INTERVAL;VALUE=DURATION:PT1H
X-Robots-Tag:noindex
X-PUBLISHED-TTL:PT1H
BEGIN:VTIMEZONE
TZID:America/New_York
BEGIN:DAYLIGHT
TZOFFSETFROM:-0500
TZOFFSETTO:-0400
TZNAME:EDT
DTSTART:20250309T070000
END:DAYLIGHT
BEGIN:STANDARD
TZOFFSETFROM:-0400
TZOFFSETTO:-0500
TZNAME:EST
DTSTART:20251102T060000
END:STANDARD
BEGIN:DAYLIGHT
TZOFFSETFROM:-0500
TZOFFSETTO:-0400
TZNAME:EDT
DTSTART:20260308T070000
END:DAYLIGHT
BEGIN:STANDARD
TZOFFSETFROM:-0400
TZOFFSETTO:-0500
TZNAME:EST
DTSTART:20261101T060000
END:STANDARD
BEGIN:DAYLIGHT
TZOFFSETFROM:-0500
TZOFFSETTO:-0400
TZNAME:EDT
DTSTART:20270314T070000
END:DAYLIGHT
BEGIN:STANDARD
TZOFFSETFROM:-0400
TZOFFSETTO:-0500
TZNAME:EST
DTSTART:20271107T060000
END:STANDARD
END:VTIMEZONE
BEGIN:VEVENT
DTSTART;TZID=America/New_York:20260303T180000
DTEND;TZID=America/New_York:20260303T184500
DTSTAMP:20260419T092808
CREATED:20260209T191501Z
LAST-MODIFIED:20260209T191501Z
UID:10009818-1772560800-1772563500@popfb.org
SUMMARY:No Confessions
DESCRIPTION:Due to the number of Penance Services at other parishes that our priests are called to assist with\, regular Tuesday and Thursday evening confessions will be suspended during Lent. Additional confession times will be offered during Lent only (February 19–March 28). \nNo confessions will take place during Holy Week (March 29–April 5) \nFor the most up-to-date information\, visit popfb.org/confession.
URL:https://popfb.org/event/no-confessions-10/2026-03-03/
CATEGORIES:Confessions,Mass & Confession Page,Parish Notice
ATTACH;FMTTYPE=image/png:https://popfb.org/wp-content/uploads/2024/02/Confessions.png
END:VEVENT
BEGIN:VEVENT
DTSTART;TZID=America/New_York:20260305T180000
DTEND;TZID=America/New_York:20260305T184500
DTSTAMP:20260419T092808
CREATED:20260209T191054Z
LAST-MODIFIED:20260209T191534Z
UID:10009801-1772733600-1772736300@popfb.org
SUMMARY:No Confessions
DESCRIPTION:Due to the number of Penance Services at other parishes that our priests are called to assist with\, regular Tuesday and Thursday evening confessions will be suspended during Lent. Additional confession times will be offered during Lent only (February 19–March 28). \nNo confessions will take place during Holy Week (March 29–April 5) \nFor the most up-to-date information\, visit popfb.org/confession.
URL:https://popfb.org/event/no-confessions-4/2026-03-05/
CATEGORIES:Confessions,Mass & Confession Page,Parish Notice
ATTACH;FMTTYPE=image/png:https://popfb.org/wp-content/uploads/2024/02/Confessions.png
END:VEVENT
BEGIN:VEVENT
DTSTART;TZID=America/New_York:20260310T180000
DTEND;TZID=America/New_York:20260310T184500
DTSTAMP:20260419T092808
CREATED:20260209T191501Z
LAST-MODIFIED:20260209T191501Z
UID:10009819-1773165600-1773168300@popfb.org
SUMMARY:No Confessions
DESCRIPTION:Due to the number of Penance Services at other parishes that our priests are called to assist with\, regular Tuesday and Thursday evening confessions will be suspended during Lent. Additional confession times will be offered during Lent only (February 19–March 28). \nNo confessions will take place during Holy Week (March 29–April 5) \nFor the most up-to-date information\, visit popfb.org/confession.
URL:https://popfb.org/event/no-confessions-10/2026-03-10/
CATEGORIES:Confessions,Mass & Confession Page,Parish Notice
ATTACH;FMTTYPE=image/png:https://popfb.org/wp-content/uploads/2024/02/Confessions.png
END:VEVENT
BEGIN:VEVENT
DTSTART;TZID=America/New_York:20260312T180000
DTEND;TZID=America/New_York:20260312T184500
DTSTAMP:20260419T092808
CREATED:20260209T191054Z
LAST-MODIFIED:20260209T191534Z
UID:10009802-1773338400-1773341100@popfb.org
SUMMARY:No Confessions
DESCRIPTION:Due to the number of Penance Services at other parishes that our priests are called to assist with\, regular Tuesday and Thursday evening confessions will be suspended during Lent. Additional confession times will be offered during Lent only (February 19–March 28). \nNo confessions will take place during Holy Week (March 29–April 5) \nFor the most up-to-date information\, visit popfb.org/confession.
URL:https://popfb.org/event/no-confessions-4/2026-03-12/
CATEGORIES:Confessions,Mass & Confession Page,Parish Notice
ATTACH;FMTTYPE=image/png:https://popfb.org/wp-content/uploads/2024/02/Confessions.png
END:VEVENT
BEGIN:VEVENT
DTSTART;TZID=America/New_York:20260317T180000
DTEND;TZID=America/New_York:20260317T184500
DTSTAMP:20260419T092808
CREATED:20260209T191501Z
LAST-MODIFIED:20260209T191501Z
UID:10009820-1773770400-1773773100@popfb.org
SUMMARY:No Confessions
DESCRIPTION:Due to the number of Penance Services at other parishes that our priests are called to assist with\, regular Tuesday and Thursday evening confessions will be suspended during Lent. Additional confession times will be offered during Lent only (February 19–March 28). \nNo confessions will take place during Holy Week (March 29–April 5) \nFor the most up-to-date information\, visit popfb.org/confession.
URL:https://popfb.org/event/no-confessions-10/2026-03-17/
CATEGORIES:Confessions,Mass & Confession Page,Parish Notice
ATTACH;FMTTYPE=image/png:https://popfb.org/wp-content/uploads/2024/02/Confessions.png
END:VEVENT
BEGIN:VEVENT
DTSTART;TZID=America/New_York:20260319T180000
DTEND;TZID=America/New_York:20260319T184500
DTSTAMP:20260419T092808
CREATED:20260209T191054Z
LAST-MODIFIED:20260209T191534Z
UID:10009803-1773943200-1773945900@popfb.org
SUMMARY:No Confessions
DESCRIPTION:Due to the number of Penance Services at other parishes that our priests are called to assist with\, regular Tuesday and Thursday evening confessions will be suspended during Lent. Additional confession times will be offered during Lent only (February 19–March 28). \nNo confessions will take place during Holy Week (March 29–April 5) \nFor the most up-to-date information\, visit popfb.org/confession.
URL:https://popfb.org/event/no-confessions-4/2026-03-19/
CATEGORIES:Confessions,Mass & Confession Page,Parish Notice
ATTACH;FMTTYPE=image/png:https://popfb.org/wp-content/uploads/2024/02/Confessions.png
END:VEVENT
BEGIN:VEVENT
DTSTART;TZID=America/New_York:20260319T190000
DTEND;TZID=America/New_York:20260319T200000
DTSTAMP:20260419T092808
CREATED:20260316T124310Z
LAST-MODIFIED:20260316T124310Z
UID:10009857-1773946800-1773950400@popfb.org
SUMMARY:Communion Service
DESCRIPTION:Dates of Communion Services: \n7pm: 3/19 & 3/31
URL:https://popfb.org/event/communion-service-5/2026-03-19/
CATEGORIES:Mass & Confession Page,Parish Notice
ATTACH;FMTTYPE=image/png:https://popfb.org/wp-content/uploads/2024/02/Communion-Service.png
END:VEVENT
BEGIN:VEVENT
DTSTART;TZID=America/New_York:20260324T180000
DTEND;TZID=America/New_York:20260324T184500
DTSTAMP:20260419T092808
CREATED:20260209T191501Z
LAST-MODIFIED:20260209T191501Z
UID:10009821-1774375200-1774377900@popfb.org
SUMMARY:No Confessions
DESCRIPTION:Due to the number of Penance Services at other parishes that our priests are called to assist with\, regular Tuesday and Thursday evening confessions will be suspended during Lent. Additional confession times will be offered during Lent only (February 19–March 28). \nNo confessions will take place during Holy Week (March 29–April 5) \nFor the most up-to-date information\, visit popfb.org/confession.
URL:https://popfb.org/event/no-confessions-10/2026-03-24/
CATEGORIES:Confessions,Mass & Confession Page,Parish Notice
ATTACH;FMTTYPE=image/png:https://popfb.org/wp-content/uploads/2024/02/Confessions.png
END:VEVENT
BEGIN:VEVENT
DTSTART;TZID=America/New_York:20260326T180000
DTEND;TZID=America/New_York:20260326T184500
DTSTAMP:20260419T092808
CREATED:20260209T191054Z
LAST-MODIFIED:20260209T191534Z
UID:10009804-1774548000-1774550700@popfb.org
SUMMARY:No Confessions
DESCRIPTION:Due to the number of Penance Services at other parishes that our priests are called to assist with\, regular Tuesday and Thursday evening confessions will be suspended during Lent. Additional confession times will be offered during Lent only (February 19–March 28). \nNo confessions will take place during Holy Week (March 29–April 5) \nFor the most up-to-date information\, visit popfb.org/confession.
URL:https://popfb.org/event/no-confessions-4/2026-03-26/
CATEGORIES:Confessions,Mass & Confession Page,Parish Notice
ATTACH;FMTTYPE=image/png:https://popfb.org/wp-content/uploads/2024/02/Confessions.png
END:VEVENT
BEGIN:VEVENT
DTSTART;VALUE=DATE:20260329
DTEND;VALUE=DATE:20260406
DTSTAMP:20260419T092808
CREATED:20260316T184653Z
LAST-MODIFIED:20260316T185207Z
UID:10009870-1774742400-1775433599@popfb.org
SUMMARY:Holy Week & Easter Schedule
DESCRIPTION:4/2 | HOLY THURSDAY \n• 7pm (en/es)\nMass of the Lord’s Supper (The Altar of Repose will remain in the Youth Room until midnight) \n4/3 | GOOD FRIDAY \n• 12pm (en) & 2pm (es)\nStations of the Cross \n• 3pm (en/es)\nDivine Mercy Chaplet \n• 7pm (en/es)\nThe Liturgy of the Lord’s Passion \n4/4 | HOLY SATURDAY \n• 11am (en/es)\nBlessing of Easter Food (In the Youth Room) \n• 8:30pm (en/es)\nEaster Vigil \n4/5 | EASTER \n• 6am\, 7:30am\, 9:30am\, 12pm\, 2:30pm (es) \nPARISH NOTICES! \n– 3/30–4/3: No confessions during Holy Week\n– 3/30–4/3: SVDP: helpline and pantry closed\n– 3/31: Communion Service at 7pm\n– 4/1–4/7: Exposition of the Blessed Sacrament suspended from April 1 at noon until April 7\, after the 9am Mass\n9am–9pm: Chapel open for silent prayer\n– 4/2–3 & 4/6: Parish office will be closed
URL:https://popfb.org/event/holy-week-easter-schedule/2026-03-29/
CATEGORIES:Adoration Page,Highlighted Events,Mass & Confession Page
END:VEVENT
BEGIN:VEVENT
DTSTART;VALUE=DATE:20260331
DTEND;VALUE=DATE:20260401
DTSTAMP:20260419T092808
CREATED:20260330T152041Z
LAST-MODIFIED:20260330T152041Z
UID:10009875-1774915200-1775001599@popfb.org
SUMMARY:No Confessions during Holy Week
DESCRIPTION:
URL:https://popfb.org/event/no-confessions-during-holy-week/2026-03-31/
CATEGORIES:Confessions,Mass & Confession Page,Parish Notice
ATTACH;FMTTYPE=image/png:https://popfb.org/wp-content/uploads/2024/02/Confessions.png
END:VEVENT
BEGIN:VEVENT
DTSTART;TZID=America/New_York:20260331T180000
DTEND;TZID=America/New_York:20260331T184500
DTSTAMP:20260419T092808
CREATED:20260209T191501Z
LAST-MODIFIED:20260209T191501Z
UID:10009822-1774980000-1774982700@popfb.org
SUMMARY:No Confessions
DESCRIPTION:Due to the number of Penance Services at other parishes that our priests are called to assist with\, regular Tuesday and Thursday evening confessions will be suspended during Lent. Additional confession times will be offered during Lent only (February 19–March 28). \nNo confessions will take place during Holy Week (March 29–April 5) \nFor the most up-to-date information\, visit popfb.org/confession.
URL:https://popfb.org/event/no-confessions-10/2026-03-31/
CATEGORIES:Confessions,Mass & Confession Page,Parish Notice
ATTACH;FMTTYPE=image/png:https://popfb.org/wp-content/uploads/2024/02/Confessions.png
END:VEVENT
BEGIN:VEVENT
DTSTART;TZID=America/New_York:20260331T190000
DTEND;TZID=America/New_York:20260331T200000
DTSTAMP:20260419T092808
CREATED:20260316T124310Z
LAST-MODIFIED:20260316T124310Z
UID:10009858-1774983600-1774987200@popfb.org
SUMMARY:Communion Service
DESCRIPTION:Dates of Communion Services: \n7pm: 3/19 & 3/31
URL:https://popfb.org/event/communion-service-5/2026-03-31/
CATEGORIES:Mass & Confession Page,Parish Notice
ATTACH;FMTTYPE=image/png:https://popfb.org/wp-content/uploads/2024/02/Communion-Service.png
END:VEVENT
END:VCALENDAR