BEGIN:VCALENDAR
VERSION:2.0
PRODID:-//Prince of Peace - ECPv6.15.16.1//NONSGML v1.0//EN
CALSCALE:GREGORIAN
METHOD:PUBLISH
X-ORIGINAL-URL:https://popfb.org
X-WR-CALDESC:Events for Prince of Peace
REFRESH-INTERVAL;VALUE=DURATION:PT1H
X-Robots-Tag:noindex
X-PUBLISHED-TTL:PT1H
BEGIN:VTIMEZONE
TZID:America/New_York
BEGIN:DAYLIGHT
TZOFFSETFROM:-0500
TZOFFSETTO:-0400
TZNAME:EDT
DTSTART:20240310T070000
END:DAYLIGHT
BEGIN:STANDARD
TZOFFSETFROM:-0400
TZOFFSETTO:-0500
TZNAME:EST
DTSTART:20241103T060000
END:STANDARD
BEGIN:DAYLIGHT
TZOFFSETFROM:-0500
TZOFFSETTO:-0400
TZNAME:EDT
DTSTART:20250309T070000
END:DAYLIGHT
BEGIN:STANDARD
TZOFFSETFROM:-0400
TZOFFSETTO:-0500
TZNAME:EST
DTSTART:20251102T060000
END:STANDARD
BEGIN:DAYLIGHT
TZOFFSETFROM:-0500
TZOFFSETTO:-0400
TZNAME:EDT
DTSTART:20260308T070000
END:DAYLIGHT
BEGIN:STANDARD
TZOFFSETFROM:-0400
TZOFFSETTO:-0500
TZNAME:EST
DTSTART:20261101T060000
END:STANDARD
END:VTIMEZONE
BEGIN:VEVENT
DTSTART;TZID=America/New_York:20250310T190000
DTEND;TZID=America/New_York:20250310T203000
DTSTAMP:20260422T005515
CREATED:20250212T155305Z
LAST-MODIFIED:20250212T155459Z
UID:10007715-1741633200-1741638600@popfb.org
SUMMARY:Lenten Penance Service 2025
DESCRIPTION:Come and receive the gift of God’s forgiveness at our Lenten Penance Service on Monday\, March 10. This is a beautiful opportunity to prepare your heart for Easter through the Sacrament of Reconciliation. Multiple priests will be available for confession. Childcare will be provided. \nListed below are other penance services around our area: \n3/6 – Mary Our Queen (Peachtree Corners) – 7pm\n3/10 – Prince of Peace (Flowery Branch) – 7pm\n3/11 – Corpus Christi (Stone Mountain) – 7pm\n3/12 – St. Michael (Gainesville) – 7pm\n3/13 – St. Stephen the Martyr (Lilburn) – 7pm\n3/18 – St. Oliver Plunkett (Snellville) – 7pm\n3/24 – St. Lawrence (Lawrenceville) – 7pm\n3/26 – Holy Vietnamese Martyrs (Norcross) – 7pm\n3/31 – St. John Neumann (Lilburn) – 7pm\n4/1 – St. Monica (Duluth) – 7pm\n4/2 – Christ Our Hope (Lithonia) – 7pm\n4/3 – Our Lady of the Americas (Lilburn) – 7pm\n4/7 – St. Patrick (Norcross) – 7pm\n4/8 – Holy Cross (Atlanta) – 7pm
URL:https://popfb.org/event/advent-penance-service-2025/
CATEGORIES:Confessions,Highlighted Events,Mass & Confession Page
ATTACH;FMTTYPE=image/png:https://popfb.org/wp-content/uploads/2024/02/Confessions.png
END:VEVENT
BEGIN:VEVENT
DTSTART;TZID=America/New_York:20250311T180000
DTEND;TZID=America/New_York:20250311T184500
DTSTAMP:20260422T005515
CREATED:20250304T181812Z
LAST-MODIFIED:20250304T181812Z
UID:10007917-1741716000-1741718700@popfb.org
SUMMARY:No Confessions
DESCRIPTION:No Confessions at 6pm: 3/6\, 3/11\, 3/13\, 3/18\, 3/27\, 4/1\, 4/3\, 4/8
URL:https://popfb.org/event/no-confessions-15/2025-03-11/
CATEGORIES:Confessions,Mass & Confession Page,Parish Notice
ATTACH;FMTTYPE=image/png:https://popfb.org/wp-content/uploads/2024/02/Confessions.png
END:VEVENT
BEGIN:VEVENT
DTSTART;TZID=America/New_York:20250311T190000
DTEND;TZID=America/New_York:20250311T200000
DTSTAMP:20260422T005515
CREATED:20250304T180813Z
LAST-MODIFIED:20250304T180813Z
UID:10007901-1741719600-1741723200@popfb.org
SUMMARY:Communion Service
DESCRIPTION:Communion Service at 7pm: 3/6\, 3/11\, 3/13\, 3/18\, 3/27\, 4/1\, 4/3\, 4/8
URL:https://popfb.org/event/communion-service-12/2025-03-11/
CATEGORIES:Mass & Confession Page,Parish Notice
ATTACH;FMTTYPE=image/png:https://popfb.org/wp-content/uploads/2024/02/Communion-Service.png
END:VEVENT
BEGIN:VEVENT
DTSTART;TZID=America/New_York:20250313T180000
DTEND;TZID=America/New_York:20250313T184500
DTSTAMP:20260422T005515
CREATED:20250304T181812Z
LAST-MODIFIED:20250304T181812Z
UID:10007918-1741888800-1741891500@popfb.org
SUMMARY:No Confessions
DESCRIPTION:No Confessions at 6pm: 3/6\, 3/11\, 3/13\, 3/18\, 3/27\, 4/1\, 4/3\, 4/8
URL:https://popfb.org/event/no-confessions-15/2025-03-13/
CATEGORIES:Confessions,Mass & Confession Page,Parish Notice
ATTACH;FMTTYPE=image/png:https://popfb.org/wp-content/uploads/2024/02/Confessions.png
END:VEVENT
BEGIN:VEVENT
DTSTART;TZID=America/New_York:20250313T190000
DTEND;TZID=America/New_York:20250313T200000
DTSTAMP:20260422T005515
CREATED:20250304T180813Z
LAST-MODIFIED:20250304T180813Z
UID:10007902-1741892400-1741896000@popfb.org
SUMMARY:Communion Service
DESCRIPTION:Communion Service at 7pm: 3/6\, 3/11\, 3/13\, 3/18\, 3/27\, 4/1\, 4/3\, 4/8
URL:https://popfb.org/event/communion-service-12/2025-03-13/
CATEGORIES:Mass & Confession Page,Parish Notice
ATTACH;FMTTYPE=image/png:https://popfb.org/wp-content/uploads/2024/02/Communion-Service.png
END:VEVENT
BEGIN:VEVENT
DTSTART;TZID=America/New_York:20250318T180000
DTEND;TZID=America/New_York:20250318T184500
DTSTAMP:20260422T005515
CREATED:20250304T181812Z
LAST-MODIFIED:20250304T181812Z
UID:10007919-1742320800-1742323500@popfb.org
SUMMARY:No Confessions
DESCRIPTION:No Confessions at 6pm: 3/6\, 3/11\, 3/13\, 3/18\, 3/27\, 4/1\, 4/3\, 4/8
URL:https://popfb.org/event/no-confessions-15/2025-03-18/
CATEGORIES:Confessions,Mass & Confession Page,Parish Notice
ATTACH;FMTTYPE=image/png:https://popfb.org/wp-content/uploads/2024/02/Confessions.png
END:VEVENT
BEGIN:VEVENT
DTSTART;TZID=America/New_York:20250318T190000
DTEND;TZID=America/New_York:20250318T200000
DTSTAMP:20260422T005515
CREATED:20250304T180813Z
LAST-MODIFIED:20250304T180813Z
UID:10007903-1742324400-1742328000@popfb.org
SUMMARY:Communion Service
DESCRIPTION:Communion Service at 7pm: 3/6\, 3/11\, 3/13\, 3/18\, 3/27\, 4/1\, 4/3\, 4/8
URL:https://popfb.org/event/communion-service-12/2025-03-18/
CATEGORIES:Mass & Confession Page,Parish Notice
ATTACH;FMTTYPE=image/png:https://popfb.org/wp-content/uploads/2024/02/Communion-Service.png
END:VEVENT
BEGIN:VEVENT
DTSTART;TZID=America/New_York:20250318T190000
DTEND;TZID=America/New_York:20250318T200000
DTSTAMP:20260422T005515
CREATED:20250317T182914Z
LAST-MODIFIED:20250317T184509Z
UID:10007955-1742324400-1742328000@popfb.org
SUMMARY:Local Penance Services List
DESCRIPTION:Come and receive the gift of God’s forgiveness through a Lenten Penance Service. This is a beautiful opportunity to prepare your heart for Easter through the Sacrament of Reconciliation. Multiple priests will be available for confession. \nListed below are some penance services around our area:\n \n3/18 – St. Oliver Plunkett (Snellville) – 7pm\n3/24 – St. Lawrence (Lawrenceville) – 7pm\n3/26 – Holy Vietnamese Martyrs (Norcross) – 7pm\n3/31 – St. John Neumann (Lilburn) – 7pm\n4/1 – St. Monica (Duluth) – 7pm\n4/2 – Christ Our Hope (Lithonia) – 7pm\n4/3 – Our Lady of the Americas (Lilburn) – 7pm\n4/7 – St. Patrick (Norcross) – 7pm\n4/8 – Holy Cross (Atlanta) – 7pm
URL:https://popfb.org/event/local-penance-services/2025-03-18/
CATEGORIES:Confessions,Highlighted Events,Mass & Confession Page
ATTACH;FMTTYPE=image/png:https://popfb.org/wp-content/uploads/2024/02/Confessions.png
END:VEVENT
BEGIN:VEVENT
DTSTART;TZID=America/New_York:20250319T190000
DTEND;TZID=America/New_York:20250319T200000
DTSTAMP:20260422T005515
CREATED:20250317T182914Z
LAST-MODIFIED:20250317T184509Z
UID:10007956-1742410800-1742414400@popfb.org
SUMMARY:Local Penance Services List
DESCRIPTION:Come and receive the gift of God’s forgiveness through a Lenten Penance Service. This is a beautiful opportunity to prepare your heart for Easter through the Sacrament of Reconciliation. Multiple priests will be available for confession. \nListed below are some penance services around our area:\n \n3/18 – St. Oliver Plunkett (Snellville) – 7pm\n3/24 – St. Lawrence (Lawrenceville) – 7pm\n3/26 – Holy Vietnamese Martyrs (Norcross) – 7pm\n3/31 – St. John Neumann (Lilburn) – 7pm\n4/1 – St. Monica (Duluth) – 7pm\n4/2 – Christ Our Hope (Lithonia) – 7pm\n4/3 – Our Lady of the Americas (Lilburn) – 7pm\n4/7 – St. Patrick (Norcross) – 7pm\n4/8 – Holy Cross (Atlanta) – 7pm
URL:https://popfb.org/event/local-penance-services/2025-03-19/
CATEGORIES:Confessions,Highlighted Events,Mass & Confession Page
ATTACH;FMTTYPE=image/png:https://popfb.org/wp-content/uploads/2024/02/Confessions.png
END:VEVENT
BEGIN:VEVENT
DTSTART;TZID=America/New_York:20250320T190000
DTEND;TZID=America/New_York:20250320T200000
DTSTAMP:20260422T005515
CREATED:20250317T182914Z
LAST-MODIFIED:20250317T184509Z
UID:10007957-1742497200-1742500800@popfb.org
SUMMARY:Local Penance Services List
DESCRIPTION:Come and receive the gift of God’s forgiveness through a Lenten Penance Service. This is a beautiful opportunity to prepare your heart for Easter through the Sacrament of Reconciliation. Multiple priests will be available for confession. \nListed below are some penance services around our area:\n \n3/18 – St. Oliver Plunkett (Snellville) – 7pm\n3/24 – St. Lawrence (Lawrenceville) – 7pm\n3/26 – Holy Vietnamese Martyrs (Norcross) – 7pm\n3/31 – St. John Neumann (Lilburn) – 7pm\n4/1 – St. Monica (Duluth) – 7pm\n4/2 – Christ Our Hope (Lithonia) – 7pm\n4/3 – Our Lady of the Americas (Lilburn) – 7pm\n4/7 – St. Patrick (Norcross) – 7pm\n4/8 – Holy Cross (Atlanta) – 7pm
URL:https://popfb.org/event/local-penance-services/2025-03-20/
CATEGORIES:Confessions,Highlighted Events,Mass & Confession Page
ATTACH;FMTTYPE=image/png:https://popfb.org/wp-content/uploads/2024/02/Confessions.png
END:VEVENT
BEGIN:VEVENT
DTSTART;TZID=America/New_York:20250321T190000
DTEND;TZID=America/New_York:20250321T200000
DTSTAMP:20260422T005515
CREATED:20250317T182914Z
LAST-MODIFIED:20250317T184509Z
UID:10007958-1742583600-1742587200@popfb.org
SUMMARY:Local Penance Services List
DESCRIPTION:Come and receive the gift of God’s forgiveness through a Lenten Penance Service. This is a beautiful opportunity to prepare your heart for Easter through the Sacrament of Reconciliation. Multiple priests will be available for confession. \nListed below are some penance services around our area:\n \n3/18 – St. Oliver Plunkett (Snellville) – 7pm\n3/24 – St. Lawrence (Lawrenceville) – 7pm\n3/26 – Holy Vietnamese Martyrs (Norcross) – 7pm\n3/31 – St. John Neumann (Lilburn) – 7pm\n4/1 – St. Monica (Duluth) – 7pm\n4/2 – Christ Our Hope (Lithonia) – 7pm\n4/3 – Our Lady of the Americas (Lilburn) – 7pm\n4/7 – St. Patrick (Norcross) – 7pm\n4/8 – Holy Cross (Atlanta) – 7pm
URL:https://popfb.org/event/local-penance-services/2025-03-21/
CATEGORIES:Confessions,Highlighted Events,Mass & Confession Page
ATTACH;FMTTYPE=image/png:https://popfb.org/wp-content/uploads/2024/02/Confessions.png
END:VEVENT
BEGIN:VEVENT
DTSTART;TZID=America/New_York:20250322T190000
DTEND;TZID=America/New_York:20250322T200000
DTSTAMP:20260422T005515
CREATED:20250317T182914Z
LAST-MODIFIED:20250317T184509Z
UID:10007959-1742670000-1742673600@popfb.org
SUMMARY:Local Penance Services List
DESCRIPTION:Come and receive the gift of God’s forgiveness through a Lenten Penance Service. This is a beautiful opportunity to prepare your heart for Easter through the Sacrament of Reconciliation. Multiple priests will be available for confession. \nListed below are some penance services around our area:\n \n3/18 – St. Oliver Plunkett (Snellville) – 7pm\n3/24 – St. Lawrence (Lawrenceville) – 7pm\n3/26 – Holy Vietnamese Martyrs (Norcross) – 7pm\n3/31 – St. John Neumann (Lilburn) – 7pm\n4/1 – St. Monica (Duluth) – 7pm\n4/2 – Christ Our Hope (Lithonia) – 7pm\n4/3 – Our Lady of the Americas (Lilburn) – 7pm\n4/7 – St. Patrick (Norcross) – 7pm\n4/8 – Holy Cross (Atlanta) – 7pm
URL:https://popfb.org/event/local-penance-services/2025-03-22/
CATEGORIES:Confessions,Highlighted Events,Mass & Confession Page
ATTACH;FMTTYPE=image/png:https://popfb.org/wp-content/uploads/2024/02/Confessions.png
END:VEVENT
BEGIN:VEVENT
DTSTART;TZID=America/New_York:20250323T190000
DTEND;TZID=America/New_York:20250323T200000
DTSTAMP:20260422T005515
CREATED:20250317T182914Z
LAST-MODIFIED:20250317T184509Z
UID:10007960-1742756400-1742760000@popfb.org
SUMMARY:Local Penance Services List
DESCRIPTION:Come and receive the gift of God’s forgiveness through a Lenten Penance Service. This is a beautiful opportunity to prepare your heart for Easter through the Sacrament of Reconciliation. Multiple priests will be available for confession. \nListed below are some penance services around our area:\n \n3/18 – St. Oliver Plunkett (Snellville) – 7pm\n3/24 – St. Lawrence (Lawrenceville) – 7pm\n3/26 – Holy Vietnamese Martyrs (Norcross) – 7pm\n3/31 – St. John Neumann (Lilburn) – 7pm\n4/1 – St. Monica (Duluth) – 7pm\n4/2 – Christ Our Hope (Lithonia) – 7pm\n4/3 – Our Lady of the Americas (Lilburn) – 7pm\n4/7 – St. Patrick (Norcross) – 7pm\n4/8 – Holy Cross (Atlanta) – 7pm
URL:https://popfb.org/event/local-penance-services/2025-03-23/
CATEGORIES:Confessions,Highlighted Events,Mass & Confession Page
ATTACH;FMTTYPE=image/png:https://popfb.org/wp-content/uploads/2024/02/Confessions.png
END:VEVENT
BEGIN:VEVENT
DTSTART;TZID=America/New_York:20250324T190000
DTEND;TZID=America/New_York:20250324T200000
DTSTAMP:20260422T005515
CREATED:20250317T182914Z
LAST-MODIFIED:20250317T184509Z
UID:10007961-1742842800-1742846400@popfb.org
SUMMARY:Local Penance Services List
DESCRIPTION:Come and receive the gift of God’s forgiveness through a Lenten Penance Service. This is a beautiful opportunity to prepare your heart for Easter through the Sacrament of Reconciliation. Multiple priests will be available for confession. \nListed below are some penance services around our area:\n \n3/18 – St. Oliver Plunkett (Snellville) – 7pm\n3/24 – St. Lawrence (Lawrenceville) – 7pm\n3/26 – Holy Vietnamese Martyrs (Norcross) – 7pm\n3/31 – St. John Neumann (Lilburn) – 7pm\n4/1 – St. Monica (Duluth) – 7pm\n4/2 – Christ Our Hope (Lithonia) – 7pm\n4/3 – Our Lady of the Americas (Lilburn) – 7pm\n4/7 – St. Patrick (Norcross) – 7pm\n4/8 – Holy Cross (Atlanta) – 7pm
URL:https://popfb.org/event/local-penance-services/2025-03-24/
CATEGORIES:Confessions,Highlighted Events,Mass & Confession Page
ATTACH;FMTTYPE=image/png:https://popfb.org/wp-content/uploads/2024/02/Confessions.png
END:VEVENT
BEGIN:VEVENT
DTSTART;TZID=America/New_York:20250325T190000
DTEND;TZID=America/New_York:20250325T200000
DTSTAMP:20260422T005515
CREATED:20250317T182914Z
LAST-MODIFIED:20250317T184509Z
UID:10007962-1742929200-1742932800@popfb.org
SUMMARY:Local Penance Services List
DESCRIPTION:Come and receive the gift of God’s forgiveness through a Lenten Penance Service. This is a beautiful opportunity to prepare your heart for Easter through the Sacrament of Reconciliation. Multiple priests will be available for confession. \nListed below are some penance services around our area:\n \n3/18 – St. Oliver Plunkett (Snellville) – 7pm\n3/24 – St. Lawrence (Lawrenceville) – 7pm\n3/26 – Holy Vietnamese Martyrs (Norcross) – 7pm\n3/31 – St. John Neumann (Lilburn) – 7pm\n4/1 – St. Monica (Duluth) – 7pm\n4/2 – Christ Our Hope (Lithonia) – 7pm\n4/3 – Our Lady of the Americas (Lilburn) – 7pm\n4/7 – St. Patrick (Norcross) – 7pm\n4/8 – Holy Cross (Atlanta) – 7pm
URL:https://popfb.org/event/local-penance-services/2025-03-25/
CATEGORIES:Confessions,Highlighted Events,Mass & Confession Page
ATTACH;FMTTYPE=image/png:https://popfb.org/wp-content/uploads/2024/02/Confessions.png
END:VEVENT
BEGIN:VEVENT
DTSTART;TZID=America/New_York:20250326T190000
DTEND;TZID=America/New_York:20250326T200000
DTSTAMP:20260422T005515
CREATED:20250317T182914Z
LAST-MODIFIED:20250317T184509Z
UID:10007963-1743015600-1743019200@popfb.org
SUMMARY:Local Penance Services List
DESCRIPTION:Come and receive the gift of God’s forgiveness through a Lenten Penance Service. This is a beautiful opportunity to prepare your heart for Easter through the Sacrament of Reconciliation. Multiple priests will be available for confession. \nListed below are some penance services around our area:\n \n3/18 – St. Oliver Plunkett (Snellville) – 7pm\n3/24 – St. Lawrence (Lawrenceville) – 7pm\n3/26 – Holy Vietnamese Martyrs (Norcross) – 7pm\n3/31 – St. John Neumann (Lilburn) – 7pm\n4/1 – St. Monica (Duluth) – 7pm\n4/2 – Christ Our Hope (Lithonia) – 7pm\n4/3 – Our Lady of the Americas (Lilburn) – 7pm\n4/7 – St. Patrick (Norcross) – 7pm\n4/8 – Holy Cross (Atlanta) – 7pm
URL:https://popfb.org/event/local-penance-services/2025-03-26/
CATEGORIES:Confessions,Highlighted Events,Mass & Confession Page
ATTACH;FMTTYPE=image/png:https://popfb.org/wp-content/uploads/2024/02/Confessions.png
END:VEVENT
BEGIN:VEVENT
DTSTART;TZID=America/New_York:20250327T180000
DTEND;TZID=America/New_York:20250327T184500
DTSTAMP:20260422T005515
CREATED:20250304T181812Z
LAST-MODIFIED:20250304T181812Z
UID:10007920-1743098400-1743101100@popfb.org
SUMMARY:No Confessions
DESCRIPTION:No Confessions at 6pm: 3/6\, 3/11\, 3/13\, 3/18\, 3/27\, 4/1\, 4/3\, 4/8
URL:https://popfb.org/event/no-confessions-15/2025-03-27/
CATEGORIES:Confessions,Mass & Confession Page,Parish Notice
ATTACH;FMTTYPE=image/png:https://popfb.org/wp-content/uploads/2024/02/Confessions.png
END:VEVENT
BEGIN:VEVENT
DTSTART;TZID=America/New_York:20250327T190000
DTEND;TZID=America/New_York:20250327T200000
DTSTAMP:20260422T005515
CREATED:20250304T180813Z
LAST-MODIFIED:20250304T180813Z
UID:10007904-1743102000-1743105600@popfb.org
SUMMARY:Communion Service
DESCRIPTION:Communion Service at 7pm: 3/6\, 3/11\, 3/13\, 3/18\, 3/27\, 4/1\, 4/3\, 4/8
URL:https://popfb.org/event/communion-service-12/2025-03-27/
CATEGORIES:Mass & Confession Page,Parish Notice
ATTACH;FMTTYPE=image/png:https://popfb.org/wp-content/uploads/2024/02/Communion-Service.png
END:VEVENT
BEGIN:VEVENT
DTSTART;TZID=America/New_York:20250327T190000
DTEND;TZID=America/New_York:20250327T200000
DTSTAMP:20260422T005515
CREATED:20250317T182914Z
LAST-MODIFIED:20250317T184509Z
UID:10007964-1743102000-1743105600@popfb.org
SUMMARY:Local Penance Services List
DESCRIPTION:Come and receive the gift of God’s forgiveness through a Lenten Penance Service. This is a beautiful opportunity to prepare your heart for Easter through the Sacrament of Reconciliation. Multiple priests will be available for confession. \nListed below are some penance services around our area:\n \n3/18 – St. Oliver Plunkett (Snellville) – 7pm\n3/24 – St. Lawrence (Lawrenceville) – 7pm\n3/26 – Holy Vietnamese Martyrs (Norcross) – 7pm\n3/31 – St. John Neumann (Lilburn) – 7pm\n4/1 – St. Monica (Duluth) – 7pm\n4/2 – Christ Our Hope (Lithonia) – 7pm\n4/3 – Our Lady of the Americas (Lilburn) – 7pm\n4/7 – St. Patrick (Norcross) – 7pm\n4/8 – Holy Cross (Atlanta) – 7pm
URL:https://popfb.org/event/local-penance-services/2025-03-27/
CATEGORIES:Confessions,Highlighted Events,Mass & Confession Page
ATTACH;FMTTYPE=image/png:https://popfb.org/wp-content/uploads/2024/02/Confessions.png
END:VEVENT
BEGIN:VEVENT
DTSTART;TZID=America/New_York:20250328T190000
DTEND;TZID=America/New_York:20250328T200000
DTSTAMP:20260422T005515
CREATED:20250317T182914Z
LAST-MODIFIED:20250317T184509Z
UID:10007965-1743188400-1743192000@popfb.org
SUMMARY:Local Penance Services List
DESCRIPTION:Come and receive the gift of God’s forgiveness through a Lenten Penance Service. This is a beautiful opportunity to prepare your heart for Easter through the Sacrament of Reconciliation. Multiple priests will be available for confession. \nListed below are some penance services around our area:\n \n3/18 – St. Oliver Plunkett (Snellville) – 7pm\n3/24 – St. Lawrence (Lawrenceville) – 7pm\n3/26 – Holy Vietnamese Martyrs (Norcross) – 7pm\n3/31 – St. John Neumann (Lilburn) – 7pm\n4/1 – St. Monica (Duluth) – 7pm\n4/2 – Christ Our Hope (Lithonia) – 7pm\n4/3 – Our Lady of the Americas (Lilburn) – 7pm\n4/7 – St. Patrick (Norcross) – 7pm\n4/8 – Holy Cross (Atlanta) – 7pm
URL:https://popfb.org/event/local-penance-services/2025-03-28/
CATEGORIES:Confessions,Highlighted Events,Mass & Confession Page
ATTACH;FMTTYPE=image/png:https://popfb.org/wp-content/uploads/2024/02/Confessions.png
END:VEVENT
BEGIN:VEVENT
DTSTART;TZID=America/New_York:20250329T190000
DTEND;TZID=America/New_York:20250329T200000
DTSTAMP:20260422T005515
CREATED:20250317T182914Z
LAST-MODIFIED:20250317T184509Z
UID:10007966-1743274800-1743278400@popfb.org
SUMMARY:Local Penance Services List
DESCRIPTION:Come and receive the gift of God’s forgiveness through a Lenten Penance Service. This is a beautiful opportunity to prepare your heart for Easter through the Sacrament of Reconciliation. Multiple priests will be available for confession. \nListed below are some penance services around our area:\n \n3/18 – St. Oliver Plunkett (Snellville) – 7pm\n3/24 – St. Lawrence (Lawrenceville) – 7pm\n3/26 – Holy Vietnamese Martyrs (Norcross) – 7pm\n3/31 – St. John Neumann (Lilburn) – 7pm\n4/1 – St. Monica (Duluth) – 7pm\n4/2 – Christ Our Hope (Lithonia) – 7pm\n4/3 – Our Lady of the Americas (Lilburn) – 7pm\n4/7 – St. Patrick (Norcross) – 7pm\n4/8 – Holy Cross (Atlanta) – 7pm
URL:https://popfb.org/event/local-penance-services/2025-03-29/
CATEGORIES:Confessions,Highlighted Events,Mass & Confession Page
ATTACH;FMTTYPE=image/png:https://popfb.org/wp-content/uploads/2024/02/Confessions.png
END:VEVENT
BEGIN:VEVENT
DTSTART;TZID=America/New_York:20250330T190000
DTEND;TZID=America/New_York:20250330T200000
DTSTAMP:20260422T005515
CREATED:20250317T182914Z
LAST-MODIFIED:20250317T184509Z
UID:10007967-1743361200-1743364800@popfb.org
SUMMARY:Local Penance Services List
DESCRIPTION:Come and receive the gift of God’s forgiveness through a Lenten Penance Service. This is a beautiful opportunity to prepare your heart for Easter through the Sacrament of Reconciliation. Multiple priests will be available for confession. \nListed below are some penance services around our area:\n \n3/18 – St. Oliver Plunkett (Snellville) – 7pm\n3/24 – St. Lawrence (Lawrenceville) – 7pm\n3/26 – Holy Vietnamese Martyrs (Norcross) – 7pm\n3/31 – St. John Neumann (Lilburn) – 7pm\n4/1 – St. Monica (Duluth) – 7pm\n4/2 – Christ Our Hope (Lithonia) – 7pm\n4/3 – Our Lady of the Americas (Lilburn) – 7pm\n4/7 – St. Patrick (Norcross) – 7pm\n4/8 – Holy Cross (Atlanta) – 7pm
URL:https://popfb.org/event/local-penance-services/2025-03-30/
CATEGORIES:Confessions,Highlighted Events,Mass & Confession Page
ATTACH;FMTTYPE=image/png:https://popfb.org/wp-content/uploads/2024/02/Confessions.png
END:VEVENT
BEGIN:VEVENT
DTSTART;TZID=America/New_York:20250331T190000
DTEND;TZID=America/New_York:20250331T200000
DTSTAMP:20260422T005515
CREATED:20250317T182914Z
LAST-MODIFIED:20250317T184509Z
UID:10007968-1743447600-1743451200@popfb.org
SUMMARY:Local Penance Services List
DESCRIPTION:Come and receive the gift of God’s forgiveness through a Lenten Penance Service. This is a beautiful opportunity to prepare your heart for Easter through the Sacrament of Reconciliation. Multiple priests will be available for confession. \nListed below are some penance services around our area:\n \n3/18 – St. Oliver Plunkett (Snellville) – 7pm\n3/24 – St. Lawrence (Lawrenceville) – 7pm\n3/26 – Holy Vietnamese Martyrs (Norcross) – 7pm\n3/31 – St. John Neumann (Lilburn) – 7pm\n4/1 – St. Monica (Duluth) – 7pm\n4/2 – Christ Our Hope (Lithonia) – 7pm\n4/3 – Our Lady of the Americas (Lilburn) – 7pm\n4/7 – St. Patrick (Norcross) – 7pm\n4/8 – Holy Cross (Atlanta) – 7pm
URL:https://popfb.org/event/local-penance-services/2025-03-31/
CATEGORIES:Confessions,Highlighted Events,Mass & Confession Page
ATTACH;FMTTYPE=image/png:https://popfb.org/wp-content/uploads/2024/02/Confessions.png
END:VEVENT
END:VCALENDAR