BEGIN:VCALENDAR
VERSION:2.0
PRODID:-//Prince of Peace - ECPv6.15.16.1//NONSGML v1.0//EN
CALSCALE:GREGORIAN
METHOD:PUBLISH
X-ORIGINAL-URL:https://popfb.org
X-WR-CALDESC:Events for Prince of Peace
REFRESH-INTERVAL;VALUE=DURATION:PT1H
X-Robots-Tag:noindex
X-PUBLISHED-TTL:PT1H
BEGIN:VTIMEZONE
TZID:America/New_York
BEGIN:DAYLIGHT
TZOFFSETFROM:-0500
TZOFFSETTO:-0400
TZNAME:EDT
DTSTART:20240310T070000
END:DAYLIGHT
BEGIN:STANDARD
TZOFFSETFROM:-0400
TZOFFSETTO:-0500
TZNAME:EST
DTSTART:20241103T060000
END:STANDARD
BEGIN:DAYLIGHT
TZOFFSETFROM:-0500
TZOFFSETTO:-0400
TZNAME:EDT
DTSTART:20250309T070000
END:DAYLIGHT
BEGIN:STANDARD
TZOFFSETFROM:-0400
TZOFFSETTO:-0500
TZNAME:EST
DTSTART:20251102T060000
END:STANDARD
BEGIN:DAYLIGHT
TZOFFSETFROM:-0500
TZOFFSETTO:-0400
TZNAME:EDT
DTSTART:20260308T070000
END:DAYLIGHT
BEGIN:STANDARD
TZOFFSETFROM:-0400
TZOFFSETTO:-0500
TZNAME:EST
DTSTART:20261101T060000
END:STANDARD
BEGIN:DAYLIGHT
TZOFFSETFROM:-0500
TZOFFSETTO:-0400
TZNAME:EDT
DTSTART:20270314T070000
END:DAYLIGHT
BEGIN:STANDARD
TZOFFSETFROM:-0400
TZOFFSETTO:-0500
TZNAME:EST
DTSTART:20271107T060000
END:STANDARD
END:VTIMEZONE
BEGIN:VEVENT
DTSTART;VALUE=DATE:20251231
DTEND;VALUE=DATE:20260102
DTSTAMP:20260420T063942
CREATED:20251227T140654Z
LAST-MODIFIED:20251227T141323Z
UID:10009088-1767139200-1767311999@popfb.org
SUMMARY:Mary\, Mother of God
DESCRIPTION:••• Mass Schedule •••\n• Wednesday\, December 31: 7pm (Vigil)\n• Thursday\, January 1: 9am\, 12:15pm\, 7pm (es) \n••• Notices •••\n• 12/22- 01/04: Exposition Supended (The chapel will remain open for silent prayer 9am-9pm)\n• 12/24-01/02: Building closed\, except for liturgical events\n• 1/1: No confessions\n• 01/05: Parish office reopens\n• 12/22 – 1/2: SVDP Intake helpline and pantry will be closed.
URL:https://popfb.org/event/mary-mother-of-god-2/
LOCATION:GA
CATEGORIES:Highlighted Events,Mass & Confession Page
ATTACH;FMTTYPE=image/png:https://popfb.org/wp-content/uploads/2025/12/Events-Calendar-Thumbnail-website-47.png
END:VEVENT
BEGIN:VEVENT
DTSTART;TZID=America/New_York:20260105T110000
DTEND;TZID=America/New_York:20260105T120000
DTSTAMP:20260420T063942
CREATED:20251230T015325Z
LAST-MODIFIED:20251230T015325Z
UID:10009170-1767610800-1767614400@popfb.org
SUMMARY:Funeral: Louis H. Zoeckler
DESCRIPTION:Please pray for the repose of the soul of Louis H. Zoeckler\, who passed away on December 21\, 2025. Father Pete will celebrate a Mass of Resurrection on Monday\, January 5\, 2026 at 11am.
URL:https://popfb.org/event/funeral-louis-h-zoeckler/
LOCATION:Prince of Peace\, 6439 Spout Springs Rd.\, Flowery Branch\, GA\, 30542\, United States
CATEGORIES:Highlighted Events,POP Funerals
END:VEVENT
BEGIN:VEVENT
DTSTART;TZID=America/New_York:20260109T090000
DTEND;TZID=America/New_York:20260109T200000
DTSTAMP:20260420T063942
CREATED:20251216T161431Z
LAST-MODIFIED:20260123T182258Z
UID:10008688-1767949200-1767988800@popfb.org
SUMMARY:Encounter
DESCRIPTION:In our busy lives\, it’s easy to lose sight of the One who gives us true peace and purpose. That’s why we set aside time for Encounter\, a day dedicated to prayer\, adoration\, and personal connection with Jesus Christ in the Eucharist. \nEucharistic Adoration is a powerful way to spend quiet time with the Lord\, to rest in His presence\, and to allow Him to speak to our hearts. Whether you can come for a few minutes or stay for an hour\, your time before the Blessed Sacrament is an offering of love and trust. \nThis Friday\, we invite you to make space in your day to be with Jesus. Come whenever your schedule allows: \n9am: Our day of prayer begins with Mass in English. \n9:30am-7pm: After Mass\, Father will expose the Blessed Sacrament on the main altar of the Church for silent prayer. Adoration will continue in the Church until 7pm. Everyone is welcome—parishioners\, friends\, visitors\, ministries\, and small groups are all encouraged to come\, spend time with Jesus\, and adore Him in the Blessed Sacrament. \n7pm: We will begin a special period of praise & worship\, prayer & reflection\, culminating with Benediction.
URL:https://popfb.org/event/encounter-2/2026-01-09/
LOCATION:GA
CATEGORIES:Adoration Page,Highlighted Events,Mass & Confession Page
ATTACH;FMTTYPE=image/png:https://popfb.org/wp-content/uploads/2024/02/Encounter.png
END:VEVENT
BEGIN:VEVENT
DTSTART;TZID=America/New_York:20260109T093000
DTEND;TZID=America/New_York:20260109T110000
DTSTAMP:20260420T063942
CREATED:20251227T143927Z
LAST-MODIFIED:20251227T143927Z
UID:10009116-1767951000-1767956400@popfb.org
SUMMARY:Prayer Shawl Ministry!
DESCRIPTION:• Friday\, January 9\, 2026\n• 9:30 AM\n• Room 3 \nWrap someone in comfort\, hope\, and prayer! \nJoin us for a morning of fellowship\, creativity\, and blessing as we knit and crochet prayer shawls for those in need of encouragement and healing. Whether you’re an experienced crafter or just learning\, your hands and heart can make a difference. \nBring your hooks\, needles\, and favorite yarn\, and enjoy the warmth of community as we craft prayers into every stitch. We’d love to see you there! \nQuestions? Contact: Alice Cordell at aecord48@gmail.com
URL:https://popfb.org/event/prayer-shawl-ministry/
LOCATION:GA
CATEGORIES:Highlighted Events
ATTACH;FMTTYPE=image/png:https://popfb.org/wp-content/uploads/2025/12/Events-Calendar-Thumbnail-website-51.png
END:VEVENT
BEGIN:VEVENT
DTSTART;TZID=America/New_York:20260110T093000
DTEND;TZID=America/New_York:20260110T113000
DTSTAMP:20260420T063942
CREATED:20251227T142017Z
LAST-MODIFIED:20251227T150308Z
UID:10009090-1768037400-1768044600@popfb.org
SUMMARY:GriefShare:  Loss of a Spouse
DESCRIPTION:Join us on Saturday\, January 10\, from 9:30am to 11:30am in Room 9 for Navigating the Pain of Grief by GriefShare. This program offers relatable stories\, guidance from grief professionals\, practical exercises\, and strengthening Bible verses. \nIt is designed to help individuals cope with the unique challenges and emotions that arise after the death of a spouse. \nGrieving spouses will learn:\n• What to expect in the days ahead\n• How to deal with emotions\, such as loneliness and anxiety\n• How to adjust to the changes and new responsibilities\n• How to make decisions about your spouse’s belongings\n• Ways to preserve memories\n• How God can comfort and guide you \nFor more information\, please contact Marietta H. at mariettaznewlife@gmail.com.
URL:https://popfb.org/event/griefshareloss-of-a-spouse/
LOCATION:GA
CATEGORIES:Highlighted Events
ATTACH;FMTTYPE=image/png:https://popfb.org/wp-content/uploads/2025/12/Events-Calendar-Thumbnail-website-48.png
END:VEVENT
BEGIN:VEVENT
DTSTART;TZID=America/New_York:20260117T093000
DTEND;TZID=America/New_York:20260117T110000
DTSTAMP:20260420T063942
CREATED:20250821T174722Z
LAST-MODIFIED:20260305T183010Z
UID:10008560-1768642200-1768647600@popfb.org
SUMMARY:Family Adoration
DESCRIPTION:Teaching your children to adore Jesus in the Eucharist is a gift they will never forget. Join us for our monthly Family Adoration of the Blessed Sacrament in the Blessed Sacrament Chapel. Wiggly and giggly kids of all ages and their parents are invited to come and spend time with Jesus! \nAll are welcome to come for as little or as long as you can\, but we ask\, if you are able to make the commitment\, to please sign up at the link below so we know that at least one family will be present to be a guardian for the Blessed Sacrament at all times.
URL:https://popfb.org/event/family-adoration-2/2026-01-17/
LOCATION:GA
CATEGORIES:Adoration Page,Children Faith Formation,Family Adoration,Highlighted Events
ATTACH;FMTTYPE=image/png:https://popfb.org/wp-content/uploads/2025/04/Events-Calendar-Thumbnail-website-67.png
END:VEVENT
BEGIN:VEVENT
DTSTART;TZID=America/New_York:20260121T180000
DTEND;TZID=America/New_York:20260121T200000
DTSTAMP:20260420T063942
CREATED:20251227T145013Z
LAST-MODIFIED:20251227T145013Z
UID:10009120-1769018400-1769025600@popfb.org
SUMMARY:Columbiettes Come and See/Initiation
DESCRIPTION:• Wednesday\, January 21\n• 6pm\n• Youth Room \nAre you interested in joining a national network of Catholic women who share your values\, grow in faith\, and serve the community? Together\, we build friendships\, support one another\, and live our faith through prayer\, fellowship\, and service. Our projects benefit our parish\, community\, and the Knights of Columbus. \nContact: columbiettes@popfb.org
URL:https://popfb.org/event/columbiettes-come-and-see-initiation-2/
LOCATION:GA
CATEGORIES:Highlighted Events
ATTACH;FMTTYPE=image/png:https://popfb.org/wp-content/uploads/2025/09/Events-Calendar-Thumbnail-website-19.png
END:VEVENT
BEGIN:VEVENT
DTSTART;TZID=America/New_York:20260122T190000
DTEND;TZID=America/New_York:20260122T203000
DTSTAMP:20260420T063942
CREATED:20251227T142700Z
LAST-MODIFIED:20260305T182237Z
UID:10009092-1769108400-1769113800@popfb.org
SUMMARY:Encountering Jesus in the Gospel of John
DESCRIPTION:• January 22 – March 26\n• Thursdays at 7:00pm\n• In Spanish \nEncountering Jesus in the Gospel of John invites you into a deeper relationship with Christ. Discover Jesus as the Good Shepherd who seeks us\, calls us by name\, and invites us to trust him\, follow him\, and grow in faith and lasting joy. \nContact: carmela@popfb.org
URL:https://popfb.org/event/encountering-jesus-in-the-gospel-of-john/2026-01-22/
LOCATION:GA
CATEGORIES:Adult Faith Formation,Highlighted Events
ATTACH;FMTTYPE=image/png:https://popfb.org/wp-content/uploads/2025/12/Events-Calendar-Thumbnail-website-65.png
END:VEVENT
BEGIN:VEVENT
DTSTART;TZID=America/New_York:20260123T130000
DTEND;TZID=America/New_York:20260123T140000
DTSTAMP:20260420T063942
CREATED:20260120T175051Z
LAST-MODIFIED:20260120T175051Z
UID:10009470-1769173200-1769176800@popfb.org
SUMMARY:Funeral: Vernon Joseph Benson Jr.
DESCRIPTION:Please pray for the repose of the soul of Vernon Joseph Benson Jr.\, who passed away on January 13\, 2026. Father Ignacio will celebrate a Mass of Resurrection on Friday\, January 23 at 1pm.
URL:https://popfb.org/event/funeral-vernon-joseph-benson-jr/
LOCATION:Prince of Peace\, 6439 Spout Springs Rd.\, Flowery Branch\, GA\, 30542\, United States
CATEGORIES:Highlighted Events,POP Funerals
END:VEVENT
BEGIN:VEVENT
DTSTART;TZID=America/New_York:20260129T100000
DTEND;TZID=America/New_York:20260129T113000
DTSTAMP:20260420T063942
CREATED:20251227T143349Z
LAST-MODIFIED:20251227T143349Z
UID:10009112-1769680800-1769686200@popfb.org
SUMMARY:Where the Path Began & God’s Lessons Along the Way
DESCRIPTION:Presented by Johnathan Nguyen \n• Thursday\, January 29\, 2026\n• 10am OR 7pm\n• In English \nDiscerning where the Lord is calling us can feel challenging\, confusing\, or unclear at times. In this talk\, Johnathan Nguyen\, a seminarian of the Archdiocese of Atlanta who is currently in his Pastoral Year at Prince of Peace\, will share how the Lord has prepared the path in his life\, and continues to guide it\, showing how the pieces of the puzzle come together in God’s perfect timing. \nAlong the way\, Johnathan will reflect on the spiritual lessons he has learned and how this journey has deepened and transformed his relationship with the Lord. \nContact: Suzanne Coughlin at suzanne@popfb.org.
URL:https://popfb.org/event/where-the-path-began-gods-lessons-along-the-way/2026-01-29/1/
LOCATION:GA
CATEGORIES:Adult Faith Formation,Highlighted Events
ATTACH;FMTTYPE=image/png:https://popfb.org/wp-content/uploads/2025/12/Events-Calendar-Thumbnail-website-50.png
END:VEVENT
BEGIN:VEVENT
DTSTART;TZID=America/New_York:20260129T110000
DTEND;TZID=America/New_York:20260129T120000
DTSTAMP:20260420T063942
CREATED:20260127T182213Z
LAST-MODIFIED:20260127T182213Z
UID:10009519-1769684400-1769688000@popfb.org
SUMMARY:Funeral: Joey Mazzari
DESCRIPTION:Please pray for the repose of the soul of Joey Mazzari\, who passed away on Friday\, January 16\, 2026. Father Eric Hill will celebrate a Mass of Resurrection on Thursday\, January 29 at 11am.
URL:https://popfb.org/event/funeral-joey-mazzari/
LOCATION:Prince of Peace\, 6439 Spout Springs Rd.\, Flowery Branch\, GA\, 30542\, United States
CATEGORIES:Highlighted Events,POP Funerals
END:VEVENT
BEGIN:VEVENT
DTSTART;TZID=America/New_York:20260129T190000
DTEND;TZID=America/New_York:20260129T203000
DTSTAMP:20260420T063942
CREATED:20251227T142700Z
LAST-MODIFIED:20260305T182237Z
UID:10009093-1769713200-1769718600@popfb.org
SUMMARY:Encountering Jesus in the Gospel of John
DESCRIPTION:• January 22 – March 26\n• Thursdays at 7:00pm\n• In Spanish \nEncountering Jesus in the Gospel of John invites you into a deeper relationship with Christ. Discover Jesus as the Good Shepherd who seeks us\, calls us by name\, and invites us to trust him\, follow him\, and grow in faith and lasting joy. \nContact: carmela@popfb.org
URL:https://popfb.org/event/encountering-jesus-in-the-gospel-of-john/2026-01-29/
LOCATION:GA
CATEGORIES:Adult Faith Formation,Highlighted Events
ATTACH;FMTTYPE=image/png:https://popfb.org/wp-content/uploads/2025/12/Events-Calendar-Thumbnail-website-65.png
END:VEVENT
BEGIN:VEVENT
DTSTART;TZID=America/New_York:20260129T190000
DTEND;TZID=America/New_York:20260129T203000
DTSTAMP:20260420T063942
CREATED:20251227T143349Z
LAST-MODIFIED:20251227T143349Z
UID:10009113-1769713200-1769718600@popfb.org
SUMMARY:Where the Path Began & God’s Lessons Along the Way
DESCRIPTION:Presented by Johnathan Nguyen \n• Thursday\, January 29\, 2026\n• 10am OR 7pm\n• In English \nDiscerning where the Lord is calling us can feel challenging\, confusing\, or unclear at times. In this talk\, Johnathan Nguyen\, a seminarian of the Archdiocese of Atlanta who is currently in his Pastoral Year at Prince of Peace\, will share how the Lord has prepared the path in his life\, and continues to guide it\, showing how the pieces of the puzzle come together in God’s perfect timing. \nAlong the way\, Johnathan will reflect on the spiritual lessons he has learned and how this journey has deepened and transformed his relationship with the Lord. \nContact: Suzanne Coughlin at suzanne@popfb.org.
URL:https://popfb.org/event/where-the-path-began-gods-lessons-along-the-way/2026-01-29/2/
LOCATION:GA
CATEGORIES:Adult Faith Formation,Highlighted Events
ATTACH;FMTTYPE=image/png:https://popfb.org/wp-content/uploads/2025/12/Events-Calendar-Thumbnail-website-50.png
END:VEVENT
END:VCALENDAR