BEGIN:VCALENDAR
VERSION:2.0
PRODID:-//Prince of Peace - ECPv6.15.16.1//NONSGML v1.0//EN
CALSCALE:GREGORIAN
METHOD:PUBLISH
X-WR-CALNAME:Prince of Peace
X-ORIGINAL-URL:https://popfb.org
X-WR-CALDESC:Events for Prince of Peace
REFRESH-INTERVAL;VALUE=DURATION:PT1H
X-Robots-Tag:noindex
X-PUBLISHED-TTL:PT1H
BEGIN:VTIMEZONE
TZID:America/New_York
BEGIN:DAYLIGHT
TZOFFSETFROM:-0500
TZOFFSETTO:-0400
TZNAME:EDT
DTSTART:20240310T070000
END:DAYLIGHT
BEGIN:STANDARD
TZOFFSETFROM:-0400
TZOFFSETTO:-0500
TZNAME:EST
DTSTART:20241103T060000
END:STANDARD
BEGIN:DAYLIGHT
TZOFFSETFROM:-0500
TZOFFSETTO:-0400
TZNAME:EDT
DTSTART:20250309T070000
END:DAYLIGHT
BEGIN:STANDARD
TZOFFSETFROM:-0400
TZOFFSETTO:-0500
TZNAME:EST
DTSTART:20251102T060000
END:STANDARD
BEGIN:DAYLIGHT
TZOFFSETFROM:-0500
TZOFFSETTO:-0400
TZNAME:EDT
DTSTART:20260308T070000
END:DAYLIGHT
BEGIN:STANDARD
TZOFFSETFROM:-0400
TZOFFSETTO:-0500
TZNAME:EST
DTSTART:20261101T060000
END:STANDARD
END:VTIMEZONE
BEGIN:VTIMEZONE
TZID:UTC
BEGIN:STANDARD
TZOFFSETFROM:+0000
TZOFFSETTO:+0000
TZNAME:UTC
DTSTART:20240101T000000
END:STANDARD
END:VTIMEZONE
BEGIN:VEVENT
DTSTART;TZID=America/New_York:20250501T190000
DTEND;TZID=America/New_York:20250501T203000
DTSTAMP:20260420T194415
CREATED:20250221T153800Z
LAST-MODIFIED:20250320T153742Z
UID:10008048-1746126000-1746131400@popfb.org
SUMMARY:The True Treasures of the Church
DESCRIPTION:The True Treasures of the Church: An Introduction to Catholic Social Teaching \nTwo-Part Series in English | April 24 & May 1 | 7-8:30pm \nIn this two-part series\, Deacon Larry will be providing an introduction to Catholic Social Teaching focusing on the importance of working in those ministries of justice and peace. \nWe will explore the background and development of social teaching and justice as provided in the Holy Scriptures and in the documents of the Church showing that social justice is not a concept developed during Vatican II but has its roots as far back as Genesis. \nWe will discuss sin and its social dimension\, especially its impact on those suffering or in need. We will look at the seven themes of Catholic Social Teaching and how we\, as Christ’s disciples\, can work as citizens of the kingdom of heaven through participating in justice and mercy ministries and in community action. We will show that through our loving relationships with each other\, especially those on the margins\, we not only build a more just world but also deepen our relationship with our Lord and Savior\, Jesus Christ. \nFor questions\, please contact Suzanne C. at 678-960-0056 or email suzanne@popfb.org.
URL:https://popfb.org/event/the-true-treasures-of-the-church-an-introduction-to-catholic-social-teaching/2025-05-01/
LOCATION:GA
CATEGORIES:Adult Faith Formation,Highlighted Events
END:VEVENT
BEGIN:VEVENT
DTSTART;TZID=America/New_York:20250502T190000
DTEND;TZID=America/New_York:20250502T200000
DTSTAMP:20260420T194415
CREATED:20250416T152055Z
LAST-MODIFIED:20250416T152055Z
UID:10008136-1746212400-1746216000@popfb.org
SUMMARY:May Crowning & Solemn Vespers
DESCRIPTION:The month of May is dedicated to Our Blessed Mother. Join Fr. Pete for a special May Crowning Event at 7pm on Friday\, May 2 in the Church. \nThe event will include: \n• Glorious Mysteries of the Rosary\n• Solemn Vespers\n• Crowning Our Lady \nPlease note: Encounter will resume next month\, June 6\, 2025
URL:https://popfb.org/event/may-crowning-solemn-vespers/
LOCATION:GA
CATEGORIES:Adoration Page,Highlighted Events,Mass & Confession Page
ATTACH;FMTTYPE=image/png:https://popfb.org/wp-content/uploads/2025/04/Events-Calendar-Thumbnail-website-70.png
END:VEVENT
BEGIN:VEVENT
DTSTART;TZID=UTC:20250511T073000
DTEND;TZID=UTC:20250511T113000
DTSTAMP:20260420T194415
CREATED:20250113T163206Z
LAST-MODIFIED:20250113T163206Z
UID:10007584-1746948600-1746963000@popfb.org
SUMMARY:Coffee and Donuts
DESCRIPTION:Coffee and Donuts in the Atrium after the 7:30am & 9:30am Masses. \nJoin us for a sweet treat and uplifting conversations with fellow parishioners. \nCoffee and Donuts is offered several times throughout the year.
URL:https://popfb.org/event/coffee-and-donuts-3/2025-05-11/
LOCATION:GA
CATEGORIES:Highlighted Events
ATTACH;FMTTYPE=image/png:https://popfb.org/wp-content/uploads/2024/04/Events-Calendar-Thumbnail-website-20.png
END:VEVENT
BEGIN:VEVENT
DTSTART;TZID=America/New_York:20250517T093000
DTEND;TZID=America/New_York:20250517T110000
DTSTAMP:20260420T194415
CREATED:20250512T151812Z
LAST-MODIFIED:20250512T151812Z
UID:10008175-1747474200-1747479600@popfb.org
SUMMARY:Family Adoration
DESCRIPTION:Teaching your children to adore Jesus in the Eucharist is a gift they will never forget. Join us for our monthly Family Adoration of the Blessed Sacrament in the Blessed Sacrament Chapel. Wiggly and giggly kids of all ages and their parents are invited to come and spend time with Jesus! \nAll are welcome to come for as little or as long as you can\, but we ask\, if you are able to make the commitment\, to please sign up at the link below so we know that at least one family will be present to be a guardian for the Blessed Sacrament at all times.
URL:https://popfb.org/event/family-adoration/2025-05-17/
LOCATION:GA
CATEGORIES:Adoration Page,Children Faith Formation,Family Adoration,Highlighted Events
ATTACH;FMTTYPE=image/png:https://popfb.org/wp-content/uploads/2023/09/Family-Adoration.png
END:VEVENT
BEGIN:VEVENT
DTSTART;TZID=America/New_York:20250518T170000
DTEND;TZID=America/New_York:20250518T180000
DTSTAMP:20260420T194415
CREATED:20250512T130603Z
LAST-MODIFIED:20250512T130603Z
UID:10008160-1747587600-1747591200@popfb.org
SUMMARY:Graduates' Blessing
DESCRIPTION:All graduating High School and College Seniors are invited to our Graduates’ Blessing on Sunday\, May 18 at 5pm Mass! \nSpecial recognition and a blessing will be offered to honor our graduates who are moving into the next chapter of their lives. Graduates are encouraged to wear their graduation robes to the liturgy.
URL:https://popfb.org/event/graduates-blessing/
LOCATION:GA
CATEGORIES:Highlighted Events,Youth Faith Formation
END:VEVENT
BEGIN:VEVENT
DTSTART;VALUE=DATE:20250523
DTEND;VALUE=DATE:20250524
DTSTAMP:20260420T194415
CREATED:20250402T180046Z
LAST-MODIFIED:20250402T180249Z
UID:10008067-1747958400-1748044799@popfb.org
SUMMARY:Emmaus Retreat for Men (ES)
DESCRIPTION:When: May 23-25\, 2025\nLanguage: Spanish Only\nWhere: Kings Retreat\, Dallas\, Georgia\nCost: $180 (includes transportation\, meals\, lodging\, and materials) \nWe all need to take some time to step away from the hectic pace of today’s world and go to a “quiet” place to focus and reflect on our life\, our purpose\, and our relationship with God and those around us. \nThe Emaús retreat is an experience for man over the age of 18 who seek to grow in their relationship with Christ\, regardless of their current level of faith and practice. \nDon’t miss the opportunity to make the journey on the Road to Emaús. \nContact: emaushombres@popfb.org
URL:https://popfb.org/event/emmaus-retreat-for-men-es/2025-05-23/
LOCATION:GA
CATEGORIES:Highlighted Events
ATTACH;FMTTYPE=image/png:https://popfb.org/wp-content/uploads/2024/04/62.png
END:VEVENT
BEGIN:VEVENT
DTSTART;VALUE=DATE:20250524
DTEND;VALUE=DATE:20250525
DTSTAMP:20260420T194415
CREATED:20250402T180046Z
LAST-MODIFIED:20250402T180249Z
UID:10008068-1748044800-1748131199@popfb.org
SUMMARY:Emmaus Retreat for Men (ES)
DESCRIPTION:When: May 23-25\, 2025\nLanguage: Spanish Only\nWhere: Kings Retreat\, Dallas\, Georgia\nCost: $180 (includes transportation\, meals\, lodging\, and materials) \nWe all need to take some time to step away from the hectic pace of today’s world and go to a “quiet” place to focus and reflect on our life\, our purpose\, and our relationship with God and those around us. \nThe Emaús retreat is an experience for man over the age of 18 who seek to grow in their relationship with Christ\, regardless of their current level of faith and practice. \nDon’t miss the opportunity to make the journey on the Road to Emaús. \nContact: emaushombres@popfb.org
URL:https://popfb.org/event/emmaus-retreat-for-men-es/2025-05-24/
LOCATION:GA
CATEGORIES:Highlighted Events
ATTACH;FMTTYPE=image/png:https://popfb.org/wp-content/uploads/2024/04/62.png
END:VEVENT
BEGIN:VEVENT
DTSTART;VALUE=DATE:20250525
DTEND;VALUE=DATE:20250526
DTSTAMP:20260420T194415
CREATED:20250402T180046Z
LAST-MODIFIED:20250402T180249Z
UID:10008069-1748131200-1748217599@popfb.org
SUMMARY:Emmaus Retreat for Men (ES)
DESCRIPTION:When: May 23-25\, 2025\nLanguage: Spanish Only\nWhere: Kings Retreat\, Dallas\, Georgia\nCost: $180 (includes transportation\, meals\, lodging\, and materials) \nWe all need to take some time to step away from the hectic pace of today’s world and go to a “quiet” place to focus and reflect on our life\, our purpose\, and our relationship with God and those around us. \nThe Emaús retreat is an experience for man over the age of 18 who seek to grow in their relationship with Christ\, regardless of their current level of faith and practice. \nDon’t miss the opportunity to make the journey on the Road to Emaús. \nContact: emaushombres@popfb.org
URL:https://popfb.org/event/emmaus-retreat-for-men-es/2025-05-25/
LOCATION:GA
CATEGORIES:Highlighted Events
ATTACH;FMTTYPE=image/png:https://popfb.org/wp-content/uploads/2024/04/62.png
END:VEVENT
BEGIN:VEVENT
DTSTART;VALUE=DATE:20250526
DTEND;VALUE=DATE:20250527
DTSTAMP:20260420T194415
CREATED:20250514T140103Z
LAST-MODIFIED:20250514T140331Z
UID:10008179-1748217600-1748303999@popfb.org
SUMMARY:Memorial Day
DESCRIPTION:Monday\, May 26 \n• The Parish office will be closed on Monday\, May 26 in observance of Memorial Day.\n• Mass will be celebrated at 9am\n• There will be NO Exposition of the Blessed Sacrament (or overnight Adoration). The chapel will be open for private prayer from 9am-9pm\n• The Blessed Sacrament will be exposed again after the 9am Mass on Tuesday\, May 27.\n• There are no other scheduled events at the parish on Memorial Day
URL:https://popfb.org/event/memorial-day/
LOCATION:GA
CATEGORIES:Adoration Page,Highlighted Events,Mass & Confession Page,Parish Notice
ATTACH;FMTTYPE=image/png:https://popfb.org/wp-content/uploads/2024/05/Memorial-Day.png
END:VEVENT
END:VCALENDAR