BEGIN:VCALENDAR
VERSION:2.0
PRODID:-//Prince of Peace - ECPv6.15.16.1//NONSGML v1.0//EN
CALSCALE:GREGORIAN
METHOD:PUBLISH
X-ORIGINAL-URL:https://popfb.org
X-WR-CALDESC:Events for Prince of Peace
REFRESH-INTERVAL;VALUE=DURATION:PT1H
X-Robots-Tag:noindex
X-PUBLISHED-TTL:PT1H
BEGIN:VTIMEZONE
TZID:America/New_York
BEGIN:DAYLIGHT
TZOFFSETFROM:-0500
TZOFFSETTO:-0400
TZNAME:EDT
DTSTART:20240310T070000
END:DAYLIGHT
BEGIN:STANDARD
TZOFFSETFROM:-0400
TZOFFSETTO:-0500
TZNAME:EST
DTSTART:20241103T060000
END:STANDARD
BEGIN:DAYLIGHT
TZOFFSETFROM:-0500
TZOFFSETTO:-0400
TZNAME:EDT
DTSTART:20250309T070000
END:DAYLIGHT
BEGIN:STANDARD
TZOFFSETFROM:-0400
TZOFFSETTO:-0500
TZNAME:EST
DTSTART:20251102T060000
END:STANDARD
BEGIN:DAYLIGHT
TZOFFSETFROM:-0500
TZOFFSETTO:-0400
TZNAME:EDT
DTSTART:20260308T070000
END:DAYLIGHT
BEGIN:STANDARD
TZOFFSETFROM:-0400
TZOFFSETTO:-0500
TZNAME:EST
DTSTART:20261101T060000
END:STANDARD
BEGIN:DAYLIGHT
TZOFFSETFROM:-0500
TZOFFSETTO:-0400
TZNAME:EDT
DTSTART:20270314T070000
END:DAYLIGHT
BEGIN:STANDARD
TZOFFSETFROM:-0400
TZOFFSETTO:-0500
TZNAME:EST
DTSTART:20271107T060000
END:STANDARD
END:VTIMEZONE
BEGIN:VEVENT
DTSTART;VALUE=DATE:20250416
DTEND;VALUE=DATE:20250417
DTSTAMP:20260422T182617
CREATED:20250402T183644Z
LAST-MODIFIED:20250416T181622Z
UID:10008111-1744761600-1744847999@popfb.org
SUMMARY:Holy Week & Easter Notices
DESCRIPTION:4/14-4/19\n• No confessions during Holy Week \n4/17\, 4/18 & 4/19\n• No daily Mass nor Communion Service at 9am. Visit popfb.org/holyweek to see our Paschal Triduum and Easter Mass schedule. \n4/17\, 4/18 & 4/21\n• Parish office will be closed \n4/16-4/22\n• Exposition of the Blessed Sacrament Suspended from Wednesday\, April 16\, at noon until Tuesday\, April 22\, after 9am Mass\n• 9am-9pm: Chapel open for silent prayer. \n4/21\n• No Mass nor Communion Service\n• The building will be closed \n4/14-4/18\n• SVDP helpline and pantry closed
URL:https://popfb.org/event/holy-week-ester-notices/2025-04-16/
CATEGORIES:Adoration Page,Confessions,Mass & Confession Page,Parish Notice
ATTACH;FMTTYPE=image/png:https://popfb.org/wp-content/uploads/2025/04/Events-Calendar-Thumbnail-website-65.png
END:VEVENT
BEGIN:VEVENT
DTSTART;VALUE=DATE:20250417
DTEND;VALUE=DATE:20250418
DTSTAMP:20260422T182617
CREATED:20250402T183644Z
LAST-MODIFIED:20250416T181622Z
UID:10008112-1744848000-1744934399@popfb.org
SUMMARY:Holy Week & Easter Notices
DESCRIPTION:4/14-4/19\n• No confessions during Holy Week \n4/17\, 4/18 & 4/19\n• No daily Mass nor Communion Service at 9am. Visit popfb.org/holyweek to see our Paschal Triduum and Easter Mass schedule. \n4/17\, 4/18 & 4/21\n• Parish office will be closed \n4/16-4/22\n• Exposition of the Blessed Sacrament Suspended from Wednesday\, April 16\, at noon until Tuesday\, April 22\, after 9am Mass\n• 9am-9pm: Chapel open for silent prayer. \n4/21\n• No Mass nor Communion Service\n• The building will be closed \n4/14-4/18\n• SVDP helpline and pantry closed
URL:https://popfb.org/event/holy-week-ester-notices/2025-04-17/
CATEGORIES:Adoration Page,Confessions,Mass & Confession Page,Parish Notice
ATTACH;FMTTYPE=image/png:https://popfb.org/wp-content/uploads/2025/04/Events-Calendar-Thumbnail-website-65.png
END:VEVENT
BEGIN:VEVENT
DTSTART;VALUE=DATE:20250418
DTEND;VALUE=DATE:20250419
DTSTAMP:20260422T182617
CREATED:20250402T183644Z
LAST-MODIFIED:20250416T181622Z
UID:10008113-1744934400-1745020799@popfb.org
SUMMARY:Holy Week & Easter Notices
DESCRIPTION:4/14-4/19\n• No confessions during Holy Week \n4/17\, 4/18 & 4/19\n• No daily Mass nor Communion Service at 9am. Visit popfb.org/holyweek to see our Paschal Triduum and Easter Mass schedule. \n4/17\, 4/18 & 4/21\n• Parish office will be closed \n4/16-4/22\n• Exposition of the Blessed Sacrament Suspended from Wednesday\, April 16\, at noon until Tuesday\, April 22\, after 9am Mass\n• 9am-9pm: Chapel open for silent prayer. \n4/21\n• No Mass nor Communion Service\n• The building will be closed \n4/14-4/18\n• SVDP helpline and pantry closed
URL:https://popfb.org/event/holy-week-ester-notices/2025-04-18/
CATEGORIES:Adoration Page,Confessions,Mass & Confession Page,Parish Notice
ATTACH;FMTTYPE=image/png:https://popfb.org/wp-content/uploads/2025/04/Events-Calendar-Thumbnail-website-65.png
END:VEVENT
BEGIN:VEVENT
DTSTART;VALUE=DATE:20250419
DTEND;VALUE=DATE:20250420
DTSTAMP:20260422T182617
CREATED:20250402T183644Z
LAST-MODIFIED:20250416T181622Z
UID:10008114-1745020800-1745107199@popfb.org
SUMMARY:Holy Week & Easter Notices
DESCRIPTION:4/14-4/19\n• No confessions during Holy Week \n4/17\, 4/18 & 4/19\n• No daily Mass nor Communion Service at 9am. Visit popfb.org/holyweek to see our Paschal Triduum and Easter Mass schedule. \n4/17\, 4/18 & 4/21\n• Parish office will be closed \n4/16-4/22\n• Exposition of the Blessed Sacrament Suspended from Wednesday\, April 16\, at noon until Tuesday\, April 22\, after 9am Mass\n• 9am-9pm: Chapel open for silent prayer. \n4/21\n• No Mass nor Communion Service\n• The building will be closed \n4/14-4/18\n• SVDP helpline and pantry closed
URL:https://popfb.org/event/holy-week-ester-notices/2025-04-19/
CATEGORIES:Adoration Page,Confessions,Mass & Confession Page,Parish Notice
ATTACH;FMTTYPE=image/png:https://popfb.org/wp-content/uploads/2025/04/Events-Calendar-Thumbnail-website-65.png
END:VEVENT
BEGIN:VEVENT
DTSTART;VALUE=DATE:20250420
DTEND;VALUE=DATE:20250421
DTSTAMP:20260422T182617
CREATED:20250402T183644Z
LAST-MODIFIED:20250416T181622Z
UID:10008115-1745107200-1745193599@popfb.org
SUMMARY:Holy Week & Easter Notices
DESCRIPTION:4/14-4/19\n• No confessions during Holy Week \n4/17\, 4/18 & 4/19\n• No daily Mass nor Communion Service at 9am. Visit popfb.org/holyweek to see our Paschal Triduum and Easter Mass schedule. \n4/17\, 4/18 & 4/21\n• Parish office will be closed \n4/16-4/22\n• Exposition of the Blessed Sacrament Suspended from Wednesday\, April 16\, at noon until Tuesday\, April 22\, after 9am Mass\n• 9am-9pm: Chapel open for silent prayer. \n4/21\n• No Mass nor Communion Service\n• The building will be closed \n4/14-4/18\n• SVDP helpline and pantry closed
URL:https://popfb.org/event/holy-week-ester-notices/2025-04-20/
CATEGORIES:Adoration Page,Confessions,Mass & Confession Page,Parish Notice
ATTACH;FMTTYPE=image/png:https://popfb.org/wp-content/uploads/2025/04/Events-Calendar-Thumbnail-website-65.png
END:VEVENT
BEGIN:VEVENT
DTSTART;VALUE=DATE:20250421
DTEND;VALUE=DATE:20250422
DTSTAMP:20260422T182617
CREATED:20250402T183644Z
LAST-MODIFIED:20250416T181622Z
UID:10008116-1745193600-1745279999@popfb.org
SUMMARY:Holy Week & Easter Notices
DESCRIPTION:4/14-4/19\n• No confessions during Holy Week \n4/17\, 4/18 & 4/19\n• No daily Mass nor Communion Service at 9am. Visit popfb.org/holyweek to see our Paschal Triduum and Easter Mass schedule. \n4/17\, 4/18 & 4/21\n• Parish office will be closed \n4/16-4/22\n• Exposition of the Blessed Sacrament Suspended from Wednesday\, April 16\, at noon until Tuesday\, April 22\, after 9am Mass\n• 9am-9pm: Chapel open for silent prayer. \n4/21\n• No Mass nor Communion Service\n• The building will be closed \n4/14-4/18\n• SVDP helpline and pantry closed
URL:https://popfb.org/event/holy-week-ester-notices/2025-04-21/
CATEGORIES:Adoration Page,Confessions,Mass & Confession Page,Parish Notice
ATTACH;FMTTYPE=image/png:https://popfb.org/wp-content/uploads/2025/04/Events-Calendar-Thumbnail-website-65.png
END:VEVENT
BEGIN:VEVENT
DTSTART;TZID=America/New_York:20250424T180000
DTEND;TZID=America/New_York:20250424T184500
DTSTAMP:20260422T182617
CREATED:20250317T185114Z
LAST-MODIFIED:20250317T185114Z
UID:10008030-1745517600-1745520300@popfb.org
SUMMARY:No Confessions
DESCRIPTION:No Confessions at 6pm: 4/15\, 4/24
URL:https://popfb.org/event/no-confessions-16/2025-04-24/
CATEGORIES:Confessions,Mass & Confession Page,Parish Notice
ATTACH;FMTTYPE=image/png:https://popfb.org/wp-content/uploads/2024/02/Confessions.png
END:VEVENT
BEGIN:VEVENT
DTSTART;TZID=America/New_York:20250501T180000
DTEND;TZID=America/New_York:20250501T184500
DTSTAMP:20260422T182617
CREATED:20250501T133606Z
LAST-MODIFIED:20250501T133606Z
UID:10008150-1746122400-1746125100@popfb.org
SUMMARY:No Confessions
DESCRIPTION:No Confessions at 6pm: 5/1
URL:https://popfb.org/event/no-confessions-6/
CATEGORIES:Confessions,Mass & Confession Page,Parish Notice
ATTACH;FMTTYPE=image/png:https://popfb.org/wp-content/uploads/2024/02/Confessions.png
END:VEVENT
BEGIN:VEVENT
DTSTART;TZID=America/New_York:20250607T093000
DTEND;TZID=America/New_York:20250607T103000
DTSTAMP:20260422T182617
CREATED:20250529T141012Z
LAST-MODIFIED:20250529T141012Z
UID:10008239-1749288600-1749292200@popfb.org
SUMMARY:No Confessions
DESCRIPTION:No Confessions on: 6/7\, 6/26\, 6/28
URL:https://popfb.org/event/no-confessions-7/2025-06-07/
CATEGORIES:Confessions,Mass & Confession Page,Parish Notice
ATTACH;FMTTYPE=image/png:https://popfb.org/wp-content/uploads/2024/02/Confessions.png
END:VEVENT
BEGIN:VEVENT
DTSTART;TZID=America/New_York:20250607T100000
DTEND;TZID=America/New_York:20250607T110000
DTSTAMP:20260422T182617
CREATED:20250529T134525Z
LAST-MODIFIED:20250529T140432Z
UID:10008194-1749290400-1749294000@popfb.org
SUMMARY:Sacramental Masses
DESCRIPTION:All Masses will celebrate the liturgy of the day\, and everyone is invited to attend. \nFirst Eucharists: The Sacrament of First Eucharist will be celebrated on Saturday\, June 7\, at 10am and 1pm. Please note that there will be no 9am Mass and no Confessions on this day. \nConfirmations: The Sacrament of Confirmation will be celebrated by Bishop Konzen on Saturday\, June 28\, at 10am and 1pm There will be no 9am Mass and no Confessions on this day as well
URL:https://popfb.org/event/sacramental-masses/2025-06-07/1/
CATEGORIES:Children Sacramental Preparation,Confessions,Highlighted Events,Mass & Confession Page
END:VEVENT
BEGIN:VEVENT
DTSTART;TZID=America/New_York:20250607T130000
DTEND;TZID=America/New_York:20250607T140000
DTSTAMP:20260422T182617
CREATED:20250529T134525Z
LAST-MODIFIED:20250529T140432Z
UID:10008195-1749301200-1749304800@popfb.org
SUMMARY:Sacramental Masses
DESCRIPTION:All Masses will celebrate the liturgy of the day\, and everyone is invited to attend. \nFirst Eucharists: The Sacrament of First Eucharist will be celebrated on Saturday\, June 7\, at 10am and 1pm. Please note that there will be no 9am Mass and no Confessions on this day. \nConfirmations: The Sacrament of Confirmation will be celebrated by Bishop Konzen on Saturday\, June 28\, at 10am and 1pm There will be no 9am Mass and no Confessions on this day as well
URL:https://popfb.org/event/sacramental-masses/2025-06-07/2/
CATEGORIES:Children Sacramental Preparation,Confessions,Highlighted Events,Mass & Confession Page
END:VEVENT
BEGIN:VEVENT
DTSTART;TZID=America/New_York:20250626T180000
DTEND;TZID=America/New_York:20250626T184500
DTSTAMP:20260422T182617
CREATED:20250529T141012Z
LAST-MODIFIED:20250529T141012Z
UID:10008240-1750960800-1750963500@popfb.org
SUMMARY:No Confessions
DESCRIPTION:No Confessions on: 6/7\, 6/26\, 6/28
URL:https://popfb.org/event/no-confessions-7/2025-06-26/
CATEGORIES:Confessions,Mass & Confession Page,Parish Notice
ATTACH;FMTTYPE=image/png:https://popfb.org/wp-content/uploads/2024/02/Confessions.png
END:VEVENT
BEGIN:VEVENT
DTSTART;TZID=America/New_York:20250628T093000
DTEND;TZID=America/New_York:20250628T103000
DTSTAMP:20260422T182617
CREATED:20250529T141012Z
LAST-MODIFIED:20250529T141012Z
UID:10008241-1751103000-1751106600@popfb.org
SUMMARY:No Confessions
DESCRIPTION:No Confessions on: 6/7\, 6/26\, 6/28
URL:https://popfb.org/event/no-confessions-7/2025-06-28/
CATEGORIES:Confessions,Mass & Confession Page,Parish Notice
ATTACH;FMTTYPE=image/png:https://popfb.org/wp-content/uploads/2024/02/Confessions.png
END:VEVENT
BEGIN:VEVENT
DTSTART;TZID=America/New_York:20250628T100000
DTEND;TZID=America/New_York:20250628T110000
DTSTAMP:20260422T182617
CREATED:20250529T134525Z
LAST-MODIFIED:20250529T140432Z
UID:10008196-1751104800-1751108400@popfb.org
SUMMARY:Sacramental Masses
DESCRIPTION:All Masses will celebrate the liturgy of the day\, and everyone is invited to attend. \nFirst Eucharists: The Sacrament of First Eucharist will be celebrated on Saturday\, June 7\, at 10am and 1pm. Please note that there will be no 9am Mass and no Confessions on this day. \nConfirmations: The Sacrament of Confirmation will be celebrated by Bishop Konzen on Saturday\, June 28\, at 10am and 1pm There will be no 9am Mass and no Confessions on this day as well
URL:https://popfb.org/event/sacramental-masses/2025-06-28/1/
CATEGORIES:Children Sacramental Preparation,Confessions,Highlighted Events,Mass & Confession Page
END:VEVENT
BEGIN:VEVENT
DTSTART;TZID=America/New_York:20250628T130000
DTEND;TZID=America/New_York:20250628T140000
DTSTAMP:20260422T182617
CREATED:20250529T134525Z
LAST-MODIFIED:20250529T140432Z
UID:10008197-1751115600-1751119200@popfb.org
SUMMARY:Sacramental Masses
DESCRIPTION:All Masses will celebrate the liturgy of the day\, and everyone is invited to attend. \nFirst Eucharists: The Sacrament of First Eucharist will be celebrated on Saturday\, June 7\, at 10am and 1pm. Please note that there will be no 9am Mass and no Confessions on this day. \nConfirmations: The Sacrament of Confirmation will be celebrated by Bishop Konzen on Saturday\, June 28\, at 10am and 1pm There will be no 9am Mass and no Confessions on this day as well
URL:https://popfb.org/event/sacramental-masses/2025-06-28/2/
CATEGORIES:Children Sacramental Preparation,Confessions,Highlighted Events,Mass & Confession Page
END:VEVENT
BEGIN:VEVENT
DTSTART;TZID=America/New_York:20250923T180000
DTEND;TZID=America/New_York:20250923T184500
DTSTAMP:20260422T182617
CREATED:20250915T163530Z
LAST-MODIFIED:20250915T163856Z
UID:10008627-1758650400-1758653100@popfb.org
SUMMARY:No Confessions
DESCRIPTION:Date(s) of no Confessions on: 9/23
URL:https://popfb.org/event/no-confessions/
CATEGORIES:Confessions,Mass & Confession Page,Parish Notice
ATTACH;FMTTYPE=image/png:https://popfb.org/wp-content/uploads/2024/02/Confessions.png
END:VEVENT
BEGIN:VEVENT
DTSTART;TZID=America/New_York:20251028T180000
DTEND;TZID=America/New_York:20251028T184500
DTSTAMP:20260422T182617
CREATED:20251028T140255Z
LAST-MODIFIED:20251028T140255Z
UID:10008758-1761674400-1761677100@popfb.org
SUMMARY:No Confessions
DESCRIPTION:Date(s) of no Confessions on: 10/28
URL:https://popfb.org/event/no-confessions-2/
CATEGORIES:Confessions,Mass & Confession Page,Parish Notice
ATTACH;FMTTYPE=image/png:https://popfb.org/wp-content/uploads/2024/02/Confessions.png
END:VEVENT
BEGIN:VEVENT
DTSTART;TZID=America/New_York:20251106T180000
DTEND;TZID=America/New_York:20251106T184500
DTSTAMP:20260422T182617
CREATED:20251103T180647Z
LAST-MODIFIED:20251103T180647Z
UID:10008831-1762452000-1762454700@popfb.org
SUMMARY:No Confessions
DESCRIPTION:Date(s) of no Confessions on: 11/6 & 11/13
URL:https://popfb.org/event/no-confessions-8/2025-11-06/
CATEGORIES:Confessions,Mass & Confession Page,Parish Notice
ATTACH;FMTTYPE=image/png:https://popfb.org/wp-content/uploads/2024/02/Confessions.png
END:VEVENT
BEGIN:VEVENT
DTSTART;TZID=America/New_York:20251113T180000
DTEND;TZID=America/New_York:20251113T184500
DTSTAMP:20260422T182617
CREATED:20251103T180647Z
LAST-MODIFIED:20251103T180647Z
UID:10008832-1763056800-1763059500@popfb.org
SUMMARY:No Confessions
DESCRIPTION:Date(s) of no Confessions on: 11/6 & 11/13
URL:https://popfb.org/event/no-confessions-8/2025-11-13/
CATEGORIES:Confessions,Mass & Confession Page,Parish Notice
ATTACH;FMTTYPE=image/png:https://popfb.org/wp-content/uploads/2024/02/Confessions.png
END:VEVENT
BEGIN:VEVENT
DTSTART;VALUE=DATE:20251124
DTEND;VALUE=DATE:20251129
DTSTAMP:20260422T182617
CREATED:20251107T171553Z
LAST-MODIFIED:20251121T153743Z
UID:10008840-1763942400-1764374399@popfb.org
SUMMARY:Thanksgiving Week 2025
DESCRIPTION:Monday\, November 24\n• Regular schedule \nTuesday\, November 25\n• Regular schedule \nWednesday\, November 26\n• Mass at 9am\n• Adoration: Exposition is postponed. The chapel is open for silent prayer\, 9 am–9 pm.\n• Building closing at noon \nThursday\, November 27 (Thanksgiving)\n• Mass at 9am only (No evening Mass)\n• No confessions\n• Adoration: Exposition is postponed. The chapel is open for silent prayer\, 9 am–9 pm.\n• Building closed \nFriday\, November 28\n• No Mass nor Communion Service\n• Adoration: Exposition is postponed. The chapel is open for silent prayer\, 9 am–9 pm.\n• Building closed
URL:https://popfb.org/event/thanksgiving-week-2025/
CATEGORIES:Adoration Page,Confessions,Highlighted Events,Mass & Confession Page,Parish Notice
ATTACH;FMTTYPE=image/png:https://popfb.org/wp-content/uploads/2025/11/Events-Calendar-Thumbnail-website-31.png
END:VEVENT
BEGIN:VEVENT
DTSTART;TZID=America/New_York:20251127T180000
DTEND;TZID=America/New_York:20251127T184500
DTSTAMP:20260422T182617
CREATED:20251121T153435Z
LAST-MODIFIED:20251209T165847Z
UID:10008889-1764266400-1764269100@popfb.org
SUMMARY:No Confessions
DESCRIPTION:Date(s) of no Confessions on: 12/9\, 12/16\, 12/18\, 12/25\, 12/27\, 12/30 1/1
URL:https://popfb.org/event/no-confessions-9/2025-11-27/
CATEGORIES:Confessions,Mass & Confession Page,Parish Notice
ATTACH;FMTTYPE=image/png:https://popfb.org/wp-content/uploads/2024/02/Confessions.png
END:VEVENT
BEGIN:VEVENT
DTSTART;TZID=America/New_York:20251201T190000
DTEND;TZID=America/New_York:20251201T200000
DTSTAMP:20260422T182617
CREATED:20251105T153526Z
LAST-MODIFIED:20251118T180056Z
UID:10007976-1764615600-1764619200@popfb.org
SUMMARY:Local Advent Penance Services
DESCRIPTION:Come and receive the gift of God’s forgiveness through an Advent Penance Service. This is a beautiful opportunity to prepare your heart for the coming of Jesus at Christmas through the Sacrament of Reconciliation. Multiple priests will be available for confession. \n\n\n\n\n\n\n\nListed below are some penance services around our area:\n \n12/1 – St. Stephen the Martyr (Lilburn) – 7pm\n12/2 – St. Patrick (Norcross) – 7pm\n12/3 – Prince of Peace (Flowery Branch) – 7pm\n12/4 – Our Lady of the Americas (Lilburn) – 7pm\n12/9 – St. Monica (Duluth) – 7pm\n12/9 – St. Matthew (Winder)- 7pm\n12/10 – Christ Our Hope (Lithonia) – 7pm\n12/15 – St. John Neumann (Lilburn) – 7pm\n12/15 – St. Michael (Gainesville) – 7pm\n12/16 – St. John Paul II (Gainesville) – 7pm\n12/16 – Holy Cross (Atlanta) – 7pm\n12/17 – St. Lawrence (Lawrenceville) – 7pm\n12/18 – St. Oliver Plunkett (Snellville) – 7pm\n12/19 – St. Marguerite d’Youville (Lawrenceville) – 7pm
URL:https://popfb.org/event/advent2025-penance-service/
CATEGORIES:Confessions,Highlighted Events,Mass & Confession Page
ATTACH;FMTTYPE=image/png:https://popfb.org/wp-content/uploads/2024/02/Confessions.png
END:VEVENT
BEGIN:VEVENT
DTSTART;TZID=America/New_York:20251202T180000
DTEND;TZID=America/New_York:20251202T184500
DTSTAMP:20260422T182617
CREATED:20251121T153435Z
LAST-MODIFIED:20251209T165847Z
UID:10008890-1764698400-1764701100@popfb.org
SUMMARY:No Confessions
DESCRIPTION:Date(s) of no Confessions on: 12/9\, 12/16\, 12/18\, 12/25\, 12/27\, 12/30 1/1
URL:https://popfb.org/event/no-confessions-9/2025-12-02/
CATEGORIES:Confessions,Mass & Confession Page,Parish Notice
ATTACH;FMTTYPE=image/png:https://popfb.org/wp-content/uploads/2024/02/Confessions.png
END:VEVENT
BEGIN:VEVENT
DTSTART;TZID=America/New_York:20251203T190000
DTEND;TZID=America/New_York:20251203T200000
DTSTAMP:20260422T182617
CREATED:20251118T181041Z
LAST-MODIFIED:20251118T181041Z
UID:10008854-1764788400-1764792000@popfb.org
SUMMARY:Advent Penance Service
DESCRIPTION:Come and receive the gift of God’s forgiveness through an Advent Penance Service. This is a beautiful opportunity to prepare your heart for the coming of Jesus at Christmas through the Sacrament of Reconciliation. Multiple priests will be available for confession. \n\n\n\n\n\n\n\nListed below are some penance services around our area:\n \n12/1 – St. Stephen the Martyr (Lilburn) – 7pm\n12/2 – St. Patrick (Norcross) – 7pm\n12/3 – Prince of Peace (Flowery Branch) – 7pm\n12/4 – Our Lady of the Americas (Lilburn) – 7pm\n12/9 – St. Monica (Duluth) – 7pm\n12/9 – St. Matthew (Winder)- 7pm\n12/10 – Christ Our Hope (Lithonia) – 7pm\n12/15 – St. John Neumann (Lilburn) – 7pm\n12/15 – St. Michael (Gainesville) – 7pm\n12/16 – St. John Paul II (Gainesville) – 7pm\n12/16 – Holy Cross (Atlanta) – 7pm\n12/17 – St. Lawrence (Lawrenceville) – 7pm\n12/18 – St. Oliver Plunkett (Snellville) – 7pm\n12/19 – St. Marguerite d’Youville (Lawrenceville) – 7pm
URL:https://popfb.org/event/advent-penance-service/
CATEGORIES:Confessions,Highlighted Events,Mass & Confession Page
ATTACH;FMTTYPE=image/png:https://popfb.org/wp-content/uploads/2024/02/Confessions.png
END:VEVENT
BEGIN:VEVENT
DTSTART;TZID=America/New_York:20251204T180000
DTEND;TZID=America/New_York:20251204T184500
DTSTAMP:20260422T182617
CREATED:20251121T153435Z
LAST-MODIFIED:20251209T165847Z
UID:10008891-1764871200-1764873900@popfb.org
SUMMARY:No Confessions
DESCRIPTION:Date(s) of no Confessions on: 12/9\, 12/16\, 12/18\, 12/25\, 12/27\, 12/30 1/1
URL:https://popfb.org/event/no-confessions-9/2025-12-04/
CATEGORIES:Confessions,Mass & Confession Page,Parish Notice
ATTACH;FMTTYPE=image/png:https://popfb.org/wp-content/uploads/2024/02/Confessions.png
END:VEVENT
BEGIN:VEVENT
DTSTART;TZID=America/New_York:20251209T180000
DTEND;TZID=America/New_York:20251209T184500
DTSTAMP:20260422T182617
CREATED:20251121T153435Z
LAST-MODIFIED:20251209T165847Z
UID:10008892-1765303200-1765305900@popfb.org
SUMMARY:No Confessions
DESCRIPTION:Date(s) of no Confessions on: 12/9\, 12/16\, 12/18\, 12/25\, 12/27\, 12/30 1/1
URL:https://popfb.org/event/no-confessions-9/2025-12-09/
CATEGORIES:Confessions,Mass & Confession Page,Parish Notice
ATTACH;FMTTYPE=image/png:https://popfb.org/wp-content/uploads/2024/02/Confessions.png
END:VEVENT
BEGIN:VEVENT
DTSTART;TZID=America/New_York:20251216T180000
DTEND;TZID=America/New_York:20251216T184500
DTSTAMP:20260422T182617
CREATED:20251121T153435Z
LAST-MODIFIED:20251209T165847Z
UID:10008894-1765908000-1765910700@popfb.org
SUMMARY:No Confessions
DESCRIPTION:Date(s) of no Confessions on: 12/9\, 12/16\, 12/18\, 12/25\, 12/27\, 12/30 1/1
URL:https://popfb.org/event/no-confessions-9/2025-12-16/
CATEGORIES:Confessions,Mass & Confession Page,Parish Notice
ATTACH;FMTTYPE=image/png:https://popfb.org/wp-content/uploads/2024/02/Confessions.png
END:VEVENT
BEGIN:VEVENT
DTSTART;TZID=America/New_York:20251218T180000
DTEND;TZID=America/New_York:20251218T184500
DTSTAMP:20260422T182617
CREATED:20251121T153435Z
LAST-MODIFIED:20251209T165847Z
UID:10008895-1766080800-1766083500@popfb.org
SUMMARY:No Confessions
DESCRIPTION:Date(s) of no Confessions on: 12/9\, 12/16\, 12/18\, 12/25\, 12/27\, 12/30 1/1
URL:https://popfb.org/event/no-confessions-9/2025-12-18/
CATEGORIES:Confessions,Mass & Confession Page,Parish Notice
ATTACH;FMTTYPE=image/png:https://popfb.org/wp-content/uploads/2024/02/Confessions.png
END:VEVENT
BEGIN:VEVENT
DTSTART;TZID=America/New_York:20251225T180000
DTEND;TZID=America/New_York:20251225T184500
DTSTAMP:20260422T182617
CREATED:20251121T153435Z
LAST-MODIFIED:20251209T165847Z
UID:10008936-1766685600-1766688300@popfb.org
SUMMARY:No Confessions
DESCRIPTION:Date(s) of no Confessions on: 12/9\, 12/16\, 12/18\, 12/25\, 12/27\, 12/30 1/1
URL:https://popfb.org/event/no-confessions-9/2025-12-25/
CATEGORIES:Confessions,Mass & Confession Page,Parish Notice
ATTACH;FMTTYPE=image/png:https://popfb.org/wp-content/uploads/2024/02/Confessions.png
END:VEVENT
BEGIN:VEVENT
DTSTART;TZID=America/New_York:20260101T180000
DTEND;TZID=America/New_York:20260101T184500
DTSTAMP:20260422T182617
CREATED:20251121T153435Z
LAST-MODIFIED:20251209T165847Z
UID:10008937-1767290400-1767293100@popfb.org
SUMMARY:No Confessions
DESCRIPTION:Date(s) of no Confessions on: 12/9\, 12/16\, 12/18\, 12/25\, 12/27\, 12/30 1/1
URL:https://popfb.org/event/no-confessions-9/2026-01-01/
CATEGORIES:Confessions,Mass & Confession Page,Parish Notice
ATTACH;FMTTYPE=image/png:https://popfb.org/wp-content/uploads/2024/02/Confessions.png
END:VEVENT
END:VCALENDAR