BEGIN:VCALENDAR
VERSION:2.0
PRODID:-//Prince of Peace - ECPv6.15.16.1//NONSGML v1.0//EN
CALSCALE:GREGORIAN
METHOD:PUBLISH
X-ORIGINAL-URL:https://popfb.org
X-WR-CALDESC:Events for Prince of Peace
REFRESH-INTERVAL;VALUE=DURATION:PT1H
X-Robots-Tag:noindex
X-PUBLISHED-TTL:PT1H
BEGIN:VTIMEZONE
TZID:America/New_York
BEGIN:DAYLIGHT
TZOFFSETFROM:-0500
TZOFFSETTO:-0400
TZNAME:EDT
DTSTART:20240310T070000
END:DAYLIGHT
BEGIN:STANDARD
TZOFFSETFROM:-0400
TZOFFSETTO:-0500
TZNAME:EST
DTSTART:20241103T060000
END:STANDARD
BEGIN:DAYLIGHT
TZOFFSETFROM:-0500
TZOFFSETTO:-0400
TZNAME:EDT
DTSTART:20250309T070000
END:DAYLIGHT
BEGIN:STANDARD
TZOFFSETFROM:-0400
TZOFFSETTO:-0500
TZNAME:EST
DTSTART:20251102T060000
END:STANDARD
BEGIN:DAYLIGHT
TZOFFSETFROM:-0500
TZOFFSETTO:-0400
TZNAME:EDT
DTSTART:20260308T070000
END:DAYLIGHT
BEGIN:STANDARD
TZOFFSETFROM:-0400
TZOFFSETTO:-0500
TZNAME:EST
DTSTART:20261101T060000
END:STANDARD
END:VTIMEZONE
BEGIN:VEVENT
DTSTART;TZID=America/New_York:20250620T093000
DTEND;TZID=America/New_York:20250620T123000
DTSTAMP:20260420T053004
CREATED:20250303T123112Z
LAST-MODIFIED:20250303T123232Z
UID:10007876-1750411800-1750422600@popfb.org
SUMMARY:VBS (Weekdays)
DESCRIPTION:Vacation Bible School\nJune 16-20 (Weekdays) \nJoin us this summer as we journey to Alaska and explore the wonders of God’s Creation. Together\, we’ll discover how Jesus is our True North and experience a thrilling adventure filled with faith\, fun\, and discovery! Don’t miss out on this exciting opportunity for kids to grow closer to Jesus!
URL:https://popfb.org/event/vbs-2/2025-06-20/
CATEGORIES:Children Faith Formation,Highlighted Events
ATTACH;FMTTYPE=image/png:https://popfb.org/wp-content/uploads/2025/03/Events-Calendar-Thumbnail-website-58.png
END:VEVENT
BEGIN:VEVENT
DTSTART;TZID=America/New_York:20250619T093000
DTEND;TZID=America/New_York:20250619T123000
DTSTAMP:20260420T053004
CREATED:20250303T123112Z
LAST-MODIFIED:20250303T123232Z
UID:10007875-1750325400-1750336200@popfb.org
SUMMARY:VBS (Weekdays)
DESCRIPTION:Vacation Bible School\nJune 16-20 (Weekdays) \nJoin us this summer as we journey to Alaska and explore the wonders of God’s Creation. Together\, we’ll discover how Jesus is our True North and experience a thrilling adventure filled with faith\, fun\, and discovery! Don’t miss out on this exciting opportunity for kids to grow closer to Jesus!
URL:https://popfb.org/event/vbs-2/2025-06-19/
CATEGORIES:Children Faith Formation,Highlighted Events
ATTACH;FMTTYPE=image/png:https://popfb.org/wp-content/uploads/2025/03/Events-Calendar-Thumbnail-website-58.png
END:VEVENT
BEGIN:VEVENT
DTSTART;TZID=America/New_York:20250618T093000
DTEND;TZID=America/New_York:20250618T123000
DTSTAMP:20260420T053004
CREATED:20250303T123112Z
LAST-MODIFIED:20250303T123232Z
UID:10007874-1750239000-1750249800@popfb.org
SUMMARY:VBS (Weekdays)
DESCRIPTION:Vacation Bible School\nJune 16-20 (Weekdays) \nJoin us this summer as we journey to Alaska and explore the wonders of God’s Creation. Together\, we’ll discover how Jesus is our True North and experience a thrilling adventure filled with faith\, fun\, and discovery! Don’t miss out on this exciting opportunity for kids to grow closer to Jesus!
URL:https://popfb.org/event/vbs-2/2025-06-18/
CATEGORIES:Children Faith Formation,Highlighted Events
ATTACH;FMTTYPE=image/png:https://popfb.org/wp-content/uploads/2025/03/Events-Calendar-Thumbnail-website-58.png
END:VEVENT
BEGIN:VEVENT
DTSTART;TZID=America/New_York:20250617T093000
DTEND;TZID=America/New_York:20250617T123000
DTSTAMP:20260420T053004
CREATED:20250303T123112Z
LAST-MODIFIED:20250303T123232Z
UID:10007873-1750152600-1750163400@popfb.org
SUMMARY:VBS (Weekdays)
DESCRIPTION:Vacation Bible School\nJune 16-20 (Weekdays) \nJoin us this summer as we journey to Alaska and explore the wonders of God’s Creation. Together\, we’ll discover how Jesus is our True North and experience a thrilling adventure filled with faith\, fun\, and discovery! Don’t miss out on this exciting opportunity for kids to grow closer to Jesus!
URL:https://popfb.org/event/vbs-2/2025-06-17/
CATEGORIES:Children Faith Formation,Highlighted Events
ATTACH;FMTTYPE=image/png:https://popfb.org/wp-content/uploads/2025/03/Events-Calendar-Thumbnail-website-58.png
END:VEVENT
BEGIN:VEVENT
DTSTART;TZID=America/New_York:20250616T093000
DTEND;TZID=America/New_York:20250616T123000
DTSTAMP:20260420T053004
CREATED:20250303T123112Z
LAST-MODIFIED:20250303T123232Z
UID:10007872-1750066200-1750077000@popfb.org
SUMMARY:VBS (Weekdays)
DESCRIPTION:Vacation Bible School\nJune 16-20 (Weekdays) \nJoin us this summer as we journey to Alaska and explore the wonders of God’s Creation. Together\, we’ll discover how Jesus is our True North and experience a thrilling adventure filled with faith\, fun\, and discovery! Don’t miss out on this exciting opportunity for kids to grow closer to Jesus!
URL:https://popfb.org/event/vbs-2/2025-06-16/
CATEGORIES:Children Faith Formation,Highlighted Events
ATTACH;FMTTYPE=image/png:https://popfb.org/wp-content/uploads/2025/03/Events-Calendar-Thumbnail-website-58.png
END:VEVENT
BEGIN:VEVENT
DTSTART;TZID=America/New_York:20250517T093000
DTEND;TZID=America/New_York:20250517T110000
DTSTAMP:20260420T053004
CREATED:20250512T151812Z
LAST-MODIFIED:20250512T151812Z
UID:10008175-1747474200-1747479600@popfb.org
SUMMARY:Family Adoration
DESCRIPTION:Teaching your children to adore Jesus in the Eucharist is a gift they will never forget. Join us for our monthly Family Adoration of the Blessed Sacrament in the Blessed Sacrament Chapel. Wiggly and giggly kids of all ages and their parents are invited to come and spend time with Jesus! \nAll are welcome to come for as little or as long as you can\, but we ask\, if you are able to make the commitment\, to please sign up at the link below so we know that at least one family will be present to be a guardian for the Blessed Sacrament at all times.
URL:https://popfb.org/event/family-adoration/2025-05-17/
CATEGORIES:Adoration Page,Children Faith Formation,Family Adoration,Highlighted Events
ATTACH;FMTTYPE=image/png:https://popfb.org/wp-content/uploads/2023/09/Family-Adoration.png
END:VEVENT
BEGIN:VEVENT
DTSTART;TZID=America/New_York:20250315T093000
DTEND;TZID=America/New_York:20250315T110000
DTSTAMP:20260420T053004
CREATED:20240702T170450Z
LAST-MODIFIED:20240715T203002Z
UID:10006651-1742031000-1742036400@popfb.org
SUMMARY:Family Adoration
DESCRIPTION:Teaching your children to adore Jesus in the Eucharist is a gift they will never forget. Join us for our monthly Family Adoration of the Blessed Sacrament in the Blessed Sacrament Chapel. Wiggly and giggly kids of all ages and their parents are invited to come and spend time with Jesus! \nAll are welcome to come for as little or as long as you can\, but we ask\, if you are able to make the commitment\, to please sign up at the link below so we know that at least one family will be present to be a guardian for the Blessed Sacrament at all times.
URL:https://popfb.org/event/family-adoration-3/2025-03-15/
CATEGORIES:Adoration Page,Children Faith Formation,Family Adoration,Highlighted Events
ATTACH;FMTTYPE=image/png:https://popfb.org/wp-content/uploads/2023/09/Family-Adoration.png
END:VEVENT
END:VCALENDAR