BEGIN:VCALENDAR
VERSION:2.0
PRODID:-//Prince of Peace - ECPv6.15.16.1//NONSGML v1.0//EN
CALSCALE:GREGORIAN
METHOD:PUBLISH
X-WR-CALNAME:Prince of Peace
X-ORIGINAL-URL:https://popfb.org
X-WR-CALDESC:Events for Prince of Peace
REFRESH-INTERVAL;VALUE=DURATION:PT1H
X-Robots-Tag:noindex
X-PUBLISHED-TTL:PT1H
BEGIN:VTIMEZONE
TZID:America/New_York
BEGIN:DAYLIGHT
TZOFFSETFROM:-0500
TZOFFSETTO:-0400
TZNAME:EDT
DTSTART:20250309T070000
END:DAYLIGHT
BEGIN:STANDARD
TZOFFSETFROM:-0400
TZOFFSETTO:-0500
TZNAME:EST
DTSTART:20251102T060000
END:STANDARD
BEGIN:DAYLIGHT
TZOFFSETFROM:-0500
TZOFFSETTO:-0400
TZNAME:EDT
DTSTART:20260308T070000
END:DAYLIGHT
BEGIN:STANDARD
TZOFFSETFROM:-0400
TZOFFSETTO:-0500
TZNAME:EST
DTSTART:20261101T060000
END:STANDARD
BEGIN:DAYLIGHT
TZOFFSETFROM:-0500
TZOFFSETTO:-0400
TZNAME:EDT
DTSTART:20270314T070000
END:DAYLIGHT
BEGIN:STANDARD
TZOFFSETFROM:-0400
TZOFFSETTO:-0500
TZNAME:EST
DTSTART:20271107T060000
END:STANDARD
END:VTIMEZONE
BEGIN:VEVENT
DTSTART;VALUE=DATE:20260213
DTEND;VALUE=DATE:20260216
DTSTAMP:20260420T064016
CREATED:20251209T160524Z
LAST-MODIFIED:20251209T160524Z
UID:10008553-1770940800-1771199999@popfb.org
SUMMARY:Family Retreat 2026
DESCRIPTION:Escape for a weekend of faith\, fun\, and family connection at Camp Hidden Lake in Dahlonega\, Georgia! This retreat is designed to strengthen Catholic family life and includes: \n\nLodging and meals\nEngaging activities for both adults and children\nFamily Mass to celebrate our faith together\nLanguage options (English & Spanish)
URL:https://popfb.org/event/family-retreat-2026/
CATEGORIES:Children Faith Formation,Highlighted Events
ATTACH;FMTTYPE=image/png:https://popfb.org/wp-content/uploads/2025/12/family-retreat.png
END:VEVENT
BEGIN:VEVENT
DTSTART;TZID=America/New_York:20260221T093000
DTEND;TZID=America/New_York:20260221T110000
DTSTAMP:20260420T064016
CREATED:20250821T174722Z
LAST-MODIFIED:20260305T183010Z
UID:10008562-1771666200-1771671600@popfb.org
SUMMARY:Family Adoration
DESCRIPTION:Teaching your children to adore Jesus in the Eucharist is a gift they will never forget. Join us for our monthly Family Adoration of the Blessed Sacrament in the Blessed Sacrament Chapel. Wiggly and giggly kids of all ages and their parents are invited to come and spend time with Jesus! \nAll are welcome to come for as little or as long as you can\, but we ask\, if you are able to make the commitment\, to please sign up at the link below so we know that at least one family will be present to be a guardian for the Blessed Sacrament at all times.
URL:https://popfb.org/event/family-adoration-2/2026-02-21/
CATEGORIES:Adoration Page,Children Faith Formation,Family Adoration,Highlighted Events
ATTACH;FMTTYPE=image/png:https://popfb.org/wp-content/uploads/2025/04/Events-Calendar-Thumbnail-website-67.png
END:VEVENT
END:VCALENDAR