BEGIN:VCALENDAR
VERSION:2.0
PRODID:-//Prince of Peace - ECPv6.15.16.1//NONSGML v1.0//EN
CALSCALE:GREGORIAN
METHOD:PUBLISH
X-ORIGINAL-URL:https://popfb.org
X-WR-CALDESC:Events for Prince of Peace
REFRESH-INTERVAL;VALUE=DURATION:PT1H
X-Robots-Tag:noindex
X-PUBLISHED-TTL:PT1H
BEGIN:VTIMEZONE
TZID:America/New_York
BEGIN:DAYLIGHT
TZOFFSETFROM:-0500
TZOFFSETTO:-0400
TZNAME:EDT
DTSTART:20250309T070000
END:DAYLIGHT
BEGIN:STANDARD
TZOFFSETFROM:-0400
TZOFFSETTO:-0500
TZNAME:EST
DTSTART:20251102T060000
END:STANDARD
BEGIN:DAYLIGHT
TZOFFSETFROM:-0500
TZOFFSETTO:-0400
TZNAME:EDT
DTSTART:20260308T070000
END:DAYLIGHT
BEGIN:STANDARD
TZOFFSETFROM:-0400
TZOFFSETTO:-0500
TZNAME:EST
DTSTART:20261101T060000
END:STANDARD
BEGIN:DAYLIGHT
TZOFFSETFROM:-0500
TZOFFSETTO:-0400
TZNAME:EDT
DTSTART:20270314T070000
END:DAYLIGHT
BEGIN:STANDARD
TZOFFSETFROM:-0400
TZOFFSETTO:-0500
TZNAME:EST
DTSTART:20271107T060000
END:STANDARD
END:VTIMEZONE
BEGIN:VEVENT
DTSTART;TZID=America/New_York:20260203T190000
DTEND;TZID=America/New_York:20260203T210000
DTSTAMP:20260421T083127
CREATED:20260122T124039Z
LAST-MODIFIED:20260305T181630Z
UID:10009489-1770145200-1770152400@popfb.org
SUMMARY:Prayer and Life Workshop (EN)
DESCRIPTION:Do you want to learn to achieve silence and peace? To free you from anguish and fear? \nCome\, learn to live\, attend a Prayer and Life Workshop! During the 15 week workshop participants will learn a practical method of prayer\, learning to pray by praying. Through the practice of faith and surrender and as a result of praying\, participants begin to heal the wounds of the heart and experience greater serenity. By contemplating the image of Jesus and imitating his characteristics\, participants slowly begin to be transformed into a person more like Jesus.
URL:https://popfb.org/event/prayer-and-life-workshop-en/2026-02-03/
CATEGORIES:Adult Faith Formation
ATTACH;FMTTYPE=image/png:https://popfb.org/wp-content/uploads/2026/01/Prayer-and-Life-Workshop-1.png
END:VEVENT
BEGIN:VEVENT
DTSTART;TZID=America/New_York:20260205T100000
DTEND;TZID=America/New_York:20260205T113000
DTSTAMP:20260421T083127
CREATED:20251227T145524Z
LAST-MODIFIED:20260305T182040Z
UID:10009122-1770285600-1770291000@popfb.org
SUMMARY:Follow Me: Meeting Jesus in the Gospel of John
DESCRIPTION:• 8 week Bible Study in English\n• Feb 5 – Mar 26\, 2026\n• 10am OR 7pm \nFollowing Christ takes more than simply believing in him or doing what he asks of us. Jesus wants you to be more than just a believer. He wants you to be his disciple and friend. \nFollow Me: Meeting Jesus in the Gospel of John is your guide to a personal encounter with Christ. As the Good Shepherd\, Jesus seeks us. He comes to meet us and beckons us to follow him. He calls us to be his disciples\, to trust him\, to open ourselves to his merciful love\, and to love others as he has loved us. \nFollow Me invites you to experience the joy of a renewed friendship with Christ. In this study you will learn what it takes to follow Christ and discover the joy of divine friendship. You will see how God\, and only God\, can satisfy the deepest desires of your heart. \nFor questions\, contact Suzanne Coughlin at suzanne@popfb.org.
URL:https://popfb.org/event/follow-me-meeting-jesus-in-the-gospel-of-john/2026-02-05/1/
CATEGORIES:Adult Faith Formation,Highlighted Events
ATTACH;FMTTYPE=image/png:https://popfb.org/wp-content/uploads/2026/01/Events-Calendar-Thumbnail-website-62.png
END:VEVENT
BEGIN:VEVENT
DTSTART;TZID=America/New_York:20260205T190000
DTEND;TZID=America/New_York:20260205T203000
DTSTAMP:20260421T083127
CREATED:20251227T142700Z
LAST-MODIFIED:20260305T182237Z
UID:10009094-1770318000-1770323400@popfb.org
SUMMARY:Encountering Jesus in the Gospel of John
DESCRIPTION:• January 22 – March 26\n• Thursdays at 7:00pm\n• In Spanish \nEncountering Jesus in the Gospel of John invites you into a deeper relationship with Christ. Discover Jesus as the Good Shepherd who seeks us\, calls us by name\, and invites us to trust him\, follow him\, and grow in faith and lasting joy. \nContact: carmela@popfb.org
URL:https://popfb.org/event/encountering-jesus-in-the-gospel-of-john/2026-02-05/
CATEGORIES:Adult Faith Formation,Highlighted Events
ATTACH;FMTTYPE=image/png:https://popfb.org/wp-content/uploads/2025/12/Events-Calendar-Thumbnail-website-65.png
END:VEVENT
BEGIN:VEVENT
DTSTART;TZID=America/New_York:20260205T190000
DTEND;TZID=America/New_York:20260205T203000
DTSTAMP:20260421T083127
CREATED:20251227T145524Z
LAST-MODIFIED:20260305T182040Z
UID:10009154-1770318000-1770323400@popfb.org
SUMMARY:Follow Me: Meeting Jesus in the Gospel of John
DESCRIPTION:• 8 week Bible Study in English\n• Feb 5 – Mar 26\, 2026\n• 10am OR 7pm \nFollowing Christ takes more than simply believing in him or doing what he asks of us. Jesus wants you to be more than just a believer. He wants you to be his disciple and friend. \nFollow Me: Meeting Jesus in the Gospel of John is your guide to a personal encounter with Christ. As the Good Shepherd\, Jesus seeks us. He comes to meet us and beckons us to follow him. He calls us to be his disciples\, to trust him\, to open ourselves to his merciful love\, and to love others as he has loved us. \nFollow Me invites you to experience the joy of a renewed friendship with Christ. In this study you will learn what it takes to follow Christ and discover the joy of divine friendship. You will see how God\, and only God\, can satisfy the deepest desires of your heart. \nFor questions\, contact Suzanne Coughlin at suzanne@popfb.org.
URL:https://popfb.org/event/follow-me-meeting-jesus-in-the-gospel-of-john/2026-02-05/2/
CATEGORIES:Adult Faith Formation,Highlighted Events
ATTACH;FMTTYPE=image/png:https://popfb.org/wp-content/uploads/2026/01/Events-Calendar-Thumbnail-website-62.png
END:VEVENT
BEGIN:VEVENT
DTSTART;TZID=America/New_York:20260210T190000
DTEND;TZID=America/New_York:20260210T210000
DTSTAMP:20260421T083127
CREATED:20260122T124039Z
LAST-MODIFIED:20260305T181630Z
UID:10009490-1770750000-1770757200@popfb.org
SUMMARY:Prayer and Life Workshop (EN)
DESCRIPTION:Do you want to learn to achieve silence and peace? To free you from anguish and fear? \nCome\, learn to live\, attend a Prayer and Life Workshop! During the 15 week workshop participants will learn a practical method of prayer\, learning to pray by praying. Through the practice of faith and surrender and as a result of praying\, participants begin to heal the wounds of the heart and experience greater serenity. By contemplating the image of Jesus and imitating his characteristics\, participants slowly begin to be transformed into a person more like Jesus.
URL:https://popfb.org/event/prayer-and-life-workshop-en/2026-02-10/
CATEGORIES:Adult Faith Formation
ATTACH;FMTTYPE=image/png:https://popfb.org/wp-content/uploads/2026/01/Prayer-and-Life-Workshop-1.png
END:VEVENT
BEGIN:VEVENT
DTSTART;TZID=America/New_York:20260212T100000
DTEND;TZID=America/New_York:20260212T113000
DTSTAMP:20260421T083127
CREATED:20251227T145524Z
LAST-MODIFIED:20260305T182040Z
UID:10009123-1770890400-1770895800@popfb.org
SUMMARY:Follow Me: Meeting Jesus in the Gospel of John
DESCRIPTION:• 8 week Bible Study in English\n• Feb 5 – Mar 26\, 2026\n• 10am OR 7pm \nFollowing Christ takes more than simply believing in him or doing what he asks of us. Jesus wants you to be more than just a believer. He wants you to be his disciple and friend. \nFollow Me: Meeting Jesus in the Gospel of John is your guide to a personal encounter with Christ. As the Good Shepherd\, Jesus seeks us. He comes to meet us and beckons us to follow him. He calls us to be his disciples\, to trust him\, to open ourselves to his merciful love\, and to love others as he has loved us. \nFollow Me invites you to experience the joy of a renewed friendship with Christ. In this study you will learn what it takes to follow Christ and discover the joy of divine friendship. You will see how God\, and only God\, can satisfy the deepest desires of your heart. \nFor questions\, contact Suzanne Coughlin at suzanne@popfb.org.
URL:https://popfb.org/event/follow-me-meeting-jesus-in-the-gospel-of-john/2026-02-12/1/
CATEGORIES:Adult Faith Formation,Highlighted Events
ATTACH;FMTTYPE=image/png:https://popfb.org/wp-content/uploads/2026/01/Events-Calendar-Thumbnail-website-62.png
END:VEVENT
BEGIN:VEVENT
DTSTART;TZID=America/New_York:20260212T190000
DTEND;TZID=America/New_York:20260212T203000
DTSTAMP:20260421T083127
CREATED:20251227T142700Z
LAST-MODIFIED:20260305T182237Z
UID:10009095-1770922800-1770928200@popfb.org
SUMMARY:Encountering Jesus in the Gospel of John
DESCRIPTION:• January 22 – March 26\n• Thursdays at 7:00pm\n• In Spanish \nEncountering Jesus in the Gospel of John invites you into a deeper relationship with Christ. Discover Jesus as the Good Shepherd who seeks us\, calls us by name\, and invites us to trust him\, follow him\, and grow in faith and lasting joy. \nContact: carmela@popfb.org
URL:https://popfb.org/event/encountering-jesus-in-the-gospel-of-john/2026-02-12/
CATEGORIES:Adult Faith Formation,Highlighted Events
ATTACH;FMTTYPE=image/png:https://popfb.org/wp-content/uploads/2025/12/Events-Calendar-Thumbnail-website-65.png
END:VEVENT
BEGIN:VEVENT
DTSTART;TZID=America/New_York:20260212T190000
DTEND;TZID=America/New_York:20260212T203000
DTSTAMP:20260421T083127
CREATED:20251227T145524Z
LAST-MODIFIED:20260305T182040Z
UID:10009155-1770922800-1770928200@popfb.org
SUMMARY:Follow Me: Meeting Jesus in the Gospel of John
DESCRIPTION:• 8 week Bible Study in English\n• Feb 5 – Mar 26\, 2026\n• 10am OR 7pm \nFollowing Christ takes more than simply believing in him or doing what he asks of us. Jesus wants you to be more than just a believer. He wants you to be his disciple and friend. \nFollow Me: Meeting Jesus in the Gospel of John is your guide to a personal encounter with Christ. As the Good Shepherd\, Jesus seeks us. He comes to meet us and beckons us to follow him. He calls us to be his disciples\, to trust him\, to open ourselves to his merciful love\, and to love others as he has loved us. \nFollow Me invites you to experience the joy of a renewed friendship with Christ. In this study you will learn what it takes to follow Christ and discover the joy of divine friendship. You will see how God\, and only God\, can satisfy the deepest desires of your heart. \nFor questions\, contact Suzanne Coughlin at suzanne@popfb.org.
URL:https://popfb.org/event/follow-me-meeting-jesus-in-the-gospel-of-john/2026-02-12/2/
CATEGORIES:Adult Faith Formation,Highlighted Events
ATTACH;FMTTYPE=image/png:https://popfb.org/wp-content/uploads/2026/01/Events-Calendar-Thumbnail-website-62.png
END:VEVENT
BEGIN:VEVENT
DTSTART;TZID=America/New_York:20260217T190000
DTEND;TZID=America/New_York:20260217T210000
DTSTAMP:20260421T083127
CREATED:20260122T124039Z
LAST-MODIFIED:20260305T181630Z
UID:10009491-1771354800-1771362000@popfb.org
SUMMARY:Prayer and Life Workshop (EN)
DESCRIPTION:Do you want to learn to achieve silence and peace? To free you from anguish and fear? \nCome\, learn to live\, attend a Prayer and Life Workshop! During the 15 week workshop participants will learn a practical method of prayer\, learning to pray by praying. Through the practice of faith and surrender and as a result of praying\, participants begin to heal the wounds of the heart and experience greater serenity. By contemplating the image of Jesus and imitating his characteristics\, participants slowly begin to be transformed into a person more like Jesus.
URL:https://popfb.org/event/prayer-and-life-workshop-en/2026-02-17/
CATEGORIES:Adult Faith Formation
ATTACH;FMTTYPE=image/png:https://popfb.org/wp-content/uploads/2026/01/Prayer-and-Life-Workshop-1.png
END:VEVENT
BEGIN:VEVENT
DTSTART;TZID=America/New_York:20260219T100000
DTEND;TZID=America/New_York:20260219T113000
DTSTAMP:20260421T083127
CREATED:20251227T145524Z
LAST-MODIFIED:20260305T182040Z
UID:10009124-1771495200-1771500600@popfb.org
SUMMARY:Follow Me: Meeting Jesus in the Gospel of John
DESCRIPTION:• 8 week Bible Study in English\n• Feb 5 – Mar 26\, 2026\n• 10am OR 7pm \nFollowing Christ takes more than simply believing in him or doing what he asks of us. Jesus wants you to be more than just a believer. He wants you to be his disciple and friend. \nFollow Me: Meeting Jesus in the Gospel of John is your guide to a personal encounter with Christ. As the Good Shepherd\, Jesus seeks us. He comes to meet us and beckons us to follow him. He calls us to be his disciples\, to trust him\, to open ourselves to his merciful love\, and to love others as he has loved us. \nFollow Me invites you to experience the joy of a renewed friendship with Christ. In this study you will learn what it takes to follow Christ and discover the joy of divine friendship. You will see how God\, and only God\, can satisfy the deepest desires of your heart. \nFor questions\, contact Suzanne Coughlin at suzanne@popfb.org.
URL:https://popfb.org/event/follow-me-meeting-jesus-in-the-gospel-of-john/2026-02-19/1/
CATEGORIES:Adult Faith Formation,Highlighted Events
ATTACH;FMTTYPE=image/png:https://popfb.org/wp-content/uploads/2026/01/Events-Calendar-Thumbnail-website-62.png
END:VEVENT
BEGIN:VEVENT
DTSTART;TZID=America/New_York:20260219T190000
DTEND;TZID=America/New_York:20260219T203000
DTSTAMP:20260421T083127
CREATED:20251227T142700Z
LAST-MODIFIED:20260305T182237Z
UID:10009096-1771527600-1771533000@popfb.org
SUMMARY:Encountering Jesus in the Gospel of John
DESCRIPTION:• January 22 – March 26\n• Thursdays at 7:00pm\n• In Spanish \nEncountering Jesus in the Gospel of John invites you into a deeper relationship with Christ. Discover Jesus as the Good Shepherd who seeks us\, calls us by name\, and invites us to trust him\, follow him\, and grow in faith and lasting joy. \nContact: carmela@popfb.org
URL:https://popfb.org/event/encountering-jesus-in-the-gospel-of-john/2026-02-19/
CATEGORIES:Adult Faith Formation,Highlighted Events
ATTACH;FMTTYPE=image/png:https://popfb.org/wp-content/uploads/2025/12/Events-Calendar-Thumbnail-website-65.png
END:VEVENT
BEGIN:VEVENT
DTSTART;TZID=America/New_York:20260219T190000
DTEND;TZID=America/New_York:20260219T203000
DTSTAMP:20260421T083127
CREATED:20251227T145524Z
LAST-MODIFIED:20260305T182040Z
UID:10009156-1771527600-1771533000@popfb.org
SUMMARY:Follow Me: Meeting Jesus in the Gospel of John
DESCRIPTION:• 8 week Bible Study in English\n• Feb 5 – Mar 26\, 2026\n• 10am OR 7pm \nFollowing Christ takes more than simply believing in him or doing what he asks of us. Jesus wants you to be more than just a believer. He wants you to be his disciple and friend. \nFollow Me: Meeting Jesus in the Gospel of John is your guide to a personal encounter with Christ. As the Good Shepherd\, Jesus seeks us. He comes to meet us and beckons us to follow him. He calls us to be his disciples\, to trust him\, to open ourselves to his merciful love\, and to love others as he has loved us. \nFollow Me invites you to experience the joy of a renewed friendship with Christ. In this study you will learn what it takes to follow Christ and discover the joy of divine friendship. You will see how God\, and only God\, can satisfy the deepest desires of your heart. \nFor questions\, contact Suzanne Coughlin at suzanne@popfb.org.
URL:https://popfb.org/event/follow-me-meeting-jesus-in-the-gospel-of-john/2026-02-19/2/
CATEGORIES:Adult Faith Formation,Highlighted Events
ATTACH;FMTTYPE=image/png:https://popfb.org/wp-content/uploads/2026/01/Events-Calendar-Thumbnail-website-62.png
END:VEVENT
BEGIN:VEVENT
DTSTART;TZID=America/New_York:20260224T190000
DTEND;TZID=America/New_York:20260224T210000
DTSTAMP:20260421T083127
CREATED:20260122T124039Z
LAST-MODIFIED:20260305T181630Z
UID:10009492-1771959600-1771966800@popfb.org
SUMMARY:Prayer and Life Workshop (EN)
DESCRIPTION:Do you want to learn to achieve silence and peace? To free you from anguish and fear? \nCome\, learn to live\, attend a Prayer and Life Workshop! During the 15 week workshop participants will learn a practical method of prayer\, learning to pray by praying. Through the practice of faith and surrender and as a result of praying\, participants begin to heal the wounds of the heart and experience greater serenity. By contemplating the image of Jesus and imitating his characteristics\, participants slowly begin to be transformed into a person more like Jesus.
URL:https://popfb.org/event/prayer-and-life-workshop-en/2026-02-24/
CATEGORIES:Adult Faith Formation
ATTACH;FMTTYPE=image/png:https://popfb.org/wp-content/uploads/2026/01/Prayer-and-Life-Workshop-1.png
END:VEVENT
BEGIN:VEVENT
DTSTART;TZID=America/New_York:20260226T100000
DTEND;TZID=America/New_York:20260226T113000
DTSTAMP:20260421T083127
CREATED:20251227T145524Z
LAST-MODIFIED:20260305T182040Z
UID:10009125-1772100000-1772105400@popfb.org
SUMMARY:Follow Me: Meeting Jesus in the Gospel of John
DESCRIPTION:• 8 week Bible Study in English\n• Feb 5 – Mar 26\, 2026\n• 10am OR 7pm \nFollowing Christ takes more than simply believing in him or doing what he asks of us. Jesus wants you to be more than just a believer. He wants you to be his disciple and friend. \nFollow Me: Meeting Jesus in the Gospel of John is your guide to a personal encounter with Christ. As the Good Shepherd\, Jesus seeks us. He comes to meet us and beckons us to follow him. He calls us to be his disciples\, to trust him\, to open ourselves to his merciful love\, and to love others as he has loved us. \nFollow Me invites you to experience the joy of a renewed friendship with Christ. In this study you will learn what it takes to follow Christ and discover the joy of divine friendship. You will see how God\, and only God\, can satisfy the deepest desires of your heart. \nFor questions\, contact Suzanne Coughlin at suzanne@popfb.org.
URL:https://popfb.org/event/follow-me-meeting-jesus-in-the-gospel-of-john/2026-02-26/1/
CATEGORIES:Adult Faith Formation,Highlighted Events
ATTACH;FMTTYPE=image/png:https://popfb.org/wp-content/uploads/2026/01/Events-Calendar-Thumbnail-website-62.png
END:VEVENT
BEGIN:VEVENT
DTSTART;TZID=America/New_York:20260226T190000
DTEND;TZID=America/New_York:20260226T203000
DTSTAMP:20260421T083127
CREATED:20251227T142700Z
LAST-MODIFIED:20260305T182237Z
UID:10009097-1772132400-1772137800@popfb.org
SUMMARY:Encountering Jesus in the Gospel of John
DESCRIPTION:• January 22 – March 26\n• Thursdays at 7:00pm\n• In Spanish \nEncountering Jesus in the Gospel of John invites you into a deeper relationship with Christ. Discover Jesus as the Good Shepherd who seeks us\, calls us by name\, and invites us to trust him\, follow him\, and grow in faith and lasting joy. \nContact: carmela@popfb.org
URL:https://popfb.org/event/encountering-jesus-in-the-gospel-of-john/2026-02-26/
CATEGORIES:Adult Faith Formation,Highlighted Events
ATTACH;FMTTYPE=image/png:https://popfb.org/wp-content/uploads/2025/12/Events-Calendar-Thumbnail-website-65.png
END:VEVENT
BEGIN:VEVENT
DTSTART;TZID=America/New_York:20260226T190000
DTEND;TZID=America/New_York:20260226T203000
DTSTAMP:20260421T083127
CREATED:20251227T145524Z
LAST-MODIFIED:20260305T182040Z
UID:10009157-1772132400-1772137800@popfb.org
SUMMARY:Follow Me: Meeting Jesus in the Gospel of John
DESCRIPTION:• 8 week Bible Study in English\n• Feb 5 – Mar 26\, 2026\n• 10am OR 7pm \nFollowing Christ takes more than simply believing in him or doing what he asks of us. Jesus wants you to be more than just a believer. He wants you to be his disciple and friend. \nFollow Me: Meeting Jesus in the Gospel of John is your guide to a personal encounter with Christ. As the Good Shepherd\, Jesus seeks us. He comes to meet us and beckons us to follow him. He calls us to be his disciples\, to trust him\, to open ourselves to his merciful love\, and to love others as he has loved us. \nFollow Me invites you to experience the joy of a renewed friendship with Christ. In this study you will learn what it takes to follow Christ and discover the joy of divine friendship. You will see how God\, and only God\, can satisfy the deepest desires of your heart. \nFor questions\, contact Suzanne Coughlin at suzanne@popfb.org.
URL:https://popfb.org/event/follow-me-meeting-jesus-in-the-gospel-of-john/2026-02-26/2/
CATEGORIES:Adult Faith Formation,Highlighted Events
ATTACH;FMTTYPE=image/png:https://popfb.org/wp-content/uploads/2026/01/Events-Calendar-Thumbnail-website-62.png
END:VEVENT
END:VCALENDAR