BEGIN:VCALENDAR
VERSION:2.0
PRODID:-//Prince of Peace - ECPv6.15.16.1//NONSGML v1.0//EN
CALSCALE:GREGORIAN
METHOD:PUBLISH
X-WR-CALNAME:Prince of Peace
X-ORIGINAL-URL:https://popfb.org
X-WR-CALDESC:Events for Prince of Peace
REFRESH-INTERVAL;VALUE=DURATION:PT1H
X-Robots-Tag:noindex
X-PUBLISHED-TTL:PT1H
BEGIN:VTIMEZONE
TZID:America/New_York
BEGIN:DAYLIGHT
TZOFFSETFROM:-0500
TZOFFSETTO:-0400
TZNAME:EDT
DTSTART:20240310T070000
END:DAYLIGHT
BEGIN:STANDARD
TZOFFSETFROM:-0400
TZOFFSETTO:-0500
TZNAME:EST
DTSTART:20241103T060000
END:STANDARD
BEGIN:DAYLIGHT
TZOFFSETFROM:-0500
TZOFFSETTO:-0400
TZNAME:EDT
DTSTART:20250309T070000
END:DAYLIGHT
BEGIN:STANDARD
TZOFFSETFROM:-0400
TZOFFSETTO:-0500
TZNAME:EST
DTSTART:20251102T060000
END:STANDARD
BEGIN:DAYLIGHT
TZOFFSETFROM:-0500
TZOFFSETTO:-0400
TZNAME:EDT
DTSTART:20260308T070000
END:DAYLIGHT
BEGIN:STANDARD
TZOFFSETFROM:-0400
TZOFFSETTO:-0500
TZNAME:EST
DTSTART:20261101T060000
END:STANDARD
END:VTIMEZONE
BEGIN:VEVENT
DTSTART;TZID=America/New_York:20251205T200000
DTEND;TZID=America/New_York:20251205T213000
DTSTAMP:20260421T101509
CREATED:20251113T182513Z
LAST-MODIFIED:20251113T182513Z
UID:10008845-1764964800-1764970200@popfb.org
SUMMARY:Advent\, A Kairos of Hope & Renewal (ES)
DESCRIPTION:Presented by Pablo and Ana Correa in Spanish \nFriday\, December 5 | 8:00–9:30 PM \nIn a world where daily noise can distract us from our spiritual purpose\, Advent\, a season of waiting and preparation\, offers us the opportunity to pause\, breathe\, and turn our gaze back to God. \nWe invite you during this “favorable time” to take a moment along life’s journey and reflect on how the theological virtues of faith\, hope\, and charity can become the guiding center that leads our hearts and actions toward a future illuminated by the light of Christ. Let us begin the new year renewed by His birth. \nFor questions\, contact Carmela Treviño at 678-960-0069 or carmela@popfb.org.
URL:https://popfb.org/event/advent-a-kairos-of-hope-renewal-es/
CATEGORIES:Adult Faith Formation,Highlighted Events
END:VEVENT
END:VCALENDAR