BEGIN:VCALENDAR
VERSION:2.0
PRODID:-//Prince of Peace - ECPv6.15.16.1//NONSGML v1.0//EN
CALSCALE:GREGORIAN
METHOD:PUBLISH
X-ORIGINAL-URL:https://popfb.org
X-WR-CALDESC:Events for Prince of Peace
REFRESH-INTERVAL;VALUE=DURATION:PT1H
X-Robots-Tag:noindex
X-PUBLISHED-TTL:PT1H
BEGIN:VTIMEZONE
TZID:America/New_York
BEGIN:DAYLIGHT
TZOFFSETFROM:-0500
TZOFFSETTO:-0400
TZNAME:EDT
DTSTART:20240310T070000
END:DAYLIGHT
BEGIN:STANDARD
TZOFFSETFROM:-0400
TZOFFSETTO:-0500
TZNAME:EST
DTSTART:20241103T060000
END:STANDARD
BEGIN:DAYLIGHT
TZOFFSETFROM:-0500
TZOFFSETTO:-0400
TZNAME:EDT
DTSTART:20250309T070000
END:DAYLIGHT
BEGIN:STANDARD
TZOFFSETFROM:-0400
TZOFFSETTO:-0500
TZNAME:EST
DTSTART:20251102T060000
END:STANDARD
BEGIN:DAYLIGHT
TZOFFSETFROM:-0500
TZOFFSETTO:-0400
TZNAME:EDT
DTSTART:20260308T070000
END:DAYLIGHT
BEGIN:STANDARD
TZOFFSETFROM:-0400
TZOFFSETTO:-0500
TZNAME:EST
DTSTART:20261101T060000
END:STANDARD
END:VTIMEZONE
BEGIN:VEVENT
DTSTART;TZID=America/New_York:20251002T100000
DTEND;TZID=America/New_York:20251002T113000
DTSTAMP:20260421T132121
CREATED:20250814T182804Z
LAST-MODIFIED:20250814T182804Z
UID:10008459-1759399200-1759404600@popfb.org
SUMMARY:Luke: The Story of Salvation Fulfilled
DESCRIPTION:• 8 Week Bible Study in English\n• 9/11/25 – 10/30/25\n• 10am or 7pm \nThe Gospel of Luke takes you on a journey that begins with the foretelling of John the Baptist’s birth and culminates in Jesus’ ascension into heaven. Along the way\, you will witness key moments in salvation history\, including the Annunciation; the Nativity; Jesus’ baptism; his public ministry; the Last Supper; and Jesus’ suffering\, death\, and glorious Resurrection. The Gospel’s powerful prose and beautiful details will deepen your desire to draw closer to Jesus and be transformed by his teachings. \nThe Gospel of Luke continually reveals how Jesus is the fulfillment of Old Testament prophecies. With Luke: The Story of Salvation Fulfilled\, you will experience joy as you see how God has been faithful throughout the ages and how God’s promise can guide you in your everyday lives. \nFor questions\, contact Suzanne Coughlin at suzanne@popfb.org.
URL:https://popfb.org/event/luke-the-story-of-salvation-fulfilled/2025-10-02/
CATEGORIES:Adult Faith Formation,Highlighted Events
ATTACH;FMTTYPE=image/png:https://popfb.org/wp-content/uploads/2025/08/Events-Calendar-Thumbnail-website-11.png
END:VEVENT
BEGIN:VEVENT
DTSTART;TZID=America/New_York:20251002T190000
DTEND;TZID=America/New_York:20251002T203000
DTSTAMP:20260421T132121
CREATED:20250827T181802Z
LAST-MODIFIED:20250827T181802Z
UID:10008598-1759431600-1759437000@popfb.org
SUMMARY:Luke: The Story of Salvation Fulfilled
DESCRIPTION:• 8 Week Bible Study in English\n• 9/11/25 – 10/30/25\n• 10am or 7pm \nThe Gospel of Luke takes you on a journey that begins with the foretelling of John the Baptist’s birth and culminates in Jesus’ ascension into heaven. Along the way\, you will witness key moments in salvation history\, including the Annunciation; the Nativity; Jesus’ baptism; his public ministry; the Last Supper; and Jesus’ suffering\, death\, and glorious Resurrection. The Gospel’s powerful prose and beautiful details will deepen your desire to draw closer to Jesus and be transformed by his teachings. \nThe Gospel of Luke continually reveals how Jesus is the fulfillment of Old Testament prophecies. With Luke: The Story of Salvation Fulfilled\, you will experience joy as you see how God has been faithful throughout the ages and how God’s promise can guide you in your everyday lives. \nFor questions\, contact Suzanne Coughlin at suzanne@popfb.org.
URL:https://popfb.org/event/luke-the-story-of-salvation-fulfilled-2/2025-10-02/
CATEGORIES:Adult Faith Formation,Highlighted Events
ATTACH;FMTTYPE=image/png:https://popfb.org/wp-content/uploads/2025/08/Events-Calendar-Thumbnail-website-11.png
END:VEVENT
BEGIN:VEVENT
DTSTART;TZID=America/New_York:20251007T100000
DTEND;TZID=America/New_York:20251007T120000
DTSTAMP:20260421T132121
CREATED:20250804T161205Z
LAST-MODIFIED:20250828T181857Z
UID:10008499-1759831200-1759838400@popfb.org
SUMMARY:Prayer and Life Workshops (EN)
DESCRIPTION:Do you want to learn to achieve silence and peace? To free you from anguish and fear? \nCome\, learn to live\, attend a Prayer and Life Workshop! During the 15 week workshop participants will learn a practical method of prayer\, learning to pray by praying. Through the practice of faith and surrender and as a result of praying\, participants begin to heal the wounds of the heart and experience greater serenity. By contemplating the image of Jesus and imitating his characteristics\, participants slowly begin to be transformed into a person more like Jesus.
URL:https://popfb.org/event/prayer-and-life-workshops-eng-3/2025-10-07/
CATEGORIES:Adult Faith Formation
ATTACH;FMTTYPE=image/png:https://popfb.org/wp-content/uploads/2025/08/Prayer-and-Life-Workshop.png
END:VEVENT
BEGIN:VEVENT
DTSTART;TZID=America/New_York:20251007T190000
DTEND;TZID=America/New_York:20251007T210000
DTSTAMP:20260421T132121
CREATED:20250804T161416Z
LAST-MODIFIED:20250828T182210Z
UID:10008529-1759863600-1759870800@popfb.org
SUMMARY:Prayer and Life Workshops (ES)
DESCRIPTION:Do you want to learn to achieve silence and peace? To free you from anguish and fear? \nCome\, learn to live\, attend a Prayer and Life Workshop! During the 15 week workshop participants will learn a practical method of prayer\, learning to pray by praying. Through the practice of faith and surrender and as a result of praying\, participants begin to heal the wounds of the heart and experience greater serenity. By contemplating the image of Jesus and imitating his characteristics\, participants slowly begin to be transformed into a person more like Jesus.
URL:https://popfb.org/event/prayer-and-life-workshops-esp-2/2025-10-07/
CATEGORIES:Adult Faith Formation
END:VEVENT
BEGIN:VEVENT
DTSTART;TZID=America/New_York:20251009T100000
DTEND;TZID=America/New_York:20251009T113000
DTSTAMP:20260421T132121
CREATED:20250814T182804Z
LAST-MODIFIED:20250814T182804Z
UID:10008460-1760004000-1760009400@popfb.org
SUMMARY:Luke: The Story of Salvation Fulfilled
DESCRIPTION:• 8 Week Bible Study in English\n• 9/11/25 – 10/30/25\n• 10am or 7pm \nThe Gospel of Luke takes you on a journey that begins with the foretelling of John the Baptist’s birth and culminates in Jesus’ ascension into heaven. Along the way\, you will witness key moments in salvation history\, including the Annunciation; the Nativity; Jesus’ baptism; his public ministry; the Last Supper; and Jesus’ suffering\, death\, and glorious Resurrection. The Gospel’s powerful prose and beautiful details will deepen your desire to draw closer to Jesus and be transformed by his teachings. \nThe Gospel of Luke continually reveals how Jesus is the fulfillment of Old Testament prophecies. With Luke: The Story of Salvation Fulfilled\, you will experience joy as you see how God has been faithful throughout the ages and how God’s promise can guide you in your everyday lives. \nFor questions\, contact Suzanne Coughlin at suzanne@popfb.org.
URL:https://popfb.org/event/luke-the-story-of-salvation-fulfilled/2025-10-09/
CATEGORIES:Adult Faith Formation,Highlighted Events
ATTACH;FMTTYPE=image/png:https://popfb.org/wp-content/uploads/2025/08/Events-Calendar-Thumbnail-website-11.png
END:VEVENT
BEGIN:VEVENT
DTSTART;TZID=America/New_York:20251009T190000
DTEND;TZID=America/New_York:20251009T203000
DTSTAMP:20260421T132121
CREATED:20250827T181802Z
LAST-MODIFIED:20250827T181802Z
UID:10008599-1760036400-1760041800@popfb.org
SUMMARY:Luke: The Story of Salvation Fulfilled
DESCRIPTION:• 8 Week Bible Study in English\n• 9/11/25 – 10/30/25\n• 10am or 7pm \nThe Gospel of Luke takes you on a journey that begins with the foretelling of John the Baptist’s birth and culminates in Jesus’ ascension into heaven. Along the way\, you will witness key moments in salvation history\, including the Annunciation; the Nativity; Jesus’ baptism; his public ministry; the Last Supper; and Jesus’ suffering\, death\, and glorious Resurrection. The Gospel’s powerful prose and beautiful details will deepen your desire to draw closer to Jesus and be transformed by his teachings. \nThe Gospel of Luke continually reveals how Jesus is the fulfillment of Old Testament prophecies. With Luke: The Story of Salvation Fulfilled\, you will experience joy as you see how God has been faithful throughout the ages and how God’s promise can guide you in your everyday lives. \nFor questions\, contact Suzanne Coughlin at suzanne@popfb.org.
URL:https://popfb.org/event/luke-the-story-of-salvation-fulfilled-2/2025-10-09/
CATEGORIES:Adult Faith Formation,Highlighted Events
ATTACH;FMTTYPE=image/png:https://popfb.org/wp-content/uploads/2025/08/Events-Calendar-Thumbnail-website-11.png
END:VEVENT
BEGIN:VEVENT
DTSTART;TZID=America/New_York:20251014T100000
DTEND;TZID=America/New_York:20251014T120000
DTSTAMP:20260421T132121
CREATED:20250804T161205Z
LAST-MODIFIED:20250828T181857Z
UID:10008500-1760436000-1760443200@popfb.org
SUMMARY:Prayer and Life Workshops (EN)
DESCRIPTION:Do you want to learn to achieve silence and peace? To free you from anguish and fear? \nCome\, learn to live\, attend a Prayer and Life Workshop! During the 15 week workshop participants will learn a practical method of prayer\, learning to pray by praying. Through the practice of faith and surrender and as a result of praying\, participants begin to heal the wounds of the heart and experience greater serenity. By contemplating the image of Jesus and imitating his characteristics\, participants slowly begin to be transformed into a person more like Jesus.
URL:https://popfb.org/event/prayer-and-life-workshops-eng-3/2025-10-14/
CATEGORIES:Adult Faith Formation
ATTACH;FMTTYPE=image/png:https://popfb.org/wp-content/uploads/2025/08/Prayer-and-Life-Workshop.png
END:VEVENT
BEGIN:VEVENT
DTSTART;TZID=America/New_York:20251014T190000
DTEND;TZID=America/New_York:20251014T210000
DTSTAMP:20260421T132121
CREATED:20250804T161416Z
LAST-MODIFIED:20250828T182210Z
UID:10008530-1760468400-1760475600@popfb.org
SUMMARY:Prayer and Life Workshops (ES)
DESCRIPTION:Do you want to learn to achieve silence and peace? To free you from anguish and fear? \nCome\, learn to live\, attend a Prayer and Life Workshop! During the 15 week workshop participants will learn a practical method of prayer\, learning to pray by praying. Through the practice of faith and surrender and as a result of praying\, participants begin to heal the wounds of the heart and experience greater serenity. By contemplating the image of Jesus and imitating his characteristics\, participants slowly begin to be transformed into a person more like Jesus.
URL:https://popfb.org/event/prayer-and-life-workshops-esp-2/2025-10-14/
CATEGORIES:Adult Faith Formation
END:VEVENT
BEGIN:VEVENT
DTSTART;TZID=America/New_York:20251016T100000
DTEND;TZID=America/New_York:20251016T113000
DTSTAMP:20260421T132121
CREATED:20250814T182804Z
LAST-MODIFIED:20250814T182804Z
UID:10008461-1760608800-1760614200@popfb.org
SUMMARY:Luke: The Story of Salvation Fulfilled
DESCRIPTION:• 8 Week Bible Study in English\n• 9/11/25 – 10/30/25\n• 10am or 7pm \nThe Gospel of Luke takes you on a journey that begins with the foretelling of John the Baptist’s birth and culminates in Jesus’ ascension into heaven. Along the way\, you will witness key moments in salvation history\, including the Annunciation; the Nativity; Jesus’ baptism; his public ministry; the Last Supper; and Jesus’ suffering\, death\, and glorious Resurrection. The Gospel’s powerful prose and beautiful details will deepen your desire to draw closer to Jesus and be transformed by his teachings. \nThe Gospel of Luke continually reveals how Jesus is the fulfillment of Old Testament prophecies. With Luke: The Story of Salvation Fulfilled\, you will experience joy as you see how God has been faithful throughout the ages and how God’s promise can guide you in your everyday lives. \nFor questions\, contact Suzanne Coughlin at suzanne@popfb.org.
URL:https://popfb.org/event/luke-the-story-of-salvation-fulfilled/2025-10-16/
CATEGORIES:Adult Faith Formation,Highlighted Events
ATTACH;FMTTYPE=image/png:https://popfb.org/wp-content/uploads/2025/08/Events-Calendar-Thumbnail-website-11.png
END:VEVENT
BEGIN:VEVENT
DTSTART;TZID=America/New_York:20251016T190000
DTEND;TZID=America/New_York:20251016T203000
DTSTAMP:20260421T132121
CREATED:20250827T181802Z
LAST-MODIFIED:20250827T181802Z
UID:10008600-1760641200-1760646600@popfb.org
SUMMARY:Luke: The Story of Salvation Fulfilled
DESCRIPTION:• 8 Week Bible Study in English\n• 9/11/25 – 10/30/25\n• 10am or 7pm \nThe Gospel of Luke takes you on a journey that begins with the foretelling of John the Baptist’s birth and culminates in Jesus’ ascension into heaven. Along the way\, you will witness key moments in salvation history\, including the Annunciation; the Nativity; Jesus’ baptism; his public ministry; the Last Supper; and Jesus’ suffering\, death\, and glorious Resurrection. The Gospel’s powerful prose and beautiful details will deepen your desire to draw closer to Jesus and be transformed by his teachings. \nThe Gospel of Luke continually reveals how Jesus is the fulfillment of Old Testament prophecies. With Luke: The Story of Salvation Fulfilled\, you will experience joy as you see how God has been faithful throughout the ages and how God’s promise can guide you in your everyday lives. \nFor questions\, contact Suzanne Coughlin at suzanne@popfb.org.
URL:https://popfb.org/event/luke-the-story-of-salvation-fulfilled-2/2025-10-16/
CATEGORIES:Adult Faith Formation,Highlighted Events
ATTACH;FMTTYPE=image/png:https://popfb.org/wp-content/uploads/2025/08/Events-Calendar-Thumbnail-website-11.png
END:VEVENT
BEGIN:VEVENT
DTSTART;TZID=America/New_York:20251021T100000
DTEND;TZID=America/New_York:20251021T120000
DTSTAMP:20260421T132121
CREATED:20250804T161205Z
LAST-MODIFIED:20250828T181857Z
UID:10008501-1761040800-1761048000@popfb.org
SUMMARY:Prayer and Life Workshops (EN)
DESCRIPTION:Do you want to learn to achieve silence and peace? To free you from anguish and fear? \nCome\, learn to live\, attend a Prayer and Life Workshop! During the 15 week workshop participants will learn a practical method of prayer\, learning to pray by praying. Through the practice of faith and surrender and as a result of praying\, participants begin to heal the wounds of the heart and experience greater serenity. By contemplating the image of Jesus and imitating his characteristics\, participants slowly begin to be transformed into a person more like Jesus.
URL:https://popfb.org/event/prayer-and-life-workshops-eng-3/2025-10-21/
CATEGORIES:Adult Faith Formation
ATTACH;FMTTYPE=image/png:https://popfb.org/wp-content/uploads/2025/08/Prayer-and-Life-Workshop.png
END:VEVENT
BEGIN:VEVENT
DTSTART;TZID=America/New_York:20251021T190000
DTEND;TZID=America/New_York:20251021T210000
DTSTAMP:20260421T132121
CREATED:20250804T161416Z
LAST-MODIFIED:20250828T182210Z
UID:10008531-1761073200-1761080400@popfb.org
SUMMARY:Prayer and Life Workshops (ES)
DESCRIPTION:Do you want to learn to achieve silence and peace? To free you from anguish and fear? \nCome\, learn to live\, attend a Prayer and Life Workshop! During the 15 week workshop participants will learn a practical method of prayer\, learning to pray by praying. Through the practice of faith and surrender and as a result of praying\, participants begin to heal the wounds of the heart and experience greater serenity. By contemplating the image of Jesus and imitating his characteristics\, participants slowly begin to be transformed into a person more like Jesus.
URL:https://popfb.org/event/prayer-and-life-workshops-esp-2/2025-10-21/
CATEGORIES:Adult Faith Formation
END:VEVENT
BEGIN:VEVENT
DTSTART;TZID=America/New_York:20251023T100000
DTEND;TZID=America/New_York:20251023T113000
DTSTAMP:20260421T132121
CREATED:20250814T182804Z
LAST-MODIFIED:20250814T182804Z
UID:10008462-1761213600-1761219000@popfb.org
SUMMARY:Luke: The Story of Salvation Fulfilled
DESCRIPTION:• 8 Week Bible Study in English\n• 9/11/25 – 10/30/25\n• 10am or 7pm \nThe Gospel of Luke takes you on a journey that begins with the foretelling of John the Baptist’s birth and culminates in Jesus’ ascension into heaven. Along the way\, you will witness key moments in salvation history\, including the Annunciation; the Nativity; Jesus’ baptism; his public ministry; the Last Supper; and Jesus’ suffering\, death\, and glorious Resurrection. The Gospel’s powerful prose and beautiful details will deepen your desire to draw closer to Jesus and be transformed by his teachings. \nThe Gospel of Luke continually reveals how Jesus is the fulfillment of Old Testament prophecies. With Luke: The Story of Salvation Fulfilled\, you will experience joy as you see how God has been faithful throughout the ages and how God’s promise can guide you in your everyday lives. \nFor questions\, contact Suzanne Coughlin at suzanne@popfb.org.
URL:https://popfb.org/event/luke-the-story-of-salvation-fulfilled/2025-10-23/
CATEGORIES:Adult Faith Formation,Highlighted Events
ATTACH;FMTTYPE=image/png:https://popfb.org/wp-content/uploads/2025/08/Events-Calendar-Thumbnail-website-11.png
END:VEVENT
BEGIN:VEVENT
DTSTART;TZID=America/New_York:20251023T190000
DTEND;TZID=America/New_York:20251023T203000
DTSTAMP:20260421T132121
CREATED:20250827T181802Z
LAST-MODIFIED:20250827T181802Z
UID:10008601-1761246000-1761251400@popfb.org
SUMMARY:Luke: The Story of Salvation Fulfilled
DESCRIPTION:• 8 Week Bible Study in English\n• 9/11/25 – 10/30/25\n• 10am or 7pm \nThe Gospel of Luke takes you on a journey that begins with the foretelling of John the Baptist’s birth and culminates in Jesus’ ascension into heaven. Along the way\, you will witness key moments in salvation history\, including the Annunciation; the Nativity; Jesus’ baptism; his public ministry; the Last Supper; and Jesus’ suffering\, death\, and glorious Resurrection. The Gospel’s powerful prose and beautiful details will deepen your desire to draw closer to Jesus and be transformed by his teachings. \nThe Gospel of Luke continually reveals how Jesus is the fulfillment of Old Testament prophecies. With Luke: The Story of Salvation Fulfilled\, you will experience joy as you see how God has been faithful throughout the ages and how God’s promise can guide you in your everyday lives. \nFor questions\, contact Suzanne Coughlin at suzanne@popfb.org.
URL:https://popfb.org/event/luke-the-story-of-salvation-fulfilled-2/2025-10-23/
CATEGORIES:Adult Faith Formation,Highlighted Events
ATTACH;FMTTYPE=image/png:https://popfb.org/wp-content/uploads/2025/08/Events-Calendar-Thumbnail-website-11.png
END:VEVENT
BEGIN:VEVENT
DTSTART;TZID=America/New_York:20251028T100000
DTEND;TZID=America/New_York:20251028T120000
DTSTAMP:20260421T132121
CREATED:20250804T161205Z
LAST-MODIFIED:20250828T181857Z
UID:10008502-1761645600-1761652800@popfb.org
SUMMARY:Prayer and Life Workshops (EN)
DESCRIPTION:Do you want to learn to achieve silence and peace? To free you from anguish and fear? \nCome\, learn to live\, attend a Prayer and Life Workshop! During the 15 week workshop participants will learn a practical method of prayer\, learning to pray by praying. Through the practice of faith and surrender and as a result of praying\, participants begin to heal the wounds of the heart and experience greater serenity. By contemplating the image of Jesus and imitating his characteristics\, participants slowly begin to be transformed into a person more like Jesus.
URL:https://popfb.org/event/prayer-and-life-workshops-eng-3/2025-10-28/
CATEGORIES:Adult Faith Formation
ATTACH;FMTTYPE=image/png:https://popfb.org/wp-content/uploads/2025/08/Prayer-and-Life-Workshop.png
END:VEVENT
BEGIN:VEVENT
DTSTART;TZID=America/New_York:20251028T190000
DTEND;TZID=America/New_York:20251028T210000
DTSTAMP:20260421T132121
CREATED:20250804T161416Z
LAST-MODIFIED:20250828T182210Z
UID:10008532-1761678000-1761685200@popfb.org
SUMMARY:Prayer and Life Workshops (ES)
DESCRIPTION:Do you want to learn to achieve silence and peace? To free you from anguish and fear? \nCome\, learn to live\, attend a Prayer and Life Workshop! During the 15 week workshop participants will learn a practical method of prayer\, learning to pray by praying. Through the practice of faith and surrender and as a result of praying\, participants begin to heal the wounds of the heart and experience greater serenity. By contemplating the image of Jesus and imitating his characteristics\, participants slowly begin to be transformed into a person more like Jesus.
URL:https://popfb.org/event/prayer-and-life-workshops-esp-2/2025-10-28/
CATEGORIES:Adult Faith Formation
END:VEVENT
BEGIN:VEVENT
DTSTART;TZID=America/New_York:20251030T100000
DTEND;TZID=America/New_York:20251030T113000
DTSTAMP:20260421T132121
CREATED:20250814T182804Z
LAST-MODIFIED:20250814T182804Z
UID:10008463-1761818400-1761823800@popfb.org
SUMMARY:Luke: The Story of Salvation Fulfilled
DESCRIPTION:• 8 Week Bible Study in English\n• 9/11/25 – 10/30/25\n• 10am or 7pm \nThe Gospel of Luke takes you on a journey that begins with the foretelling of John the Baptist’s birth and culminates in Jesus’ ascension into heaven. Along the way\, you will witness key moments in salvation history\, including the Annunciation; the Nativity; Jesus’ baptism; his public ministry; the Last Supper; and Jesus’ suffering\, death\, and glorious Resurrection. The Gospel’s powerful prose and beautiful details will deepen your desire to draw closer to Jesus and be transformed by his teachings. \nThe Gospel of Luke continually reveals how Jesus is the fulfillment of Old Testament prophecies. With Luke: The Story of Salvation Fulfilled\, you will experience joy as you see how God has been faithful throughout the ages and how God’s promise can guide you in your everyday lives. \nFor questions\, contact Suzanne Coughlin at suzanne@popfb.org.
URL:https://popfb.org/event/luke-the-story-of-salvation-fulfilled/2025-10-30/
CATEGORIES:Adult Faith Formation,Highlighted Events
ATTACH;FMTTYPE=image/png:https://popfb.org/wp-content/uploads/2025/08/Events-Calendar-Thumbnail-website-11.png
END:VEVENT
BEGIN:VEVENT
DTSTART;TZID=America/New_York:20251030T190000
DTEND;TZID=America/New_York:20251030T203000
DTSTAMP:20260421T132121
CREATED:20250827T181802Z
LAST-MODIFIED:20250827T181802Z
UID:10008602-1761850800-1761856200@popfb.org
SUMMARY:Luke: The Story of Salvation Fulfilled
DESCRIPTION:• 8 Week Bible Study in English\n• 9/11/25 – 10/30/25\n• 10am or 7pm \nThe Gospel of Luke takes you on a journey that begins with the foretelling of John the Baptist’s birth and culminates in Jesus’ ascension into heaven. Along the way\, you will witness key moments in salvation history\, including the Annunciation; the Nativity; Jesus’ baptism; his public ministry; the Last Supper; and Jesus’ suffering\, death\, and glorious Resurrection. The Gospel’s powerful prose and beautiful details will deepen your desire to draw closer to Jesus and be transformed by his teachings. \nThe Gospel of Luke continually reveals how Jesus is the fulfillment of Old Testament prophecies. With Luke: The Story of Salvation Fulfilled\, you will experience joy as you see how God has been faithful throughout the ages and how God’s promise can guide you in your everyday lives. \nFor questions\, contact Suzanne Coughlin at suzanne@popfb.org.
URL:https://popfb.org/event/luke-the-story-of-salvation-fulfilled-2/2025-10-30/
CATEGORIES:Adult Faith Formation,Highlighted Events
ATTACH;FMTTYPE=image/png:https://popfb.org/wp-content/uploads/2025/08/Events-Calendar-Thumbnail-website-11.png
END:VEVENT
END:VCALENDAR