BEGIN:VCALENDAR
VERSION:2.0
PRODID:-//Prince of Peace - ECPv6.15.16.1//NONSGML v1.0//EN
CALSCALE:GREGORIAN
METHOD:PUBLISH
X-ORIGINAL-URL:https://popfb.org
X-WR-CALDESC:Events for Prince of Peace
REFRESH-INTERVAL;VALUE=DURATION:PT1H
X-Robots-Tag:noindex
X-PUBLISHED-TTL:PT1H
BEGIN:VTIMEZONE
TZID:America/New_York
BEGIN:DAYLIGHT
TZOFFSETFROM:-0500
TZOFFSETTO:-0400
TZNAME:EDT
DTSTART:20240310T070000
END:DAYLIGHT
BEGIN:STANDARD
TZOFFSETFROM:-0400
TZOFFSETTO:-0500
TZNAME:EST
DTSTART:20241103T060000
END:STANDARD
BEGIN:DAYLIGHT
TZOFFSETFROM:-0500
TZOFFSETTO:-0400
TZNAME:EDT
DTSTART:20250309T070000
END:DAYLIGHT
BEGIN:STANDARD
TZOFFSETFROM:-0400
TZOFFSETTO:-0500
TZNAME:EST
DTSTART:20251102T060000
END:STANDARD
BEGIN:DAYLIGHT
TZOFFSETFROM:-0500
TZOFFSETTO:-0400
TZNAME:EDT
DTSTART:20260308T070000
END:DAYLIGHT
BEGIN:STANDARD
TZOFFSETFROM:-0400
TZOFFSETTO:-0500
TZNAME:EST
DTSTART:20261101T060000
END:STANDARD
END:VTIMEZONE
BEGIN:VEVENT
DTSTART;VALUE=DATE:20250401
DTEND;VALUE=DATE:20250402
DTSTAMP:20260422T012834
CREATED:20241224T001226Z
LAST-MODIFIED:20241224T001226Z
UID:10007463-1743465600-1743551999@popfb.org
SUMMARY:Prayer and Life Workshops (esp)
DESCRIPTION:Do you want to learn to achieve silence and peace? To free you from anguish and fear? \nCome\, learn to live\, attend a Prayer and Life Workshop! During the 15 week workshop participants will learn a practical method of prayer\, learning to pray by praying. Through the practice of faith and surrender and as a result of praying\, participants begin to heal the wounds of the heart and experience greater serenity. By contemplating the image of Jesus and imitating his characteristics\, participants slowly begin to be transformed into a person more like Jesus. \nAvailable Options:\n• Tuesdays\, 10am–Noon\, beginning January 14\n• Tuesdays\, 7pm–9pm\, beginning January 14
URL:https://popfb.org/event/prayer-and-life-workshops-esp/2025-04-01/
CATEGORIES:Adult Faith Formation
END:VEVENT
BEGIN:VEVENT
DTSTART;TZID=America/New_York:20250402T100000
DTEND;TZID=America/New_York:20250402T120000
DTSTAMP:20260422T012834
CREATED:20241224T000206Z
LAST-MODIFIED:20241224T000206Z
UID:10007415-1743588000-1743595200@popfb.org
SUMMARY:Prayer and Life Workshops (eng)
DESCRIPTION:Do you want to learn to achieve silence and peace? To free you from anguish and fear? \nCome\, learn to live\, attend a Prayer and Life Workshop! During the 15 week workshop participants will learn a practical method of prayer\, learning to pray by praying. Through the practice of faith and surrender and as a result of praying\, participants begin to heal the wounds of the heart and experience greater serenity. By contemplating the image of Jesus and imitating his characteristics\, participants slowly begin to be transformed into a person more like Jesus.
URL:https://popfb.org/event/prayer-and-life-workshops-eng-2/2025-04-02/
CATEGORIES:Adult Faith Formation
END:VEVENT
BEGIN:VEVENT
DTSTART;TZID=America/New_York:20250402T190000
DTEND;TZID=America/New_York:20250402T210000
DTSTAMP:20260422T012834
CREATED:20241224T001750Z
LAST-MODIFIED:20241224T001750Z
UID:10007511-1743620400-1743627600@popfb.org
SUMMARY:Prayer and Life Workshops (portuguese)
DESCRIPTION:Do you want to learn to achieve silence and peace? To free you from anguish and fear? \nCome\, learn to live\, attend a Prayer and Life Workshop! During the 15 week workshop participants will learn a practical method of prayer\, learning to pray by praying. Through the practice of faith and surrender and as a result of praying\, participants begin to heal the wounds of the heart and experience greater serenity. By contemplating the image of Jesus and imitating his characteristics\, participants slowly begin to be transformed into a person more like Jesus.
URL:https://popfb.org/event/prayer-and-life-workshops-portuguese/2025-04-02/
CATEGORIES:Adult Faith Formation
END:VEVENT
BEGIN:VEVENT
DTSTART;TZID=America/New_York:20250403T190000
DTEND;TZID=America/New_York:20250403T203000
DTSTAMP:20260422T012834
CREATED:20250320T164202Z
LAST-MODIFIED:20250320T164202Z
UID:10008051-1743706800-1743712200@popfb.org
SUMMARY:A Catholic Perspective on Gender Identity
DESCRIPTION:Two-Part Workshop in English\nApril 3 & 10 | 7pm – 8:30pm \nIn the past decade\, there has been increased attention paid to gender dysphoria and gender discordance\, especially among young children and adolescents. This is coupled with the widespread notion that the solution to such dysphoria is to affirm one’s “experienced gender” over and against one’s biological sex. What does the Catholic Church teach about these issues and how do we\, the faithful\, respond? \nDeacon Tom Walter\, PhD\, will present a two-part workshop that aims to provide parents\, grandparents\, and guardians of children and adolescents with information about these global and national trends\, as well as a proper understanding of Church teaching regarding gender identity\, in recognition of the pastoral sensitivities regarding this matter\, and the real and profound struggles individuals of good will face.
URL:https://popfb.org/event/a-catholic-perspective-on-gender-identity/2025-04-03/
CATEGORIES:Adult Faith Formation
END:VEVENT
BEGIN:VEVENT
DTSTART;VALUE=DATE:20250408
DTEND;VALUE=DATE:20250409
DTSTAMP:20260422T012834
CREATED:20241224T001226Z
LAST-MODIFIED:20241224T001226Z
UID:10007464-1744070400-1744156799@popfb.org
SUMMARY:Prayer and Life Workshops (esp)
DESCRIPTION:Do you want to learn to achieve silence and peace? To free you from anguish and fear? \nCome\, learn to live\, attend a Prayer and Life Workshop! During the 15 week workshop participants will learn a practical method of prayer\, learning to pray by praying. Through the practice of faith and surrender and as a result of praying\, participants begin to heal the wounds of the heart and experience greater serenity. By contemplating the image of Jesus and imitating his characteristics\, participants slowly begin to be transformed into a person more like Jesus. \nAvailable Options:\n• Tuesdays\, 10am–Noon\, beginning January 14\n• Tuesdays\, 7pm–9pm\, beginning January 14
URL:https://popfb.org/event/prayer-and-life-workshops-esp/2025-04-08/
CATEGORIES:Adult Faith Formation
END:VEVENT
BEGIN:VEVENT
DTSTART;TZID=America/New_York:20250409T100000
DTEND;TZID=America/New_York:20250409T120000
DTSTAMP:20260422T012834
CREATED:20241224T000206Z
LAST-MODIFIED:20241224T000206Z
UID:10007416-1744192800-1744200000@popfb.org
SUMMARY:Prayer and Life Workshops (eng)
DESCRIPTION:Do you want to learn to achieve silence and peace? To free you from anguish and fear? \nCome\, learn to live\, attend a Prayer and Life Workshop! During the 15 week workshop participants will learn a practical method of prayer\, learning to pray by praying. Through the practice of faith and surrender and as a result of praying\, participants begin to heal the wounds of the heart and experience greater serenity. By contemplating the image of Jesus and imitating his characteristics\, participants slowly begin to be transformed into a person more like Jesus.
URL:https://popfb.org/event/prayer-and-life-workshops-eng-2/2025-04-09/
CATEGORIES:Adult Faith Formation
END:VEVENT
BEGIN:VEVENT
DTSTART;TZID=America/New_York:20250409T190000
DTEND;TZID=America/New_York:20250409T210000
DTSTAMP:20260422T012834
CREATED:20241224T001750Z
LAST-MODIFIED:20241224T001750Z
UID:10007512-1744225200-1744232400@popfb.org
SUMMARY:Prayer and Life Workshops (portuguese)
DESCRIPTION:Do you want to learn to achieve silence and peace? To free you from anguish and fear? \nCome\, learn to live\, attend a Prayer and Life Workshop! During the 15 week workshop participants will learn a practical method of prayer\, learning to pray by praying. Through the practice of faith and surrender and as a result of praying\, participants begin to heal the wounds of the heart and experience greater serenity. By contemplating the image of Jesus and imitating his characteristics\, participants slowly begin to be transformed into a person more like Jesus.
URL:https://popfb.org/event/prayer-and-life-workshops-portuguese/2025-04-09/
CATEGORIES:Adult Faith Formation
END:VEVENT
BEGIN:VEVENT
DTSTART;TZID=America/New_York:20250410T190000
DTEND;TZID=America/New_York:20250410T203000
DTSTAMP:20260422T012834
CREATED:20250320T164202Z
LAST-MODIFIED:20250320T164202Z
UID:10008052-1744311600-1744317000@popfb.org
SUMMARY:A Catholic Perspective on Gender Identity
DESCRIPTION:Two-Part Workshop in English\nApril 3 & 10 | 7pm – 8:30pm \nIn the past decade\, there has been increased attention paid to gender dysphoria and gender discordance\, especially among young children and adolescents. This is coupled with the widespread notion that the solution to such dysphoria is to affirm one’s “experienced gender” over and against one’s biological sex. What does the Catholic Church teach about these issues and how do we\, the faithful\, respond? \nDeacon Tom Walter\, PhD\, will present a two-part workshop that aims to provide parents\, grandparents\, and guardians of children and adolescents with information about these global and national trends\, as well as a proper understanding of Church teaching regarding gender identity\, in recognition of the pastoral sensitivities regarding this matter\, and the real and profound struggles individuals of good will face.
URL:https://popfb.org/event/a-catholic-perspective-on-gender-identity/2025-04-10/
CATEGORIES:Adult Faith Formation
END:VEVENT
BEGIN:VEVENT
DTSTART;VALUE=DATE:20250415
DTEND;VALUE=DATE:20250416
DTSTAMP:20260422T012834
CREATED:20241224T001226Z
LAST-MODIFIED:20241224T001226Z
UID:10007465-1744675200-1744761599@popfb.org
SUMMARY:Prayer and Life Workshops (esp)
DESCRIPTION:Do you want to learn to achieve silence and peace? To free you from anguish and fear? \nCome\, learn to live\, attend a Prayer and Life Workshop! During the 15 week workshop participants will learn a practical method of prayer\, learning to pray by praying. Through the practice of faith and surrender and as a result of praying\, participants begin to heal the wounds of the heart and experience greater serenity. By contemplating the image of Jesus and imitating his characteristics\, participants slowly begin to be transformed into a person more like Jesus. \nAvailable Options:\n• Tuesdays\, 10am–Noon\, beginning January 14\n• Tuesdays\, 7pm–9pm\, beginning January 14
URL:https://popfb.org/event/prayer-and-life-workshops-esp/2025-04-15/
CATEGORIES:Adult Faith Formation
END:VEVENT
BEGIN:VEVENT
DTSTART;TZID=America/New_York:20250416T100000
DTEND;TZID=America/New_York:20250416T120000
DTSTAMP:20260422T012834
CREATED:20241224T000206Z
LAST-MODIFIED:20241224T000206Z
UID:10007417-1744797600-1744804800@popfb.org
SUMMARY:Prayer and Life Workshops (eng)
DESCRIPTION:Do you want to learn to achieve silence and peace? To free you from anguish and fear? \nCome\, learn to live\, attend a Prayer and Life Workshop! During the 15 week workshop participants will learn a practical method of prayer\, learning to pray by praying. Through the practice of faith and surrender and as a result of praying\, participants begin to heal the wounds of the heart and experience greater serenity. By contemplating the image of Jesus and imitating his characteristics\, participants slowly begin to be transformed into a person more like Jesus.
URL:https://popfb.org/event/prayer-and-life-workshops-eng-2/2025-04-16/
CATEGORIES:Adult Faith Formation
END:VEVENT
BEGIN:VEVENT
DTSTART;TZID=America/New_York:20250416T190000
DTEND;TZID=America/New_York:20250416T210000
DTSTAMP:20260422T012834
CREATED:20241224T001750Z
LAST-MODIFIED:20241224T001750Z
UID:10007513-1744830000-1744837200@popfb.org
SUMMARY:Prayer and Life Workshops (portuguese)
DESCRIPTION:Do you want to learn to achieve silence and peace? To free you from anguish and fear? \nCome\, learn to live\, attend a Prayer and Life Workshop! During the 15 week workshop participants will learn a practical method of prayer\, learning to pray by praying. Through the practice of faith and surrender and as a result of praying\, participants begin to heal the wounds of the heart and experience greater serenity. By contemplating the image of Jesus and imitating his characteristics\, participants slowly begin to be transformed into a person more like Jesus.
URL:https://popfb.org/event/prayer-and-life-workshops-portuguese/2025-04-16/
CATEGORIES:Adult Faith Formation
END:VEVENT
BEGIN:VEVENT
DTSTART;VALUE=DATE:20250422
DTEND;VALUE=DATE:20250423
DTSTAMP:20260422T012834
CREATED:20241224T001226Z
LAST-MODIFIED:20241224T001226Z
UID:10007466-1745280000-1745366399@popfb.org
SUMMARY:Prayer and Life Workshops (esp)
DESCRIPTION:Do you want to learn to achieve silence and peace? To free you from anguish and fear? \nCome\, learn to live\, attend a Prayer and Life Workshop! During the 15 week workshop participants will learn a practical method of prayer\, learning to pray by praying. Through the practice of faith and surrender and as a result of praying\, participants begin to heal the wounds of the heart and experience greater serenity. By contemplating the image of Jesus and imitating his characteristics\, participants slowly begin to be transformed into a person more like Jesus. \nAvailable Options:\n• Tuesdays\, 10am–Noon\, beginning January 14\n• Tuesdays\, 7pm–9pm\, beginning January 14
URL:https://popfb.org/event/prayer-and-life-workshops-esp/2025-04-22/
CATEGORIES:Adult Faith Formation
END:VEVENT
BEGIN:VEVENT
DTSTART;TZID=America/New_York:20250423T100000
DTEND;TZID=America/New_York:20250423T120000
DTSTAMP:20260422T012834
CREATED:20241224T000206Z
LAST-MODIFIED:20241224T000206Z
UID:10007418-1745402400-1745409600@popfb.org
SUMMARY:Prayer and Life Workshops (eng)
DESCRIPTION:Do you want to learn to achieve silence and peace? To free you from anguish and fear? \nCome\, learn to live\, attend a Prayer and Life Workshop! During the 15 week workshop participants will learn a practical method of prayer\, learning to pray by praying. Through the practice of faith and surrender and as a result of praying\, participants begin to heal the wounds of the heart and experience greater serenity. By contemplating the image of Jesus and imitating his characteristics\, participants slowly begin to be transformed into a person more like Jesus.
URL:https://popfb.org/event/prayer-and-life-workshops-eng-2/2025-04-23/
CATEGORIES:Adult Faith Formation
END:VEVENT
BEGIN:VEVENT
DTSTART;TZID=America/New_York:20250423T190000
DTEND;TZID=America/New_York:20250423T210000
DTSTAMP:20260422T012834
CREATED:20241224T001750Z
LAST-MODIFIED:20241224T001750Z
UID:10007514-1745434800-1745442000@popfb.org
SUMMARY:Prayer and Life Workshops (portuguese)
DESCRIPTION:Do you want to learn to achieve silence and peace? To free you from anguish and fear? \nCome\, learn to live\, attend a Prayer and Life Workshop! During the 15 week workshop participants will learn a practical method of prayer\, learning to pray by praying. Through the practice of faith and surrender and as a result of praying\, participants begin to heal the wounds of the heart and experience greater serenity. By contemplating the image of Jesus and imitating his characteristics\, participants slowly begin to be transformed into a person more like Jesus.
URL:https://popfb.org/event/prayer-and-life-workshops-portuguese/2025-04-23/
CATEGORIES:Adult Faith Formation
END:VEVENT
BEGIN:VEVENT
DTSTART;TZID=America/New_York:20250424T190000
DTEND;TZID=America/New_York:20250424T203000
DTSTAMP:20260422T012834
CREATED:20250221T153800Z
LAST-MODIFIED:20250320T153742Z
UID:10008047-1745521200-1745526600@popfb.org
SUMMARY:The True Treasures of the Church
DESCRIPTION:The True Treasures of the Church: An Introduction to Catholic Social Teaching \nTwo-Part Series in English | April 24 & May 1 | 7-8:30pm \nIn this two-part series\, Deacon Larry will be providing an introduction to Catholic Social Teaching focusing on the importance of working in those ministries of justice and peace. \nWe will explore the background and development of social teaching and justice as provided in the Holy Scriptures and in the documents of the Church showing that social justice is not a concept developed during Vatican II but has its roots as far back as Genesis. \nWe will discuss sin and its social dimension\, especially its impact on those suffering or in need. We will look at the seven themes of Catholic Social Teaching and how we\, as Christ’s disciples\, can work as citizens of the kingdom of heaven through participating in justice and mercy ministries and in community action. We will show that through our loving relationships with each other\, especially those on the margins\, we not only build a more just world but also deepen our relationship with our Lord and Savior\, Jesus Christ. \nFor questions\, please contact Suzanne C. at 678-960-0056 or email suzanne@popfb.org.
URL:https://popfb.org/event/the-true-treasures-of-the-church-an-introduction-to-catholic-social-teaching/2025-04-24/
CATEGORIES:Adult Faith Formation,Highlighted Events
END:VEVENT
BEGIN:VEVENT
DTSTART;VALUE=DATE:20250429
DTEND;VALUE=DATE:20250430
DTSTAMP:20260422T012834
CREATED:20241224T001226Z
LAST-MODIFIED:20241224T001226Z
UID:10007467-1745884800-1745971199@popfb.org
SUMMARY:Prayer and Life Workshops (esp)
DESCRIPTION:Do you want to learn to achieve silence and peace? To free you from anguish and fear? \nCome\, learn to live\, attend a Prayer and Life Workshop! During the 15 week workshop participants will learn a practical method of prayer\, learning to pray by praying. Through the practice of faith and surrender and as a result of praying\, participants begin to heal the wounds of the heart and experience greater serenity. By contemplating the image of Jesus and imitating his characteristics\, participants slowly begin to be transformed into a person more like Jesus. \nAvailable Options:\n• Tuesdays\, 10am–Noon\, beginning January 14\n• Tuesdays\, 7pm–9pm\, beginning January 14
URL:https://popfb.org/event/prayer-and-life-workshops-esp/2025-04-29/
CATEGORIES:Adult Faith Formation
END:VEVENT
BEGIN:VEVENT
DTSTART;TZID=America/New_York:20250430T100000
DTEND;TZID=America/New_York:20250430T120000
DTSTAMP:20260422T012834
CREATED:20241224T000206Z
LAST-MODIFIED:20241224T000206Z
UID:10007419-1746007200-1746014400@popfb.org
SUMMARY:Prayer and Life Workshops (eng)
DESCRIPTION:Do you want to learn to achieve silence and peace? To free you from anguish and fear? \nCome\, learn to live\, attend a Prayer and Life Workshop! During the 15 week workshop participants will learn a practical method of prayer\, learning to pray by praying. Through the practice of faith and surrender and as a result of praying\, participants begin to heal the wounds of the heart and experience greater serenity. By contemplating the image of Jesus and imitating his characteristics\, participants slowly begin to be transformed into a person more like Jesus.
URL:https://popfb.org/event/prayer-and-life-workshops-eng-2/2025-04-30/
CATEGORIES:Adult Faith Formation
END:VEVENT
END:VCALENDAR