BEGIN:VCALENDAR
VERSION:2.0
PRODID:-//Prince of Peace - ECPv6.15.16.1//NONSGML v1.0//EN
CALSCALE:GREGORIAN
METHOD:PUBLISH
X-WR-CALNAME:Prince of Peace
X-ORIGINAL-URL:https://popfb.org
X-WR-CALDESC:Events for Prince of Peace
REFRESH-INTERVAL;VALUE=DURATION:PT1H
X-Robots-Tag:noindex
X-PUBLISHED-TTL:PT1H
BEGIN:VTIMEZONE
TZID:America/New_York
BEGIN:DAYLIGHT
TZOFFSETFROM:-0500
TZOFFSETTO:-0400
TZNAME:EDT
DTSTART:20240310T070000
END:DAYLIGHT
BEGIN:STANDARD
TZOFFSETFROM:-0400
TZOFFSETTO:-0500
TZNAME:EST
DTSTART:20241103T060000
END:STANDARD
BEGIN:DAYLIGHT
TZOFFSETFROM:-0500
TZOFFSETTO:-0400
TZNAME:EDT
DTSTART:20250309T070000
END:DAYLIGHT
BEGIN:STANDARD
TZOFFSETFROM:-0400
TZOFFSETTO:-0500
TZNAME:EST
DTSTART:20251102T060000
END:STANDARD
BEGIN:DAYLIGHT
TZOFFSETFROM:-0500
TZOFFSETTO:-0400
TZNAME:EDT
DTSTART:20260308T070000
END:DAYLIGHT
BEGIN:STANDARD
TZOFFSETFROM:-0400
TZOFFSETTO:-0500
TZNAME:EST
DTSTART:20261101T060000
END:STANDARD
END:VTIMEZONE
BEGIN:VEVENT
DTSTART;VALUE=DATE:20250311
DTEND;VALUE=DATE:20250312
DTSTAMP:20260422T013518
CREATED:20241224T001226Z
LAST-MODIFIED:20241224T001226Z
UID:10007460-1741651200-1741737599@popfb.org
SUMMARY:Prayer and Life Workshops (esp)
DESCRIPTION:Do you want to learn to achieve silence and peace? To free you from anguish and fear? \nCome\, learn to live\, attend a Prayer and Life Workshop! During the 15 week workshop participants will learn a practical method of prayer\, learning to pray by praying. Through the practice of faith and surrender and as a result of praying\, participants begin to heal the wounds of the heart and experience greater serenity. By contemplating the image of Jesus and imitating his characteristics\, participants slowly begin to be transformed into a person more like Jesus. \nAvailable Options:\n• Tuesdays\, 10am–Noon\, beginning January 14\n• Tuesdays\, 7pm–9pm\, beginning January 14
URL:https://popfb.org/event/prayer-and-life-workshops-esp/2025-03-11/
CATEGORIES:Adult Faith Formation
END:VEVENT
BEGIN:VEVENT
DTSTART;TZID=America/New_York:20250311T190000
DTEND;TZID=America/New_York:20250311T204500
DTSTAMP:20260422T013518
CREATED:20250107T165341Z
LAST-MODIFIED:20250221T154938Z
UID:10007863-1741719600-1741725900@popfb.org
SUMMARY:The Wild Goose (esp)
DESCRIPTION:8-Week Series | Thursdays at 7pm | Jan 14–Mar 11 \nThe Wild Goose is an 8-week series designed to help you deepen your relationship with the Holy Spirit. Through this journey\, we will experience God’s love and transforming power\, revealed to us by Jesus Christ\, leading us to our heavenly Father. We will explore the Holy Spirit’s presence in our faith\, including the sacraments\, Mary\, the saints\, and other Catholic traditions. \nAll are invited to join this inspiring series\, offered in English and Spanish\, starting Thursday\, January 16. Nursery available upon request during registration. Participants will receive a complimentary study guide.
URL:https://popfb.org/event/the-wild-goose-esp/2025-03-11/
CATEGORIES:Adult Faith Formation
ATTACH;FMTTYPE=image/png:https://popfb.org/wp-content/uploads/2024/12/96-1.png
END:VEVENT
BEGIN:VEVENT
DTSTART;TZID=America/New_York:20250312T100000
DTEND;TZID=America/New_York:20250312T120000
DTSTAMP:20260422T013518
CREATED:20241224T000206Z
LAST-MODIFIED:20241224T000206Z
UID:10007412-1741773600-1741780800@popfb.org
SUMMARY:Prayer and Life Workshops (eng)
DESCRIPTION:Do you want to learn to achieve silence and peace? To free you from anguish and fear? \nCome\, learn to live\, attend a Prayer and Life Workshop! During the 15 week workshop participants will learn a practical method of prayer\, learning to pray by praying. Through the practice of faith and surrender and as a result of praying\, participants begin to heal the wounds of the heart and experience greater serenity. By contemplating the image of Jesus and imitating his characteristics\, participants slowly begin to be transformed into a person more like Jesus.
URL:https://popfb.org/event/prayer-and-life-workshops-eng-2/2025-03-12/
CATEGORIES:Adult Faith Formation
END:VEVENT
BEGIN:VEVENT
DTSTART;TZID=America/New_York:20250312T100000
DTEND;TZID=America/New_York:20250312T120000
DTSTAMP:20260422T013518
CREATED:20250221T153136Z
LAST-MODIFIED:20250221T160445Z
UID:10007851-1741773600-1741780800@popfb.org
SUMMARY:Lent: The Most Wonderful Time of the Year
DESCRIPTION:Wednesday\, March 12 | 10am to 12pm [or] Thursday\, March 13 | 6:30pm to 8:30pm \nPresented by Sister Susan Arcaro\, rc in English \nEach year\, we are called to embrace Lent with a spirit of sacrifice\, contrition\, and reparation. Rarely\, however\, do we consider Lent as a journey of incredible love\, unimaginable joy\, or ardent longing. The wonder of Lent begins with an invitation to ‘see’ more clearly how deeply God loves us and continues with our desire to respond with fervent love to LOVE everlasting. \nFor questions\, contact Suzanne Coughlin at suzanne@popfb.org.
URL:https://popfb.org/event/lent-the-most-wonderful-time-of-the-year/2025-03-12/
CATEGORIES:Adult Faith Formation,Highlighted Events
ATTACH;FMTTYPE=image/png:https://popfb.org/wp-content/uploads/2025/02/113.png
END:VEVENT
BEGIN:VEVENT
DTSTART;TZID=America/New_York:20250312T190000
DTEND;TZID=America/New_York:20250312T210000
DTSTAMP:20260422T013518
CREATED:20241224T001750Z
LAST-MODIFIED:20241224T001750Z
UID:10007508-1741806000-1741813200@popfb.org
SUMMARY:Prayer and Life Workshops (portuguese)
DESCRIPTION:Do you want to learn to achieve silence and peace? To free you from anguish and fear? \nCome\, learn to live\, attend a Prayer and Life Workshop! During the 15 week workshop participants will learn a practical method of prayer\, learning to pray by praying. Through the practice of faith and surrender and as a result of praying\, participants begin to heal the wounds of the heart and experience greater serenity. By contemplating the image of Jesus and imitating his characteristics\, participants slowly begin to be transformed into a person more like Jesus.
URL:https://popfb.org/event/prayer-and-life-workshops-portuguese/2025-03-12/
CATEGORIES:Adult Faith Formation
END:VEVENT
BEGIN:VEVENT
DTSTART;TZID=America/New_York:20250313T183000
DTEND;TZID=America/New_York:20250313T203000
DTSTAMP:20260422T013518
CREATED:20250221T153136Z
LAST-MODIFIED:20250221T160445Z
UID:10007852-1741890600-1741897800@popfb.org
SUMMARY:Lent: The Most Wonderful Time of the Year
DESCRIPTION:Wednesday\, March 12 | 10am to 12pm [or] Thursday\, March 13 | 6:30pm to 8:30pm \nPresented by Sister Susan Arcaro\, rc in English \nEach year\, we are called to embrace Lent with a spirit of sacrifice\, contrition\, and reparation. Rarely\, however\, do we consider Lent as a journey of incredible love\, unimaginable joy\, or ardent longing. The wonder of Lent begins with an invitation to ‘see’ more clearly how deeply God loves us and continues with our desire to respond with fervent love to LOVE everlasting. \nFor questions\, contact Suzanne Coughlin at suzanne@popfb.org.
URL:https://popfb.org/event/lent-the-most-wonderful-time-of-the-year/2025-03-13/
CATEGORIES:Adult Faith Formation,Highlighted Events
ATTACH;FMTTYPE=image/png:https://popfb.org/wp-content/uploads/2025/02/113.png
END:VEVENT
BEGIN:VEVENT
DTSTART;VALUE=DATE:20250318
DTEND;VALUE=DATE:20250319
DTSTAMP:20260422T013518
CREATED:20241224T001226Z
LAST-MODIFIED:20241224T001226Z
UID:10007461-1742256000-1742342399@popfb.org
SUMMARY:Prayer and Life Workshops (esp)
DESCRIPTION:Do you want to learn to achieve silence and peace? To free you from anguish and fear? \nCome\, learn to live\, attend a Prayer and Life Workshop! During the 15 week workshop participants will learn a practical method of prayer\, learning to pray by praying. Through the practice of faith and surrender and as a result of praying\, participants begin to heal the wounds of the heart and experience greater serenity. By contemplating the image of Jesus and imitating his characteristics\, participants slowly begin to be transformed into a person more like Jesus. \nAvailable Options:\n• Tuesdays\, 10am–Noon\, beginning January 14\n• Tuesdays\, 7pm–9pm\, beginning January 14
URL:https://popfb.org/event/prayer-and-life-workshops-esp/2025-03-18/
CATEGORIES:Adult Faith Formation
END:VEVENT
BEGIN:VEVENT
DTSTART;TZID=America/New_York:20250319T100000
DTEND;TZID=America/New_York:20250319T120000
DTSTAMP:20260422T013518
CREATED:20241224T000206Z
LAST-MODIFIED:20241224T000206Z
UID:10007413-1742378400-1742385600@popfb.org
SUMMARY:Prayer and Life Workshops (eng)
DESCRIPTION:Do you want to learn to achieve silence and peace? To free you from anguish and fear? \nCome\, learn to live\, attend a Prayer and Life Workshop! During the 15 week workshop participants will learn a practical method of prayer\, learning to pray by praying. Through the practice of faith and surrender and as a result of praying\, participants begin to heal the wounds of the heart and experience greater serenity. By contemplating the image of Jesus and imitating his characteristics\, participants slowly begin to be transformed into a person more like Jesus.
URL:https://popfb.org/event/prayer-and-life-workshops-eng-2/2025-03-19/
CATEGORIES:Adult Faith Formation
END:VEVENT
BEGIN:VEVENT
DTSTART;TZID=America/New_York:20250319T190000
DTEND;TZID=America/New_York:20250319T210000
DTSTAMP:20260422T013518
CREATED:20241224T001750Z
LAST-MODIFIED:20241224T001750Z
UID:10007509-1742410800-1742418000@popfb.org
SUMMARY:Prayer and Life Workshops (portuguese)
DESCRIPTION:Do you want to learn to achieve silence and peace? To free you from anguish and fear? \nCome\, learn to live\, attend a Prayer and Life Workshop! During the 15 week workshop participants will learn a practical method of prayer\, learning to pray by praying. Through the practice of faith and surrender and as a result of praying\, participants begin to heal the wounds of the heart and experience greater serenity. By contemplating the image of Jesus and imitating his characteristics\, participants slowly begin to be transformed into a person more like Jesus.
URL:https://popfb.org/event/prayer-and-life-workshops-portuguese/2025-03-19/
CATEGORIES:Adult Faith Formation
END:VEVENT
BEGIN:VEVENT
DTSTART;VALUE=DATE:20250325
DTEND;VALUE=DATE:20250326
DTSTAMP:20260422T013518
CREATED:20241224T001226Z
LAST-MODIFIED:20241224T001226Z
UID:10007462-1742860800-1742947199@popfb.org
SUMMARY:Prayer and Life Workshops (esp)
DESCRIPTION:Do you want to learn to achieve silence and peace? To free you from anguish and fear? \nCome\, learn to live\, attend a Prayer and Life Workshop! During the 15 week workshop participants will learn a practical method of prayer\, learning to pray by praying. Through the practice of faith and surrender and as a result of praying\, participants begin to heal the wounds of the heart and experience greater serenity. By contemplating the image of Jesus and imitating his characteristics\, participants slowly begin to be transformed into a person more like Jesus. \nAvailable Options:\n• Tuesdays\, 10am–Noon\, beginning January 14\n• Tuesdays\, 7pm–9pm\, beginning January 14
URL:https://popfb.org/event/prayer-and-life-workshops-esp/2025-03-25/
CATEGORIES:Adult Faith Formation
END:VEVENT
BEGIN:VEVENT
DTSTART;TZID=America/New_York:20250326T100000
DTEND;TZID=America/New_York:20250326T120000
DTSTAMP:20260422T013518
CREATED:20241224T000206Z
LAST-MODIFIED:20241224T000206Z
UID:10007414-1742983200-1742990400@popfb.org
SUMMARY:Prayer and Life Workshops (eng)
DESCRIPTION:Do you want to learn to achieve silence and peace? To free you from anguish and fear? \nCome\, learn to live\, attend a Prayer and Life Workshop! During the 15 week workshop participants will learn a practical method of prayer\, learning to pray by praying. Through the practice of faith and surrender and as a result of praying\, participants begin to heal the wounds of the heart and experience greater serenity. By contemplating the image of Jesus and imitating his characteristics\, participants slowly begin to be transformed into a person more like Jesus.
URL:https://popfb.org/event/prayer-and-life-workshops-eng-2/2025-03-26/
CATEGORIES:Adult Faith Formation
END:VEVENT
BEGIN:VEVENT
DTSTART;TZID=America/New_York:20250326T190000
DTEND;TZID=America/New_York:20250326T210000
DTSTAMP:20260422T013518
CREATED:20241224T001750Z
LAST-MODIFIED:20241224T001750Z
UID:10007510-1743015600-1743022800@popfb.org
SUMMARY:Prayer and Life Workshops (portuguese)
DESCRIPTION:Do you want to learn to achieve silence and peace? To free you from anguish and fear? \nCome\, learn to live\, attend a Prayer and Life Workshop! During the 15 week workshop participants will learn a practical method of prayer\, learning to pray by praying. Through the practice of faith and surrender and as a result of praying\, participants begin to heal the wounds of the heart and experience greater serenity. By contemplating the image of Jesus and imitating his characteristics\, participants slowly begin to be transformed into a person more like Jesus.
URL:https://popfb.org/event/prayer-and-life-workshops-portuguese/2025-03-26/
CATEGORIES:Adult Faith Formation
END:VEVENT
END:VCALENDAR