BEGIN:VCALENDAR
VERSION:2.0
PRODID:-//Prince of Peace - ECPv6.15.16.1//NONSGML v1.0//EN
CALSCALE:GREGORIAN
METHOD:PUBLISH
X-ORIGINAL-URL:https://popfb.org
X-WR-CALDESC:Events for Prince of Peace
REFRESH-INTERVAL;VALUE=DURATION:PT1H
X-Robots-Tag:noindex
X-PUBLISHED-TTL:PT1H
BEGIN:VTIMEZONE
TZID:America/New_York
BEGIN:DAYLIGHT
TZOFFSETFROM:-0500
TZOFFSETTO:-0400
TZNAME:EDT
DTSTART:20240310T070000
END:DAYLIGHT
BEGIN:STANDARD
TZOFFSETFROM:-0400
TZOFFSETTO:-0500
TZNAME:EST
DTSTART:20241103T060000
END:STANDARD
BEGIN:DAYLIGHT
TZOFFSETFROM:-0500
TZOFFSETTO:-0400
TZNAME:EDT
DTSTART:20250309T070000
END:DAYLIGHT
BEGIN:STANDARD
TZOFFSETFROM:-0400
TZOFFSETTO:-0500
TZNAME:EST
DTSTART:20251102T060000
END:STANDARD
BEGIN:DAYLIGHT
TZOFFSETFROM:-0500
TZOFFSETTO:-0400
TZNAME:EDT
DTSTART:20260308T070000
END:DAYLIGHT
BEGIN:STANDARD
TZOFFSETFROM:-0400
TZOFFSETTO:-0500
TZNAME:EST
DTSTART:20261101T060000
END:STANDARD
END:VTIMEZONE
BEGIN:VEVENT
DTSTART;TZID=America/New_York:20251205T090000
DTEND;TZID=America/New_York:20251205T200000
DTSTAMP:20260420T102209
CREATED:20251023T150236Z
LAST-MODIFIED:20251023T150236Z
UID:10008687-1764925200-1764964800@popfb.org
SUMMARY:Encounter
DESCRIPTION:In our busy lives\, it’s easy to lose sight of the One who gives us true peace and purpose. That’s why we set aside time for Encounter\, a day dedicated to prayer\, adoration\, and personal connection with Jesus Christ in the Eucharist. \nEucharistic Adoration is a powerful way to spend quiet time with the Lord\, to rest in His presence\, and to allow Him to speak to our hearts. Whether you can come for a few minutes or stay for an hour\, your time before the Blessed Sacrament is an offering of love and trust. \nThis Friday\, we invite you to make space in your day to be with Jesus. Come whenever your schedule allows: \n9am: Our day of prayer begins with Mass in English. \n9:30am-7pm: After Mass\, Father will expose the Blessed Sacrament on the main altar of the Church for silent prayer. Adoration will continue in the Church until 7pm. Everyone is welcome—parishioners\, friends\, visitors\, ministries\, and small groups are all encouraged to come\, spend time with Jesus\, and adore Him in the Blessed Sacrament. \n7pm: We will begin a special period of praise & worship\, prayer & reflection\, culminating with Benediction.
URL:https://popfb.org/event/encounter/2025-12-05/
CATEGORIES:Adoration Page,Highlighted Events,Mass & Confession Page
ATTACH;FMTTYPE=image/png:https://popfb.org/wp-content/uploads/2024/02/Encounter.png
END:VEVENT
BEGIN:VEVENT
DTSTART;TZID=America/New_York:20251220T093000
DTEND;TZID=America/New_York:20251220T110000
DTSTAMP:20260420T102209
CREATED:20250821T174722Z
LAST-MODIFIED:20260305T183010Z
UID:10008559-1766223000-1766228400@popfb.org
SUMMARY:Family Adoration
DESCRIPTION:Teaching your children to adore Jesus in the Eucharist is a gift they will never forget. Join us for our monthly Family Adoration of the Blessed Sacrament in the Blessed Sacrament Chapel. Wiggly and giggly kids of all ages and their parents are invited to come and spend time with Jesus! \nAll are welcome to come for as little or as long as you can\, but we ask\, if you are able to make the commitment\, to please sign up at the link below so we know that at least one family will be present to be a guardian for the Blessed Sacrament at all times.
URL:https://popfb.org/event/family-adoration-2/2025-12-20/
CATEGORIES:Adoration Page,Children Faith Formation,Family Adoration,Highlighted Events
ATTACH;FMTTYPE=image/png:https://popfb.org/wp-content/uploads/2025/04/Events-Calendar-Thumbnail-website-67.png
END:VEVENT
END:VCALENDAR