BEGIN:VCALENDAR
VERSION:2.0
PRODID:-//Prince of Peace - ECPv6.15.16.1//NONSGML v1.0//EN
CALSCALE:GREGORIAN
METHOD:PUBLISH
X-ORIGINAL-URL:https://popfb.org
X-WR-CALDESC:Events for Prince of Peace
REFRESH-INTERVAL;VALUE=DURATION:PT1H
X-Robots-Tag:noindex
X-PUBLISHED-TTL:PT1H
BEGIN:VTIMEZONE
TZID:America/New_York
BEGIN:DAYLIGHT
TZOFFSETFROM:-0500
TZOFFSETTO:-0400
TZNAME:EDT
DTSTART:20240310T070000
END:DAYLIGHT
BEGIN:STANDARD
TZOFFSETFROM:-0400
TZOFFSETTO:-0500
TZNAME:EST
DTSTART:20241103T060000
END:STANDARD
BEGIN:DAYLIGHT
TZOFFSETFROM:-0500
TZOFFSETTO:-0400
TZNAME:EDT
DTSTART:20250309T070000
END:DAYLIGHT
BEGIN:STANDARD
TZOFFSETFROM:-0400
TZOFFSETTO:-0500
TZNAME:EST
DTSTART:20251102T060000
END:STANDARD
BEGIN:DAYLIGHT
TZOFFSETFROM:-0500
TZOFFSETTO:-0400
TZNAME:EDT
DTSTART:20260308T070000
END:DAYLIGHT
BEGIN:STANDARD
TZOFFSETFROM:-0400
TZOFFSETTO:-0500
TZNAME:EST
DTSTART:20261101T060000
END:STANDARD
END:VTIMEZONE
BEGIN:VEVENT
DTSTART;TZID=America/New_York:20251011T103000
DTEND;TZID=America/New_York:20251011T123000
DTSTAMP:20260421T112248
CREATED:20250709T145552Z
LAST-MODIFIED:20250807T180522Z
UID:10008313-1760178600-1760185800@popfb.org
SUMMARY:Feed the Hungry Meal Pac
DESCRIPTION:As we celebrate 50 years of faith\, fellowship\, and service at Prince of Peace\, join us in giving back through a special family outreach event! \nOn Saturday\, October 11\, from 10:30am to 12:30pm\, we’ll host a Rise Against Hunger Meal Packing Event\, a hands-on opportunity to come together as a parish and help feed families around the world. This event honors our legacy of compassion and reflects the heart of our call to serve others in Christ’s name. \nTo learn more about Rise Against Hunger\, visit riseagainsthunger.org.
URL:https://popfb.org/event/feed-the-hungry-meal-pac/
CATEGORIES:50th Anniversary Page,Highlighted Events
ATTACH;FMTTYPE=image/png:https://popfb.org/wp-content/uploads/2025/07/Events-Calendar-Thumbnail-website-8.png
END:VEVENT
BEGIN:VEVENT
DTSTART;TZID=America/New_York:20251011T170000
DTEND;TZID=America/New_York:20251011T190000
DTSTAMP:20260421T112248
CREATED:20250709T150107Z
LAST-MODIFIED:20251006T143422Z
UID:10008314-1760202000-1760209200@popfb.org
SUMMARY:50th Anniversary Party
DESCRIPTION:Mark your calendars for Saturday\, October 11\, and plan to stay after the Vigil Mass as we continue celebrating our 50th Anniversary! \nEnjoy an evening of fellowship filled with appetizers\, beverages\, and music. Together\, we’ll take a joyful trip down memory lane\, sharing stories\, photos\, and special moments with both old and new friends who have been part of our parish family’s journey. \nYour presence will make the celebration even more meaningful! Please RSVP and let us know you’ll be joining us.
URL:https://popfb.org/event/50anniversaryparty/
CATEGORIES:50th Anniversary Page,Highlighted Events
ATTACH;FMTTYPE=image/png:https://popfb.org/wp-content/uploads/2025/07/Events-Calendar-Thumbnail-website-23.png
END:VEVENT
END:VCALENDAR