BEGIN:VCALENDAR
VERSION:2.0
PRODID:-//Prince of Peace - ECPv6.15.16.1//NONSGML v1.0//EN
CALSCALE:GREGORIAN
METHOD:PUBLISH
X-ORIGINAL-URL:https://popfb.org
X-WR-CALDESC:Events for Prince of Peace
REFRESH-INTERVAL;VALUE=DURATION:PT1H
X-Robots-Tag:noindex
X-PUBLISHED-TTL:PT1H
BEGIN:VTIMEZONE
TZID:America/New_York
BEGIN:DAYLIGHT
TZOFFSETFROM:-0500
TZOFFSETTO:-0400
TZNAME:EDT
DTSTART:20240310T070000
END:DAYLIGHT
BEGIN:STANDARD
TZOFFSETFROM:-0400
TZOFFSETTO:-0500
TZNAME:EST
DTSTART:20241103T060000
END:STANDARD
BEGIN:DAYLIGHT
TZOFFSETFROM:-0500
TZOFFSETTO:-0400
TZNAME:EDT
DTSTART:20250309T070000
END:DAYLIGHT
BEGIN:STANDARD
TZOFFSETFROM:-0400
TZOFFSETTO:-0500
TZNAME:EST
DTSTART:20251102T060000
END:STANDARD
BEGIN:DAYLIGHT
TZOFFSETFROM:-0500
TZOFFSETTO:-0400
TZNAME:EDT
DTSTART:20260308T070000
END:DAYLIGHT
BEGIN:STANDARD
TZOFFSETFROM:-0400
TZOFFSETTO:-0500
TZNAME:EST
DTSTART:20261101T060000
END:STANDARD
END:VTIMEZONE
BEGIN:VEVENT
DTSTART;TZID=America/New_York:20250920T110000
DTEND;TZID=America/New_York:20250920T190000
DTSTAMP:20260421T142332
CREATED:20250814T183717Z
LAST-MODIFIED:20250814T183717Z
UID:10008436-1758366000-1758394800@popfb.org
SUMMARY:Parish Picnic 2025
DESCRIPTION:Join us for a joyful celebration of our 50th Anniversary! \nCome enjoy a fun-filled day for all ages\, a wonderful opportunity to gather in fellowship and give thanks for our vibrant faith community. \n11:00 AM–3:00 PM | Family Fun & Fellowship\nEnjoy delicious food\, popcorn\, drinks\, inflatables for kids\, music\, games\, and a special “Walk Down POP Memory Lane”—a tribute to the people and moments that have shaped our parish over the past five decades. \n4:00 PM | Outdoor Mass (Vigil Mass)\nBring your lawn chair or blanket as we celebrate the Eucharist together under the open sky. \n5:30 PM–8:00 PM | Food Trucks \nChoose from a variety of delicious food options available for purchase. \n6:00 PM | Live Concert \nCap off the evening with music from the Shane Brothers Band. \nClick here to Volunteer!\nAll are welcome\, bring your family\, invite friends\, and be part of this memorable celebration!
URL:https://popfb.org/event/parish-picnic-2025-2/
CATEGORIES:50th Anniversary Page,Highlighted Events
ATTACH;FMTTYPE=image/png:https://popfb.org/wp-content/uploads/2025/07/Events-Calendar-Thumbnail-website-2.png
END:VEVENT
END:VCALENDAR