BEGIN:VCALENDAR
VERSION:2.0
PRODID:-//Prince of Peace - ECPv6.15.16.1//NONSGML v1.0//EN
CALSCALE:GREGORIAN
METHOD:PUBLISH
X-ORIGINAL-URL:https://popfb.org/es/
X-WR-CALDESC:Eventos para Prince of Peace
REFRESH-INTERVAL;VALUE=DURATION:PT1H
X-Robots-Tag:noindex
X-PUBLISHED-TTL:PT1H
BEGIN:VTIMEZONE
TZID:America/New_York
BEGIN:DAYLIGHT
TZOFFSETFROM:-0500
TZOFFSETTO:-0400
TZNAME:EDT
DTSTART:20240310T070000
END:DAYLIGHT
BEGIN:STANDARD
TZOFFSETFROM:-0400
TZOFFSETTO:-0500
TZNAME:EST
DTSTART:20241103T060000
END:STANDARD
BEGIN:DAYLIGHT
TZOFFSETFROM:-0500
TZOFFSETTO:-0400
TZNAME:EDT
DTSTART:20250309T070000
END:DAYLIGHT
BEGIN:STANDARD
TZOFFSETFROM:-0400
TZOFFSETTO:-0500
TZNAME:EST
DTSTART:20251102T060000
END:STANDARD
BEGIN:DAYLIGHT
TZOFFSETFROM:-0500
TZOFFSETTO:-0400
TZNAME:EDT
DTSTART:20260308T070000
END:DAYLIGHT
BEGIN:STANDARD
TZOFFSETFROM:-0400
TZOFFSETTO:-0500
TZNAME:EST
DTSTART:20261101T060000
END:STANDARD
END:VTIMEZONE
BEGIN:VEVENT
DTSTART;TZID=America/New_York:20250707T110000
DTEND;TZID=America/New_York:20250707T120000
DTSTAMP:20260420T175322
CREATED:20250623T204936Z
LAST-MODIFIED:20250623T204936Z
UID:10008289-1751886000-1751889600@popfb.org
SUMMARY:Funeral: Gloria C. Musco
DESCRIPTION:Por favor oren por el descanso del alma de Gloria C. Musco\, quien falleció el 22 de junio de 2025. El Padre Ignacio celebrará una Misa de Resurrección el lunes\, 7 de julio\, a las 11am.
URL:https://popfb.org/es/event/funeral-gloria-c-musco/
LOCATION:Prince of Peace\, 6439 Spout Springs Rd.\, Flowery Branch\, Georgia\, 30542\, United States
CATEGORIES:Funerales
ATTACH;FMTTYPE=image/png:https://popfb.org/wp-content/uploads/2023/12/For-Funerals-Page.png
END:VEVENT
BEGIN:VEVENT
DTSTART;TZID=America/New_York:20250702T113000
DTEND;TZID=America/New_York:20250702T123000
DTSTAMP:20260420T175322
CREATED:20250624T162427Z
LAST-MODIFIED:20250624T162427Z
UID:10008293-1751455800-1751459400@popfb.org
SUMMARY:Funeral: Frederica Marie McRoberts
DESCRIPTION:Por favor\, oren por el descanso del alma de Frederica Marie McRoberts\, quien falleció el 19 de junio de 2025. El Padre Eric Hill y el Padre Pete celebrarán una Misa de Resurrección el miércoles\, 2 de julio\, a las 11:30am.
URL:https://popfb.org/es/event/funeral-frederica-marie-mcroberts/
LOCATION:Prince of Peace\, 6439 Spout Springs Rd.\, Flowery Branch\, Georgia\, 30542\, United States
CATEGORIES:Funerales
ATTACH;FMTTYPE=image/png:https://popfb.org/wp-content/uploads/2023/12/For-Funerals-Page.png
END:VEVENT
BEGIN:VEVENT
DTSTART;TZID=America/New_York:20250626T123000
DTEND;TZID=America/New_York:20250626T133000
DTSTAMP:20260420T175322
CREATED:20250624T203927Z
LAST-MODIFIED:20250624T203927Z
UID:10008297-1750941000-1750944600@popfb.org
SUMMARY:Funeral: Samuel Gallarzo Gómez
DESCRIPTION:Por favor oren por el descanso del alma de Samuel Gallarzo Gómez\, quien falleció el 23 de junio de 2025. El Padre Ignacio celebrará una Misa de Resurrección el jueves\, 26 de junio\, a las 12:30pm.
URL:https://popfb.org/es/event/funeral-samuel-gallarzo-gomez/
LOCATION:Prince of Peace\, 6439 Spout Springs Rd.\, Flowery Branch\, Georgia\, 30542\, United States
CATEGORIES:Funerales
ATTACH;FMTTYPE=image/png:https://popfb.org/wp-content/uploads/2025/06/For-Funerals-Page.png
END:VEVENT
BEGIN:VEVENT
DTSTART;TZID=America/New_York:20250606T130000
DTEND;TZID=America/New_York:20250606T140000
DTSTAMP:20260420T175322
CREATED:20250603T144655Z
LAST-MODIFIED:20250603T144843Z
UID:10008253-1749214800-1749218400@popfb.org
SUMMARY:Funeral: Irma Mercedes Lopez
DESCRIPTION:Por favor oren por el descanso del alma de Irma Mercedes López\, quien falleció el 20 de mayo de 2025. El Padre Pete celebrará una Misa de Resurrección el viernes\, 6 de junio\, a la 1pm.
URL:https://popfb.org/es/event/funeral-irma-mercedes-lopez/
LOCATION:Prince of Peace\, 6439 Spout Springs Rd.\, Flowery Branch\, Georgia\, 30542\, United States
CATEGORIES:Funerales
ATTACH;FMTTYPE=image/png:https://popfb.org/wp-content/uploads/2023/12/For-Funerals-Page.png
END:VEVENT
BEGIN:VEVENT
DTSTART;TZID=America/New_York:20250530T130000
DTEND;TZID=America/New_York:20250530T140000
DTSTAMP:20260420T175322
CREATED:20250519T175109Z
LAST-MODIFIED:20250529T133851Z
UID:10008189-1748610000-1748613600@popfb.org
SUMMARY:Funeral: Yelitza Alvarado
DESCRIPTION:\,Por favor oren por el descanso del alma de Yelitza Alana de Alvarado\, quien falleció el sábado 17 de mayo de 2025. El Padre Ignacio celebrará una Misa de Resurrección el viernes\, 30 de mayo\, a la 1pm.
URL:https://popfb.org/es/event/funeral-yelitza-alvarado/
LOCATION:Prince of Peace\, 6439 Spout Springs Rd.\, Flowery Branch\, Georgia\, 30542\, United States
CATEGORIES:Funerales
ATTACH;FMTTYPE=image/png:https://popfb.org/wp-content/uploads/2025/05/For-Funerals-Page-1.png
END:VEVENT
BEGIN:VEVENT
DTSTART;TZID=America/New_York:20250524T103000
DTEND;TZID=America/New_York:20250524T113000
DTSTAMP:20260420T175322
CREATED:20250519T134959Z
LAST-MODIFIED:20250519T134959Z
UID:10008187-1748082600-1748086200@popfb.org
SUMMARY:Funeral: Marie Therese Brutis Colin
DESCRIPTION:Por favor\, oren por el descanso eterno de Marie Therese Brutis Colin. El Padre Carl Jean celebrará una Misa de Resurrección el sábado\, 24 de mayo\, a las 10:30am.
URL:https://popfb.org/es/event/funeral-marie-therese-brutis-colin/
LOCATION:Prince of Peace\, 6439 Spout Springs Rd.\, Flowery Branch\, Georgia\, 30542\, United States
CATEGORIES:Funerales
ATTACH;FMTTYPE=image/png:https://popfb.org/wp-content/uploads/2023/12/For-Funerals-Page.png
END:VEVENT
BEGIN:VEVENT
DTSTART;TZID=America/New_York:20250409T113000
DTEND;TZID=America/New_York:20250409T123000
DTSTAMP:20260420T175322
CREATED:20250408T124553Z
LAST-MODIFIED:20250408T124553Z
UID:10008127-1744198200-1744201800@popfb.org
SUMMARY:Funeral: Diana Marie Opolka
DESCRIPTION:Por favor\, oren por el alma de Diana Marie Opolka\, quien falleció el 5 de abril de 2025. El Padre Pete celebrará una Misa de Resurrección el miércoles\, 9 de abril\, a las 11:30am.
URL:https://popfb.org/es/event/funeral-diana-marie-opolka/
LOCATION:Prince of Peace\, 6439 Spout Springs Rd.\, Flowery Branch\, Georgia\, 30542\, United States
CATEGORIES:Funerales
ATTACH;FMTTYPE=image/png:https://popfb.org/wp-content/uploads/2023/12/For-Funerals-Page.png
END:VEVENT
BEGIN:VEVENT
DTSTART;TZID=America/New_York:20250407T113000
DTEND;TZID=America/New_York:20250407T123000
DTSTAMP:20260420T175322
CREATED:20250401T185420Z
LAST-MODIFIED:20250401T193504Z
UID:10008064-1744025400-1744029000@popfb.org
SUMMARY:Funeral: Maria J. Williams
DESCRIPTION:Por favor\, oren por el descanso del alma de María J. Williams\, quien falleció el 30 de marzo de 2025. El Padre Pete celebrará una Misa de Resurrección el lunes\, 7 de abril\, a las 11:30 am. \nObituario
URL:https://popfb.org/es/event/funeral-maria-j-williams/
LOCATION:Prince of Peace\, 6439 Spout Springs Rd.\, Flowery Branch\, Georgia\, 30542\, United States
CATEGORIES:Funerales
ATTACH;FMTTYPE=image/png:https://popfb.org/wp-content/uploads/2025/04/For-Funerals-Page.png
END:VEVENT
BEGIN:VEVENT
DTSTART;TZID=America/New_York:20250329T113000
DTEND;TZID=America/New_York:20250329T123000
DTSTAMP:20260420T175322
CREATED:20250324T184137Z
LAST-MODIFIED:20250324T184137Z
UID:10008059-1743247800-1743251400@popfb.org
SUMMARY:Funeral: Michael Adams
DESCRIPTION:Por favor\, oren por el descanso eterno de Michael Adams\, quien falleció el 24 de marzo de 2025. El Padre Pete celebrará una Misa de Resurrección el sábado\, 29 de marzo\, a las 11:30am. El velatorio será en Prince of Peace de 11:00am a 11:30am.
URL:https://popfb.org/es/event/funeral-michael-adams/
LOCATION:Prince of Peace\, 6439 Spout Springs Rd.\, Flowery Branch\, Georgia\, 30542\, United States
CATEGORIES:Funerales
ATTACH;FMTTYPE=image/png:https://popfb.org/wp-content/uploads/2023/12/For-Funerals-Page.png
END:VEVENT
BEGIN:VEVENT
DTSTART;TZID=America/New_York:20250328T113000
DTEND;TZID=America/New_York:20250328T123000
DTSTAMP:20260420T175322
CREATED:20250210T135322Z
LAST-MODIFIED:20250210T135322Z
UID:10007666-1743161400-1743165000@popfb.org
SUMMARY:Memorial Mass: Adela Achtman
DESCRIPTION:El padre Eric celebrará una Misa en memoria de Adela Achtman el 28 de marzo a las 11:30am. Todos están invitados a unirse a la familia para una recepción después de la Misa.  \nObituario
URL:https://popfb.org/es/event/memorial-mass-adela-achtman/
LOCATION:Prince of Peace\, 6439 Spout Springs Rd.\, Flowery Branch\, Georgia\, 30542\, United States
CATEGORIES:Funerales
ATTACH;FMTTYPE=image/png:https://popfb.org/wp-content/uploads/2025/02/For-Funerals-Page-3.png
END:VEVENT
BEGIN:VEVENT
DTSTART;TZID=America/New_York:20250312T143000
DTEND;TZID=America/New_York:20250312T153000
DTSTAMP:20260420T175322
CREATED:20250304T205739Z
LAST-MODIFIED:20250306T140500Z
UID:10007951-1741789800-1741793400@popfb.org
SUMMARY:Funeral: Estelle Cardone
DESCRIPTION:Por favor oren por el descanso del alma de Estelle Cardone\, quien falleció el 1 de marzo de 2025. El Padre Ignacio celebrará una Misa de Resurrección el miércoles\, 12 de marzo\, a las 2:30pm.  \nObituario
URL:https://popfb.org/es/event/funeral-estelle-cardone/
LOCATION:Prince of Peace\, 6439 Spout Springs Rd.\, Flowery Branch\, Georgia\, 30542\, United States
CATEGORIES:Funerales
ATTACH;FMTTYPE=image/png:https://popfb.org/wp-content/uploads/2025/03/For-Funerals-Page-3.png
END:VEVENT
END:VCALENDAR