BEGIN:VCALENDAR
VERSION:2.0
PRODID:-//Prince of Peace - ECPv6.15.16.1//NONSGML v1.0//EN
CALSCALE:GREGORIAN
METHOD:PUBLISH
X-WR-CALNAME:Prince of Peace
X-ORIGINAL-URL:https://popfb.org/es/
X-WR-CALDESC:Eventos para Prince of Peace
REFRESH-INTERVAL;VALUE=DURATION:PT1H
X-Robots-Tag:noindex
X-PUBLISHED-TTL:PT1H
BEGIN:VTIMEZONE
TZID:America/New_York
BEGIN:DAYLIGHT
TZOFFSETFROM:-0500
TZOFFSETTO:-0400
TZNAME:EDT
DTSTART:20240310T070000
END:DAYLIGHT
BEGIN:STANDARD
TZOFFSETFROM:-0400
TZOFFSETTO:-0500
TZNAME:EST
DTSTART:20241103T060000
END:STANDARD
BEGIN:DAYLIGHT
TZOFFSETFROM:-0500
TZOFFSETTO:-0400
TZNAME:EDT
DTSTART:20250309T070000
END:DAYLIGHT
BEGIN:STANDARD
TZOFFSETFROM:-0400
TZOFFSETTO:-0500
TZNAME:EST
DTSTART:20251102T060000
END:STANDARD
BEGIN:DAYLIGHT
TZOFFSETFROM:-0500
TZOFFSETTO:-0400
TZNAME:EDT
DTSTART:20260308T070000
END:DAYLIGHT
BEGIN:STANDARD
TZOFFSETFROM:-0400
TZOFFSETTO:-0500
TZNAME:EST
DTSTART:20261101T060000
END:STANDARD
END:VTIMEZONE
BEGIN:VEVENT
DTSTART;TZID=America/New_York:20250329T113000
DTEND;TZID=America/New_York:20250329T123000
DTSTAMP:20260420T210549
CREATED:20250324T184137Z
LAST-MODIFIED:20250324T184137Z
UID:10008059-1743247800-1743251400@popfb.org
SUMMARY:Funeral: Michael Adams
DESCRIPTION:Por favor\, oren por el descanso eterno de Michael Adams\, quien falleció el 24 de marzo de 2025. El Padre Pete celebrará una Misa de Resurrección el sábado\, 29 de marzo\, a las 11:30am. El velatorio será en Prince of Peace de 11:00am a 11:30am.
URL:https://popfb.org/es/event/funeral-michael-adams/
LOCATION:Prince of Peace\, 6439 Spout Springs Rd.\, Flowery Branch\, Georgia\, 30542\, United States
CATEGORIES:Funerales
ATTACH;FMTTYPE=image/png:https://popfb.org/wp-content/uploads/2023/12/For-Funerals-Page.png
END:VEVENT
BEGIN:VEVENT
DTSTART;TZID=America/New_York:20250328T113000
DTEND;TZID=America/New_York:20250328T123000
DTSTAMP:20260420T210549
CREATED:20250210T135322Z
LAST-MODIFIED:20250210T135322Z
UID:10007666-1743161400-1743165000@popfb.org
SUMMARY:Memorial Mass: Adela Achtman
DESCRIPTION:El padre Eric celebrará una Misa en memoria de Adela Achtman el 28 de marzo a las 11:30am. Todos están invitados a unirse a la familia para una recepción después de la Misa.  \nObituario
URL:https://popfb.org/es/event/memorial-mass-adela-achtman/
LOCATION:Prince of Peace\, 6439 Spout Springs Rd.\, Flowery Branch\, Georgia\, 30542\, United States
CATEGORIES:Funerales
ATTACH;FMTTYPE=image/png:https://popfb.org/wp-content/uploads/2025/02/For-Funerals-Page-3.png
END:VEVENT
BEGIN:VEVENT
DTSTART;TZID=America/New_York:20250312T143000
DTEND;TZID=America/New_York:20250312T153000
DTSTAMP:20260420T210549
CREATED:20250304T205739Z
LAST-MODIFIED:20250306T140500Z
UID:10007951-1741789800-1741793400@popfb.org
SUMMARY:Funeral: Estelle Cardone
DESCRIPTION:Por favor oren por el descanso del alma de Estelle Cardone\, quien falleció el 1 de marzo de 2025. El Padre Ignacio celebrará una Misa de Resurrección el miércoles\, 12 de marzo\, a las 2:30pm.  \nObituario
URL:https://popfb.org/es/event/funeral-estelle-cardone/
LOCATION:Prince of Peace\, 6439 Spout Springs Rd.\, Flowery Branch\, Georgia\, 30542\, United States
CATEGORIES:Funerales
ATTACH;FMTTYPE=image/png:https://popfb.org/wp-content/uploads/2025/03/For-Funerals-Page-3.png
END:VEVENT
END:VCALENDAR