BEGIN:VCALENDAR
VERSION:2.0
PRODID:-//Prince of Peace - ECPv6.15.16.1//NONSGML v1.0//EN
CALSCALE:GREGORIAN
METHOD:PUBLISH
X-ORIGINAL-URL:https://popfb.org/es/
X-WR-CALDESC:Eventos para Prince of Peace
REFRESH-INTERVAL;VALUE=DURATION:PT1H
X-Robots-Tag:noindex
X-PUBLISHED-TTL:PT1H
BEGIN:VTIMEZONE
TZID:America/New_York
BEGIN:DAYLIGHT
TZOFFSETFROM:-0500
TZOFFSETTO:-0400
TZNAME:EDT
DTSTART:20240310T070000
END:DAYLIGHT
BEGIN:STANDARD
TZOFFSETFROM:-0400
TZOFFSETTO:-0500
TZNAME:EST
DTSTART:20241103T060000
END:STANDARD
BEGIN:DAYLIGHT
TZOFFSETFROM:-0500
TZOFFSETTO:-0400
TZNAME:EDT
DTSTART:20250309T070000
END:DAYLIGHT
BEGIN:STANDARD
TZOFFSETFROM:-0400
TZOFFSETTO:-0500
TZNAME:EST
DTSTART:20251102T060000
END:STANDARD
BEGIN:DAYLIGHT
TZOFFSETFROM:-0500
TZOFFSETTO:-0400
TZNAME:EDT
DTSTART:20260308T070000
END:DAYLIGHT
BEGIN:STANDARD
TZOFFSETFROM:-0400
TZOFFSETTO:-0500
TZNAME:EST
DTSTART:20261101T060000
END:STANDARD
END:VTIMEZONE
BEGIN:VEVENT
DTSTART;TZID=America/New_York:20250607T100000
DTEND;TZID=America/New_York:20250607T110000
DTSTAMP:20260420T202106
CREATED:20250529T134525Z
LAST-MODIFIED:20250529T134525Z
UID:10008218-1749290400-1749294000@popfb.org
SUMMARY:Misas Sacramentales
DESCRIPTION:Todas las Misas seguirán la liturgia del día y todos están invitado a asistir. \nPrimeras Comuniones: El Sacramento de la Primera Comunión se celebrará el sábado\, 7 de junio a las 10am y 1pm. Por favor\, tenga en cuenta que ese día no habrá Misa de las 9am ni confesiones.  \nConfirmaciones: El Sacramento de la Confirmación será celebrado por el Obispo Konzen el sábado 28 de junio a las 10am y 1pm. Ese día tampoco habrá Misa de las 9am ni confesiones.
URL:https://popfb.org/es/event/misas-sacramentales/2025-06-07/1/
CATEGORIES:Confesiones,Página de Misa y Confesiones,Preparación Sacramental para Niños
ATTACH;FMTTYPE=image/png:https://popfb.org/wp-content/uploads/2025/05/Events-Calendar-Thumbnail-website-1.png
END:VEVENT
BEGIN:VEVENT
DTSTART;TZID=America/New_York:20250607T130000
DTEND;TZID=America/New_York:20250607T140000
DTSTAMP:20260420T202106
CREATED:20250529T134525Z
LAST-MODIFIED:20250529T134525Z
UID:10008219-1749301200-1749304800@popfb.org
SUMMARY:Misas Sacramentales
DESCRIPTION:Todas las Misas seguirán la liturgia del día y todos están invitado a asistir. \nPrimeras Comuniones: El Sacramento de la Primera Comunión se celebrará el sábado\, 7 de junio a las 10am y 1pm. Por favor\, tenga en cuenta que ese día no habrá Misa de las 9am ni confesiones.  \nConfirmaciones: El Sacramento de la Confirmación será celebrado por el Obispo Konzen el sábado 28 de junio a las 10am y 1pm. Ese día tampoco habrá Misa de las 9am ni confesiones.
URL:https://popfb.org/es/event/misas-sacramentales/2025-06-07/2/
CATEGORIES:Confesiones,Página de Misa y Confesiones,Preparación Sacramental para Niños
ATTACH;FMTTYPE=image/png:https://popfb.org/wp-content/uploads/2025/05/Events-Calendar-Thumbnail-website-1.png
END:VEVENT
BEGIN:VEVENT
DTSTART;TZID=America/New_York:20250625T083000
DTEND;TZID=America/New_York:20250625T183000
DTSTAMP:20260420T202106
CREATED:20250612T181501Z
LAST-MODIFIED:20250612T181501Z
UID:10008268-1750840200-1750876200@popfb.org
SUMMARY:Inscripciones en Persona
DESCRIPTION:2025-26 Inscripciones para la Formación de Fe y la Preparación Sacramental \n¿Necesita ayuda para inscribir a su hijo en los programas de Formación de Fe o Preparación Sacramental 2025-2026? \nAcompáñenos en persona: \n\nMiércoles\, 25 de junio | 8:30am-6:30pm | Salón de Adultos\nMiércoles\, 23 de julio | 8:30am-6:30pm | Salón de Adultos\n\n¿No puede asistir en persona? No hay problema: inscríbase en línea en cualquier momento visitando popfb.org/popfaith. \n¿Preguntas? Comuníquese con Jenny Carrillo en jenny@popfb.org
URL:https://popfb.org/es/event/inscripciones-en-persona/2025-06-25/
CATEGORIES:Eventos Destacados,Formación de Fe para Jóvenes,Formación de Fe para Niños,Preparación sacramental juvenil,Preparación Sacramental para Niños
ATTACH;FMTTYPE=image/png:https://popfb.org/wp-content/uploads/2025/06/Events-Calendar-Thumbnail-website-6.png
END:VEVENT
BEGIN:VEVENT
DTSTART;TZID=America/New_York:20250628T100000
DTEND;TZID=America/New_York:20250628T110000
DTSTAMP:20260420T202106
CREATED:20250529T134525Z
LAST-MODIFIED:20250529T134525Z
UID:10008220-1751104800-1751108400@popfb.org
SUMMARY:Misas Sacramentales
DESCRIPTION:Todas las Misas seguirán la liturgia del día y todos están invitado a asistir. \nPrimeras Comuniones: El Sacramento de la Primera Comunión se celebrará el sábado\, 7 de junio a las 10am y 1pm. Por favor\, tenga en cuenta que ese día no habrá Misa de las 9am ni confesiones.  \nConfirmaciones: El Sacramento de la Confirmación será celebrado por el Obispo Konzen el sábado 28 de junio a las 10am y 1pm. Ese día tampoco habrá Misa de las 9am ni confesiones.
URL:https://popfb.org/es/event/misas-sacramentales/2025-06-28/1/
CATEGORIES:Confesiones,Página de Misa y Confesiones,Preparación Sacramental para Niños
ATTACH;FMTTYPE=image/png:https://popfb.org/wp-content/uploads/2025/05/Events-Calendar-Thumbnail-website-1.png
END:VEVENT
BEGIN:VEVENT
DTSTART;TZID=America/New_York:20250628T130000
DTEND;TZID=America/New_York:20250628T140000
DTSTAMP:20260420T202106
CREATED:20250529T134525Z
LAST-MODIFIED:20250529T134525Z
UID:10008221-1751115600-1751119200@popfb.org
SUMMARY:Misas Sacramentales
DESCRIPTION:Todas las Misas seguirán la liturgia del día y todos están invitado a asistir. \nPrimeras Comuniones: El Sacramento de la Primera Comunión se celebrará el sábado\, 7 de junio a las 10am y 1pm. Por favor\, tenga en cuenta que ese día no habrá Misa de las 9am ni confesiones.  \nConfirmaciones: El Sacramento de la Confirmación será celebrado por el Obispo Konzen el sábado 28 de junio a las 10am y 1pm. Ese día tampoco habrá Misa de las 9am ni confesiones.
URL:https://popfb.org/es/event/misas-sacramentales/2025-06-28/2/
CATEGORIES:Confesiones,Página de Misa y Confesiones,Preparación Sacramental para Niños
ATTACH;FMTTYPE=image/png:https://popfb.org/wp-content/uploads/2025/05/Events-Calendar-Thumbnail-website-1.png
END:VEVENT
END:VCALENDAR