BEGIN:VCALENDAR
VERSION:2.0
PRODID:-//Prince of Peace - ECPv6.15.16.1//NONSGML v1.0//EN
CALSCALE:GREGORIAN
METHOD:PUBLISH
X-WR-CALNAME:Prince of Peace
X-ORIGINAL-URL:https://popfb.org/es/
X-WR-CALDESC:Eventos para Prince of Peace
REFRESH-INTERVAL;VALUE=DURATION:PT1H
X-Robots-Tag:noindex
X-PUBLISHED-TTL:PT1H
BEGIN:VTIMEZONE
TZID:America/New_York
BEGIN:DAYLIGHT
TZOFFSETFROM:-0500
TZOFFSETTO:-0400
TZNAME:EDT
DTSTART:20240310T070000
END:DAYLIGHT
BEGIN:STANDARD
TZOFFSETFROM:-0400
TZOFFSETTO:-0500
TZNAME:EST
DTSTART:20241103T060000
END:STANDARD
BEGIN:DAYLIGHT
TZOFFSETFROM:-0500
TZOFFSETTO:-0400
TZNAME:EDT
DTSTART:20250309T070000
END:DAYLIGHT
BEGIN:STANDARD
TZOFFSETFROM:-0400
TZOFFSETTO:-0500
TZNAME:EST
DTSTART:20251102T060000
END:STANDARD
BEGIN:DAYLIGHT
TZOFFSETFROM:-0500
TZOFFSETTO:-0400
TZNAME:EDT
DTSTART:20260308T070000
END:DAYLIGHT
BEGIN:STANDARD
TZOFFSETFROM:-0400
TZOFFSETTO:-0500
TZNAME:EST
DTSTART:20261101T060000
END:STANDARD
END:VTIMEZONE
BEGIN:VEVENT
DTSTART;TZID=America/New_York:20251011T103000
DTEND;TZID=America/New_York:20251011T123000
DTSTAMP:20260421T093100
CREATED:20250709T145552Z
LAST-MODIFIED:20250709T145552Z
UID:10008435-1760178600-1760185800@popfb.org
SUMMARY:Servicio de Empaque de Alimentos
DESCRIPTION:Al celebrar 50 años de fe\, fraternidad y servicio en Prince of Peace\, ¡lo invitamos a unirse a nosotros para retribuir a través de un evento de servicio comunitario familiar! \nEl sábado\, 11 de octubre\, de 10:30am a 12:30pm\, llevaremos a cabo un evento de empaque de alimentos con Rise Against Hunger\, una oportunidad práctica para reunirnos como parroquia y ayudar a alimentar a familias en todo el mundo. Este evento honra nuestro legado de compasión y refleja el corazón de nuestro llamado a servir a los demás en el nombre de Cristo.  \nPara conocer más sobre Rise Against Hunger\, visite riseagainsthunger.org.
URL:https://popfb.org/es/event/servicio-de-empaque-de-alimentos/
CATEGORIES:Eventos Destacados,Página del 50 Aniversario
ATTACH;FMTTYPE=image/png:https://popfb.org/wp-content/uploads/2025/07/Events-Calendar-Thumbnail-website-8.png
END:VEVENT
BEGIN:VEVENT
DTSTART;TZID=America/New_York:20251011T170000
DTEND;TZID=America/New_York:20251011T190000
DTSTAMP:20260421T093100
CREATED:20250709T150107Z
LAST-MODIFIED:20251006T143916Z
UID:10008648-1760202000-1760209200@popfb.org
SUMMARY:Fiesta del 50 Aniversario
DESCRIPTION:¡Marque su calendario para el sábado\, 11 de octubre\, y planifique quedarse después de la Misa de Vigilia mientras continuamos celebrando nuestro 50 Aniversario! \nDisfrute de una velada de convivencia con aperitivos\, bebidas y música. Juntos haremos un recorrido especial por los “Recuerdos Históricos de POP”\, compartiendo historias\, fotos y momentos especiales con amigos antiguos y nuevos que han sido parte del camino de nuestra familia parroquial. \n¡Su presencia hará que la celebración sea aún más significativa! Favor de confirmar su asistencia.
URL:https://popfb.org/es/event/50anniversaryparty/
CATEGORIES:Eventos Destacados,Página del 50 Aniversario
ATTACH;FMTTYPE=image/png:https://popfb.org/wp-content/uploads/2025/07/107.png
END:VEVENT
END:VCALENDAR