BEGIN:VCALENDAR
VERSION:2.0
PRODID:-//Prince of Peace - ECPv6.15.16.1//NONSGML v1.0//EN
CALSCALE:GREGORIAN
METHOD:PUBLISH
X-ORIGINAL-URL:https://popfb.org/es/
X-WR-CALDESC:Eventos para Prince of Peace
REFRESH-INTERVAL;VALUE=DURATION:PT1H
X-Robots-Tag:noindex
X-PUBLISHED-TTL:PT1H
BEGIN:VTIMEZONE
TZID:America/New_York
BEGIN:DAYLIGHT
TZOFFSETFROM:-0500
TZOFFSETTO:-0400
TZNAME:EDT
DTSTART:20240310T070000
END:DAYLIGHT
BEGIN:STANDARD
TZOFFSETFROM:-0400
TZOFFSETTO:-0500
TZNAME:EST
DTSTART:20241103T060000
END:STANDARD
BEGIN:DAYLIGHT
TZOFFSETFROM:-0500
TZOFFSETTO:-0400
TZNAME:EDT
DTSTART:20250309T070000
END:DAYLIGHT
BEGIN:STANDARD
TZOFFSETFROM:-0400
TZOFFSETTO:-0500
TZNAME:EST
DTSTART:20251102T060000
END:STANDARD
BEGIN:DAYLIGHT
TZOFFSETFROM:-0500
TZOFFSETTO:-0400
TZNAME:EDT
DTSTART:20260308T070000
END:DAYLIGHT
BEGIN:STANDARD
TZOFFSETFROM:-0400
TZOFFSETTO:-0500
TZNAME:EST
DTSTART:20261101T060000
END:STANDARD
END:VTIMEZONE
BEGIN:VEVENT
DTSTART;TZID=America/New_York:20250920T110000
DTEND;TZID=America/New_York:20250920T190000
DTSTAMP:20260421T113401
CREATED:20250708T173939Z
LAST-MODIFIED:20250814T184046Z
UID:10008310-1758366000-1758394800@popfb.org
SUMMARY:Picnic Parroquial 2025
DESCRIPTION:¡Acompáñenos a celebrar con alegría nuestro 50.º Aniversario! \nDisfrute de un día lleno de diversión para todas las edades—una hermosa oportunidad para reunirnos en comunidad y dar gracias por nuestra vibrante familia de fe. \n11AM – 3PM | Diversión Familiar y Convivencia\nComida deliciosa\, palomitas\, bebidas\, inflables para niños\, música\, juegos y un recorrido especial por la “Memoria Histórica de POP”\, un tributo a las personas y momentos que han dado forma a nuestra parroquia durante los últimos cincuenta años. \n4PM: Misa al Aire Libre (Misa de Vigilia)\nTraiga su silla de jardín o manta y acompáñenos a celebrar la Eucaristía juntos al aire libre. \n5:30PM – 8:00PM | Camiones de Comida\nDisfrute de una variedad de opciones deliciosas disponibles para la compra. \n6PM | Concierto en Vivo\nCierre la noche con música en vivo con la banda Shane Brothers. \n¡Pronto abriremos inscripciones para voluntarios! \nTodos son bienvenidos—traiga a su familia\, invite a sus amigos y sea parte de esta celebración inolvidable.
URL:https://popfb.org/es/event/picnic-parroquial-2025/
CATEGORIES:Eventos Destacados,Página del 50 Aniversario
ATTACH;FMTTYPE=image/png:https://popfb.org/wp-content/uploads/2025/07/Events-Calendar-Thumbnail-website-2.png
END:VEVENT
BEGIN:VEVENT
DTSTART;TZID=America/New_York:20250920T110000
DTEND;TZID=America/New_York:20250920T190000
DTSTAMP:20260421T113401
CREATED:20250814T183717Z
LAST-MODIFIED:20250814T183717Z
UID:10008488-1758366000-1758394800@popfb.org
SUMMARY:Picnic Parroquial 2025
DESCRIPTION:¡Acompáñenos a celebrar con alegría nuestro 50.º Aniversario! \nDisfrute de un día lleno de diversión para todas las edades—una hermosa oportunidad para reunirnos en comunidad y dar gracias por nuestra vibrante familia de fe. \n11AM – 3PM | Diversión Familiar y Convivencia\nComida deliciosa\, palomitas\, bebidas\, inflables para niños\, música\, juegos y un recorrido especial por la “Memoria Histórica de POP”\, un tributo a las personas y momentos que han dado forma a nuestra parroquia durante los últimos cincuenta años. \n4PM: Misa al Aire Libre (Misa de Vigilia)\nTraiga su silla de jardín o manta y acompáñenos a celebrar la Eucaristía juntos al aire libre. \n5:30PM – 8:00PM | Camiones de Comida\nDisfrute de una variedad de opciones deliciosas disponibles para la compra. \n6PM | Concierto en Vivo\nCierre la noche con música en vivo con la banda Shane Brothers. \nHaga clic aquí para ser voluntario!\nTodos son bienvenidos—traiga a su familia\, invite a sus amigos y sea parte de esta celebración inolvidable.
URL:https://popfb.org/es/event/picnic-parroquial-2025-2/
CATEGORIES:Eventos Destacados,Página del 50 Aniversario
ATTACH;FMTTYPE=image/png:https://popfb.org/wp-content/uploads/2025/07/Events-Calendar-Thumbnail-website-2.png
END:VEVENT
END:VCALENDAR