BEGIN:VCALENDAR
VERSION:2.0
PRODID:-//Prince of Peace - ECPv6.15.16.1//NONSGML v1.0//EN
CALSCALE:GREGORIAN
METHOD:PUBLISH
X-ORIGINAL-URL:https://popfb.org/es/
X-WR-CALDESC:Eventos para Prince of Peace
REFRESH-INTERVAL;VALUE=DURATION:PT1H
X-Robots-Tag:noindex
X-PUBLISHED-TTL:PT1H
BEGIN:VTIMEZONE
TZID:America/New_York
BEGIN:DAYLIGHT
TZOFFSETFROM:-0500
TZOFFSETTO:-0400
TZNAME:EDT
DTSTART:20250309T070000
END:DAYLIGHT
BEGIN:STANDARD
TZOFFSETFROM:-0400
TZOFFSETTO:-0500
TZNAME:EST
DTSTART:20251102T060000
END:STANDARD
BEGIN:DAYLIGHT
TZOFFSETFROM:-0500
TZOFFSETTO:-0400
TZNAME:EDT
DTSTART:20260308T070000
END:DAYLIGHT
BEGIN:STANDARD
TZOFFSETFROM:-0400
TZOFFSETTO:-0500
TZNAME:EST
DTSTART:20261101T060000
END:STANDARD
BEGIN:DAYLIGHT
TZOFFSETFROM:-0500
TZOFFSETTO:-0400
TZNAME:EDT
DTSTART:20270314T070000
END:DAYLIGHT
BEGIN:STANDARD
TZOFFSETFROM:-0400
TZOFFSETTO:-0500
TZNAME:EST
DTSTART:20271107T060000
END:STANDARD
END:VTIMEZONE
BEGIN:VEVENT
DTSTART;TZID=America/New_York:20260501T090000
DTEND;TZID=America/New_York:20260501T200000
DTSTAMP:20260421T083231
CREATED:20251023T150236Z
LAST-MODIFIED:20251023T150236Z
UID:10008768-1777626000-1777665600@popfb.org
SUMMARY:Encuentro
DESCRIPTION:En nuestras vidas ocupadas\, es fácil perder de vista a Aquel que nos da la verdadera paz y propósito. Por eso\, hemos reservado tiempo para Encuentro\, un día dedicado a la oración\, adoración y conexión personal con Jesucristo en la Eucaristía.  \nLa Adoración Eucarística es una manera poderosa de pasar tiempo en silencio con el Señor\, descansar en Su presencia y permitir que Él hable a nuestros corazones. Ya sea que puedas venir unos minutos o quedarte una hora\, tu tiempo ante el Santísimo Sacramento es una ofrenda de amor y confianza.  \nEste viernes\, te invitamos a hacer un espacio en tu día para estar con Jesús. Ven cuando tu horario lo permita:  \n9am: Nuestro día de oración comienza con la Misa en inglés. \n9:30am-7pm: Después de la Misa\, el Padre expondrá el Santísimo Sacramento en el altar principal de la iglesia para oración en silencio. La adoración continuará en la iglesia hasta las 7pm. Todos son bienvenidos—feligreses\, amigos\, visitantes\, ministerios y grupos pequeños están invitados a venir\, pasar tiempo con Jesús y adorarlo en el Santísimo Sacramento.   \n7pm:Comenzaremos un período especial de alabanza y adoración\, oración y reflexión\, que culminará con la Bendición.
URL:https://popfb.org/es/event/encuentro/2026-05-01/
CATEGORIES:Eventos Destacados,Página de Adoración,Página de Misa y Confesiones
ATTACH;FMTTYPE=image/png:https://popfb.org/wp-content/uploads/2024/02/Encounter.png
END:VEVENT
BEGIN:VEVENT
DTSTART;TZID=America/New_York:20260509T080000
DTEND;TZID=America/New_York:20260509T170000
DTSTAMP:20260421T083231
CREATED:20250821T174722Z
LAST-MODIFIED:20250821T174722Z
UID:10008928-1778313600-1778346000@popfb.org
SUMMARY:Adoración Familiar
DESCRIPTION:Enseñar a sus hijos a adorar a Jesús en la Eucaristía es un regalo que nunca olvidarán. Lo invitamos a nuestra Adoración Familiar mensual del Santísimo Sacramento en la Capilla del Santísimo Sacramento. ¡Los niños que se mueven y se ríen de todas las edades y sus padres están invitados a venir y pasar tiempo con Jesús! \nTodos son bienvenidos a venir por el menor o el mayor tiempo posible\, pero le pedimos que\, si puede comprometerse\, se registre para que sepamos que al menos una familia estará presente para ser guardián del Santísimo Sacramento en todo momento.
URL:https://popfb.org/es/event/adoracion-familiar/2026-05-09/
CATEGORIES:Adoracion Familiar,Eventos Destacados,Formación de Fe para Niños,Página de Adoración
ATTACH;FMTTYPE=image/png:https://popfb.org/wp-content/uploads/2025/04/Events-Calendar-Thumbnail-website-67.png
END:VEVENT
END:VCALENDAR