BEGIN:VCALENDAR
VERSION:2.0
PRODID:-//Prince of Peace - ECPv6.15.16.1//NONSGML v1.0//EN
CALSCALE:GREGORIAN
METHOD:PUBLISH
X-WR-CALNAME:Prince of Peace
X-ORIGINAL-URL:https://popfb.org/es/
X-WR-CALDESC:Eventos para Prince of Peace
REFRESH-INTERVAL;VALUE=DURATION:PT1H
X-Robots-Tag:noindex
X-PUBLISHED-TTL:PT1H
BEGIN:VTIMEZONE
TZID:America/New_York
BEGIN:DAYLIGHT
TZOFFSETFROM:-0500
TZOFFSETTO:-0400
TZNAME:EDT
DTSTART:20250309T070000
END:DAYLIGHT
BEGIN:STANDARD
TZOFFSETFROM:-0400
TZOFFSETTO:-0500
TZNAME:EST
DTSTART:20251102T060000
END:STANDARD
BEGIN:DAYLIGHT
TZOFFSETFROM:-0500
TZOFFSETTO:-0400
TZNAME:EDT
DTSTART:20260308T070000
END:DAYLIGHT
BEGIN:STANDARD
TZOFFSETFROM:-0400
TZOFFSETTO:-0500
TZNAME:EST
DTSTART:20261101T060000
END:STANDARD
BEGIN:DAYLIGHT
TZOFFSETFROM:-0500
TZOFFSETTO:-0400
TZNAME:EDT
DTSTART:20270314T070000
END:DAYLIGHT
BEGIN:STANDARD
TZOFFSETFROM:-0400
TZOFFSETTO:-0500
TZNAME:EST
DTSTART:20271107T060000
END:STANDARD
END:VTIMEZONE
BEGIN:VEVENT
DTSTART;TZID=America/New_York:20260105T110000
DTEND;TZID=America/New_York:20260105T120000
DTSTAMP:20260421T122921
CREATED:20251230T015325Z
LAST-MODIFIED:20251230T015710Z
UID:10009171-1767610800-1767614400@popfb.org
SUMMARY:Funeral: Louis H. Zoeckler
DESCRIPTION:Por favor\, recen por el eterno descanso del alma de Louis H. Zoeckler\, quien falleció el 21 de diciembre de 2025. El Padre Pete celebrará una Misa de Resurrección el lunes 5 de enero de 2026 a las 11:00 a. m.
URL:https://popfb.org/es/event/funeral-louis-h-zoeckler/
LOCATION:Prince of Peace\, 6439 Spout Springs Rd.\, Flowery Branch\, Georgia\, 30542\, United States
CATEGORIES:Eventos Destacados,Funerales
ATTACH;FMTTYPE=image/png:https://popfb.org/wp-content/uploads/2025/12/For-Funerals-Page-10.png
END:VEVENT
BEGIN:VEVENT
DTSTART;TZID=America/New_York:20260123T130000
DTEND;TZID=America/New_York:20260123T140000
DTSTAMP:20260421T122921
CREATED:20260120T175051Z
LAST-MODIFIED:20260120T175051Z
UID:10009471-1769173200-1769176800@popfb.org
SUMMARY:Funeral: Vernon Joseph Benson Jr.
DESCRIPTION:Por favor\, recen por el eterno descanso del alma de Vernon Joseph Benson Jr.\, quien falleció el 13 de enero de 2026. El padre Ignacio celebrará una misa de resurrección el viernes 23 de enero a la 1 de la tarde.
URL:https://popfb.org/es/event/funeral-vernon-joseph-benson-jr/
LOCATION:Prince of Peace\, 6439 Spout Springs Rd.\, Flowery Branch\, Georgia\, 30542\, United States
CATEGORIES:Eventos Destacados,Funerales
ATTACH;FMTTYPE=image/png:https://popfb.org/wp-content/uploads/2023/12/For-Funerals-Page.png
END:VEVENT
BEGIN:VEVENT
DTSTART;TZID=America/New_York:20260129T110000
DTEND;TZID=America/New_York:20260129T120000
DTSTAMP:20260421T122921
CREATED:20260127T182213Z
LAST-MODIFIED:20260128T153234Z
UID:10009520-1769684400-1769688000@popfb.org
SUMMARY:Funeral: Joey Mazzari
DESCRIPTION:Please pray for the repose of the soul of Joey Mazzari\, who passed away on Friday\, January 16\, 2026. Father Eric Hill will celebrate a Mass of Resurrection on Thursday\, January 29 at 11am.
URL:https://popfb.org/es/event/funeral-joey-mazzari/
LOCATION:Prince of Peace\, 6439 Spout Springs Rd.\, Flowery Branch\, Georgia\, 30542\, United States
CATEGORIES:Eventos Destacados,Funerales
ATTACH;FMTTYPE=image/png:https://popfb.org/wp-content/uploads/2026/01/For-Funerals-Page-11.png
END:VEVENT
END:VCALENDAR