BEGIN:VCALENDAR
VERSION:2.0
PRODID:-//Prince of Peace - ECPv6.15.16.1//NONSGML v1.0//EN
CALSCALE:GREGORIAN
METHOD:PUBLISH
X-WR-CALNAME:Prince of Peace
X-ORIGINAL-URL:https://popfb.org/es/
X-WR-CALDESC:Eventos para Prince of Peace
REFRESH-INTERVAL;VALUE=DURATION:PT1H
X-Robots-Tag:noindex
X-PUBLISHED-TTL:PT1H
BEGIN:VTIMEZONE
TZID:America/New_York
BEGIN:DAYLIGHT
TZOFFSETFROM:-0500
TZOFFSETTO:-0400
TZNAME:EDT
DTSTART:20240310T070000
END:DAYLIGHT
BEGIN:STANDARD
TZOFFSETFROM:-0400
TZOFFSETTO:-0500
TZNAME:EST
DTSTART:20241103T060000
END:STANDARD
BEGIN:DAYLIGHT
TZOFFSETFROM:-0500
TZOFFSETTO:-0400
TZNAME:EDT
DTSTART:20250309T070000
END:DAYLIGHT
BEGIN:STANDARD
TZOFFSETFROM:-0400
TZOFFSETTO:-0500
TZNAME:EST
DTSTART:20251102T060000
END:STANDARD
BEGIN:DAYLIGHT
TZOFFSETFROM:-0500
TZOFFSETTO:-0400
TZNAME:EDT
DTSTART:20260308T070000
END:DAYLIGHT
BEGIN:STANDARD
TZOFFSETFROM:-0400
TZOFFSETTO:-0500
TZNAME:EST
DTSTART:20261101T060000
END:STANDARD
END:VTIMEZONE
BEGIN:VEVENT
DTSTART;TZID=America/New_York:20250801T150000
DTEND;TZID=America/New_York:20250801T160000
DTSTAMP:20260421T202624
CREATED:20250723T143457Z
LAST-MODIFIED:20250723T143457Z
UID:10008342-1754060400-1754064000@popfb.org
SUMMARY:Funeral: Yvonne Pineda de Tapia
DESCRIPTION:Por favor oren por el descanso del alma de Yvonne Pineda de Tapia\, quien falleció el 19 de julio de 2025. El Padre Ignacio celebrará una Misa de Resurrección el viernes\, 1 de agosto\, a las 3pm.
URL:https://popfb.org/es/event/funeral-yvonne-pineda-de-tapia/
LOCATION:Prince of Peace\, 6439 Spout Springs Rd.\, Flowery Branch\, Georgia\, 30542\, United States
CATEGORIES:Funerales
ATTACH;FMTTYPE=image/png:https://popfb.org/wp-content/uploads/2023/12/For-Funerals-Page.png
END:VEVENT
BEGIN:VEVENT
DTSTART;TZID=America/New_York:20250808T130000
DTEND;TZID=America/New_York:20250808T140000
DTSTAMP:20260421T202624
CREATED:20250620T154130Z
LAST-MODIFIED:20250620T154130Z
UID:10008285-1754658000-1754661600@popfb.org
SUMMARY:Funeral: Edward J. Quirk Jr.
DESCRIPTION:Por favor\, oren por el descanso del alma de Edward J. Quirk Jr.\, quien falleció el 5 de junio de 2025. El Padre Pete celebrará una Misa de Resurrección el 8 de agosto a la 1pm.
URL:https://popfb.org/es/event/funeral-edward-j-quirk-jr/
LOCATION:Prince of Peace\, 6439 Spout Springs Rd.\, Flowery Branch\, Georgia\, 30542\, United States
CATEGORIES:Funerales
ATTACH;FMTTYPE=image/png:https://popfb.org/wp-content/uploads/2023/12/For-Funerals-Page.png
END:VEVENT
BEGIN:VEVENT
DTSTART;TZID=America/New_York:20250808T150000
DTEND;TZID=America/New_York:20250808T160000
DTSTAMP:20260421T202624
CREATED:20250806T171122Z
LAST-MODIFIED:20250807T151651Z
UID:10008402-1754665200-1754668800@popfb.org
SUMMARY:Funeral: Maria Teresa Jordan Martinez
DESCRIPTION:Por favor\, oren por el descanso eterno del alma de María Teresa Jordán Martínez\, quien falleció el 5 de agosto de 2025. El Padre Ignacio celebrará una Misa de Resurrección el viernes 8 de agosto a las 3:00 p.m.
URL:https://popfb.org/es/event/funeral-maria-teresa-jordan-martinez/
LOCATION:Prince of Peace\, 6439 Spout Springs Rd.\, Flowery Branch\, Georgia\, 30542\, United States
CATEGORIES:Funerales
ATTACH;FMTTYPE=image/png:https://popfb.org/wp-content/uploads/2025/08/For-Funerals-Page.png
END:VEVENT
BEGIN:VEVENT
DTSTART;TZID=America/New_York:20250822T110000
DTEND;TZID=America/New_York:20250822T120000
DTSTAMP:20260421T202624
CREATED:20250814T184842Z
LAST-MODIFIED:20250814T184842Z
UID:10008490-1755860400-1755864000@popfb.org
SUMMARY:Funeral: Odon Rebollar Vargas
DESCRIPTION:Por favor\, ore por el descanso del alma de Odon Rebollar Vargas\, quien falleció el 23 de julio de 2024. El Padre Ignacio celebrará una Misa de Resurrección el viernes\, 22 de agosto a las 11:00 a.m.
URL:https://popfb.org/es/event/funeral-odon-rebollar-vargas/
LOCATION:Prince of Peace\, 6439 Spout Springs Rd.\, Flowery Branch\, Georgia\, 30542\, United States
CATEGORIES:Eventos Destacados,Funerales
ATTACH;FMTTYPE=image/png:https://popfb.org/wp-content/uploads/2023/12/For-Funerals-Page.png
END:VEVENT
END:VCALENDAR