BEGIN:VCALENDAR
VERSION:2.0
PRODID:-//Prince of Peace - ECPv6.15.16.1//NONSGML v1.0//EN
CALSCALE:GREGORIAN
METHOD:PUBLISH
X-ORIGINAL-URL:https://popfb.org/es/
X-WR-CALDESC:Eventos para Prince of Peace
REFRESH-INTERVAL;VALUE=DURATION:PT1H
X-Robots-Tag:noindex
X-PUBLISHED-TTL:PT1H
BEGIN:VTIMEZONE
TZID:America/New_York
BEGIN:DAYLIGHT
TZOFFSETFROM:-0500
TZOFFSETTO:-0400
TZNAME:EDT
DTSTART:20240310T070000
END:DAYLIGHT
BEGIN:STANDARD
TZOFFSETFROM:-0400
TZOFFSETTO:-0500
TZNAME:EST
DTSTART:20241103T060000
END:STANDARD
BEGIN:DAYLIGHT
TZOFFSETFROM:-0500
TZOFFSETTO:-0400
TZNAME:EDT
DTSTART:20250309T070000
END:DAYLIGHT
BEGIN:STANDARD
TZOFFSETFROM:-0400
TZOFFSETTO:-0500
TZNAME:EST
DTSTART:20251102T060000
END:STANDARD
BEGIN:DAYLIGHT
TZOFFSETFROM:-0500
TZOFFSETTO:-0400
TZNAME:EDT
DTSTART:20260308T070000
END:DAYLIGHT
BEGIN:STANDARD
TZOFFSETFROM:-0400
TZOFFSETTO:-0500
TZNAME:EST
DTSTART:20261101T060000
END:STANDARD
END:VTIMEZONE
BEGIN:VEVENT
DTSTART;TZID=America/New_York:20250524T103000
DTEND;TZID=America/New_York:20250524T113000
DTSTAMP:20260422T015120
CREATED:20250519T134959Z
LAST-MODIFIED:20250519T134959Z
UID:10008187-1748082600-1748086200@popfb.org
SUMMARY:Funeral: Marie Therese Brutis Colin
DESCRIPTION:Por favor\, oren por el descanso eterno de Marie Therese Brutis Colin. El Padre Carl Jean celebrará una Misa de Resurrección el sábado\, 24 de mayo\, a las 10:30am.
URL:https://popfb.org/es/event/funeral-marie-therese-brutis-colin/
LOCATION:Prince of Peace\, 6439 Spout Springs Rd.\, Flowery Branch\, Georgia\, 30542\, United States
CATEGORIES:Funerales
ATTACH;FMTTYPE=image/png:https://popfb.org/wp-content/uploads/2023/12/For-Funerals-Page.png
END:VEVENT
BEGIN:VEVENT
DTSTART;TZID=America/New_York:20250530T130000
DTEND;TZID=America/New_York:20250530T140000
DTSTAMP:20260422T015120
CREATED:20250519T175109Z
LAST-MODIFIED:20250529T133851Z
UID:10008189-1748610000-1748613600@popfb.org
SUMMARY:Funeral: Yelitza Alvarado
DESCRIPTION:\,Por favor oren por el descanso del alma de Yelitza Alana de Alvarado\, quien falleció el sábado 17 de mayo de 2025. El Padre Ignacio celebrará una Misa de Resurrección el viernes\, 30 de mayo\, a la 1pm.
URL:https://popfb.org/es/event/funeral-yelitza-alvarado/
LOCATION:Prince of Peace\, 6439 Spout Springs Rd.\, Flowery Branch\, Georgia\, 30542\, United States
CATEGORIES:Funerales
ATTACH;FMTTYPE=image/png:https://popfb.org/wp-content/uploads/2025/05/For-Funerals-Page-1.png
END:VEVENT
END:VCALENDAR