BEGIN:VCALENDAR
VERSION:2.0
PRODID:-//Prince of Peace - ECPv6.15.16.1//NONSGML v1.0//EN
CALSCALE:GREGORIAN
METHOD:PUBLISH
X-ORIGINAL-URL:https://popfb.org/es/
X-WR-CALDESC:Eventos para Prince of Peace
REFRESH-INTERVAL;VALUE=DURATION:PT1H
X-Robots-Tag:noindex
X-PUBLISHED-TTL:PT1H
BEGIN:VTIMEZONE
TZID:America/New_York
BEGIN:DAYLIGHT
TZOFFSETFROM:-0500
TZOFFSETTO:-0400
TZNAME:EDT
DTSTART:20250309T070000
END:DAYLIGHT
BEGIN:STANDARD
TZOFFSETFROM:-0400
TZOFFSETTO:-0500
TZNAME:EST
DTSTART:20251102T060000
END:STANDARD
BEGIN:DAYLIGHT
TZOFFSETFROM:-0500
TZOFFSETTO:-0400
TZNAME:EDT
DTSTART:20260308T070000
END:DAYLIGHT
BEGIN:STANDARD
TZOFFSETFROM:-0400
TZOFFSETTO:-0500
TZNAME:EST
DTSTART:20261101T060000
END:STANDARD
BEGIN:DAYLIGHT
TZOFFSETFROM:-0500
TZOFFSETTO:-0400
TZNAME:EDT
DTSTART:20270314T070000
END:DAYLIGHT
BEGIN:STANDARD
TZOFFSETFROM:-0400
TZOFFSETTO:-0500
TZNAME:EST
DTSTART:20271107T060000
END:STANDARD
BEGIN:DAYLIGHT
TZOFFSETFROM:-0500
TZOFFSETTO:-0400
TZNAME:EDT
DTSTART:20280312T070000
END:DAYLIGHT
BEGIN:STANDARD
TZOFFSETFROM:-0400
TZOFFSETTO:-0500
TZNAME:EST
DTSTART:20281105T060000
END:STANDARD
END:VTIMEZONE
BEGIN:VEVENT
DTSTART;VALUE=DATE:20260507
DTEND;VALUE=DATE:20260508
DTSTAMP:20260420T064450
CREATED:20260401T144343Z
LAST-MODIFIED:20260401T144845Z
UID:10009923-1778112000-1778198399@popfb.org
SUMMARY:Inscripciones: Formación en la Fe y Preparación Sacramental
DESCRIPTION:La inscripción para nuestros programas de Formación de Fe y Preparación Sacramental 2026-2027 (Grados K–12) comienza el lunes\, 27 de abril de 2026. \nYa sea que su hijo se esté preparando para recibir un sacramento o que continúe creciendo en su camino en la fe católica\, nuestros programas están diseñados para ayudarle a fortalecer su amor\, conocimiento y relación con Cristo. \nLos detalles del programa ya están disponibles y los enlaces de inscripción se abrirán el 27 de abril. Mientras tanto\, le recomendamos guardar esta página para estar listo: popfb.org/SPFF.
URL:https://popfb.org/es/event/inscripciones-formacion-en-la-fe-y-preparacion-sacramental/2026-05-07/
CATEGORIES:Eventos Destacados,Formación de Fe para Jóvenes,Formación de Fe para Niños,Preparación sacramental juvenil,Preparación Sacramental para Niños
ATTACH;FMTTYPE=image/png:https://popfb.org/wp-content/uploads/2026/04/Registration.png
END:VEVENT
BEGIN:VEVENT
DTSTART;VALUE=DATE:20260508
DTEND;VALUE=DATE:20260509
DTSTAMP:20260420T064450
CREATED:20260401T144343Z
LAST-MODIFIED:20260401T144845Z
UID:10009924-1778198400-1778284799@popfb.org
SUMMARY:Inscripciones: Formación en la Fe y Preparación Sacramental
DESCRIPTION:La inscripción para nuestros programas de Formación de Fe y Preparación Sacramental 2026-2027 (Grados K–12) comienza el lunes\, 27 de abril de 2026. \nYa sea que su hijo se esté preparando para recibir un sacramento o que continúe creciendo en su camino en la fe católica\, nuestros programas están diseñados para ayudarle a fortalecer su amor\, conocimiento y relación con Cristo. \nLos detalles del programa ya están disponibles y los enlaces de inscripción se abrirán el 27 de abril. Mientras tanto\, le recomendamos guardar esta página para estar listo: popfb.org/SPFF.
URL:https://popfb.org/es/event/inscripciones-formacion-en-la-fe-y-preparacion-sacramental/2026-05-08/
CATEGORIES:Eventos Destacados,Formación de Fe para Jóvenes,Formación de Fe para Niños,Preparación sacramental juvenil,Preparación Sacramental para Niños
ATTACH;FMTTYPE=image/png:https://popfb.org/wp-content/uploads/2026/04/Registration.png
END:VEVENT
BEGIN:VEVENT
DTSTART;VALUE=DATE:20260509
DTEND;VALUE=DATE:20260510
DTSTAMP:20260420T064450
CREATED:20260401T144343Z
LAST-MODIFIED:20260401T144845Z
UID:10009925-1778284800-1778371199@popfb.org
SUMMARY:Inscripciones: Formación en la Fe y Preparación Sacramental
DESCRIPTION:La inscripción para nuestros programas de Formación de Fe y Preparación Sacramental 2026-2027 (Grados K–12) comienza el lunes\, 27 de abril de 2026. \nYa sea que su hijo se esté preparando para recibir un sacramento o que continúe creciendo en su camino en la fe católica\, nuestros programas están diseñados para ayudarle a fortalecer su amor\, conocimiento y relación con Cristo. \nLos detalles del programa ya están disponibles y los enlaces de inscripción se abrirán el 27 de abril. Mientras tanto\, le recomendamos guardar esta página para estar listo: popfb.org/SPFF.
URL:https://popfb.org/es/event/inscripciones-formacion-en-la-fe-y-preparacion-sacramental/2026-05-09/
CATEGORIES:Eventos Destacados,Formación de Fe para Jóvenes,Formación de Fe para Niños,Preparación sacramental juvenil,Preparación Sacramental para Niños
ATTACH;FMTTYPE=image/png:https://popfb.org/wp-content/uploads/2026/04/Registration.png
END:VEVENT
BEGIN:VEVENT
DTSTART;TZID=America/New_York:20260509T080000
DTEND;TZID=America/New_York:20260509T170000
DTSTAMP:20260420T064450
CREATED:20250821T174722Z
LAST-MODIFIED:20250821T174722Z
UID:10008928-1778313600-1778346000@popfb.org
SUMMARY:Adoración Familiar
DESCRIPTION:Enseñar a sus hijos a adorar a Jesús en la Eucaristía es un regalo que nunca olvidarán. Lo invitamos a nuestra Adoración Familiar mensual del Santísimo Sacramento en la Capilla del Santísimo Sacramento. ¡Los niños que se mueven y se ríen de todas las edades y sus padres están invitados a venir y pasar tiempo con Jesús! \nTodos son bienvenidos a venir por el menor o el mayor tiempo posible\, pero le pedimos que\, si puede comprometerse\, se registre para que sepamos que al menos una familia estará presente para ser guardián del Santísimo Sacramento en todo momento.
URL:https://popfb.org/es/event/adoracion-familiar/2026-05-09/
CATEGORIES:Adoracion Familiar,Eventos Destacados,Formación de Fe para Niños,Página de Adoración
ATTACH;FMTTYPE=image/png:https://popfb.org/wp-content/uploads/2025/04/Events-Calendar-Thumbnail-website-67.png
END:VEVENT
BEGIN:VEVENT
DTSTART;VALUE=DATE:20260510
DTEND;VALUE=DATE:20260511
DTSTAMP:20260420T064450
CREATED:20260401T144343Z
LAST-MODIFIED:20260401T144845Z
UID:10009926-1778371200-1778457599@popfb.org
SUMMARY:Inscripciones: Formación en la Fe y Preparación Sacramental
DESCRIPTION:La inscripción para nuestros programas de Formación de Fe y Preparación Sacramental 2026-2027 (Grados K–12) comienza el lunes\, 27 de abril de 2026. \nYa sea que su hijo se esté preparando para recibir un sacramento o que continúe creciendo en su camino en la fe católica\, nuestros programas están diseñados para ayudarle a fortalecer su amor\, conocimiento y relación con Cristo. \nLos detalles del programa ya están disponibles y los enlaces de inscripción se abrirán el 27 de abril. Mientras tanto\, le recomendamos guardar esta página para estar listo: popfb.org/SPFF.
URL:https://popfb.org/es/event/inscripciones-formacion-en-la-fe-y-preparacion-sacramental/2026-05-10/
CATEGORIES:Eventos Destacados,Formación de Fe para Jóvenes,Formación de Fe para Niños,Preparación sacramental juvenil,Preparación Sacramental para Niños
ATTACH;FMTTYPE=image/png:https://popfb.org/wp-content/uploads/2026/04/Registration.png
END:VEVENT
BEGIN:VEVENT
DTSTART;VALUE=DATE:20260511
DTEND;VALUE=DATE:20260512
DTSTAMP:20260420T064450
CREATED:20260401T144343Z
LAST-MODIFIED:20260401T144845Z
UID:10009927-1778457600-1778543999@popfb.org
SUMMARY:Inscripciones: Formación en la Fe y Preparación Sacramental
DESCRIPTION:La inscripción para nuestros programas de Formación de Fe y Preparación Sacramental 2026-2027 (Grados K–12) comienza el lunes\, 27 de abril de 2026. \nYa sea que su hijo se esté preparando para recibir un sacramento o que continúe creciendo en su camino en la fe católica\, nuestros programas están diseñados para ayudarle a fortalecer su amor\, conocimiento y relación con Cristo. \nLos detalles del programa ya están disponibles y los enlaces de inscripción se abrirán el 27 de abril. Mientras tanto\, le recomendamos guardar esta página para estar listo: popfb.org/SPFF.
URL:https://popfb.org/es/event/inscripciones-formacion-en-la-fe-y-preparacion-sacramental/2026-05-11/
CATEGORIES:Eventos Destacados,Formación de Fe para Jóvenes,Formación de Fe para Niños,Preparación sacramental juvenil,Preparación Sacramental para Niños
ATTACH;FMTTYPE=image/png:https://popfb.org/wp-content/uploads/2026/04/Registration.png
END:VEVENT
BEGIN:VEVENT
DTSTART;VALUE=DATE:20260512
DTEND;VALUE=DATE:20260513
DTSTAMP:20260420T064450
CREATED:20260401T144343Z
LAST-MODIFIED:20260401T144845Z
UID:10009928-1778544000-1778630399@popfb.org
SUMMARY:Inscripciones: Formación en la Fe y Preparación Sacramental
DESCRIPTION:La inscripción para nuestros programas de Formación de Fe y Preparación Sacramental 2026-2027 (Grados K–12) comienza el lunes\, 27 de abril de 2026. \nYa sea que su hijo se esté preparando para recibir un sacramento o que continúe creciendo en su camino en la fe católica\, nuestros programas están diseñados para ayudarle a fortalecer su amor\, conocimiento y relación con Cristo. \nLos detalles del programa ya están disponibles y los enlaces de inscripción se abrirán el 27 de abril. Mientras tanto\, le recomendamos guardar esta página para estar listo: popfb.org/SPFF.
URL:https://popfb.org/es/event/inscripciones-formacion-en-la-fe-y-preparacion-sacramental/2026-05-12/
CATEGORIES:Eventos Destacados,Formación de Fe para Jóvenes,Formación de Fe para Niños,Preparación sacramental juvenil,Preparación Sacramental para Niños
ATTACH;FMTTYPE=image/png:https://popfb.org/wp-content/uploads/2026/04/Registration.png
END:VEVENT
BEGIN:VEVENT
DTSTART;VALUE=DATE:20260513
DTEND;VALUE=DATE:20260514
DTSTAMP:20260420T064450
CREATED:20260401T144343Z
LAST-MODIFIED:20260401T144845Z
UID:10009929-1778630400-1778716799@popfb.org
SUMMARY:Inscripciones: Formación en la Fe y Preparación Sacramental
DESCRIPTION:La inscripción para nuestros programas de Formación de Fe y Preparación Sacramental 2026-2027 (Grados K–12) comienza el lunes\, 27 de abril de 2026. \nYa sea que su hijo se esté preparando para recibir un sacramento o que continúe creciendo en su camino en la fe católica\, nuestros programas están diseñados para ayudarle a fortalecer su amor\, conocimiento y relación con Cristo. \nLos detalles del programa ya están disponibles y los enlaces de inscripción se abrirán el 27 de abril. Mientras tanto\, le recomendamos guardar esta página para estar listo: popfb.org/SPFF.
URL:https://popfb.org/es/event/inscripciones-formacion-en-la-fe-y-preparacion-sacramental/2026-05-13/
CATEGORIES:Eventos Destacados,Formación de Fe para Jóvenes,Formación de Fe para Niños,Preparación sacramental juvenil,Preparación Sacramental para Niños
ATTACH;FMTTYPE=image/png:https://popfb.org/wp-content/uploads/2026/04/Registration.png
END:VEVENT
BEGIN:VEVENT
DTSTART;VALUE=DATE:20260514
DTEND;VALUE=DATE:20260515
DTSTAMP:20260420T064450
CREATED:20260401T144343Z
LAST-MODIFIED:20260401T144845Z
UID:10009930-1778716800-1778803199@popfb.org
SUMMARY:Inscripciones: Formación en la Fe y Preparación Sacramental
DESCRIPTION:La inscripción para nuestros programas de Formación de Fe y Preparación Sacramental 2026-2027 (Grados K–12) comienza el lunes\, 27 de abril de 2026. \nYa sea que su hijo se esté preparando para recibir un sacramento o que continúe creciendo en su camino en la fe católica\, nuestros programas están diseñados para ayudarle a fortalecer su amor\, conocimiento y relación con Cristo. \nLos detalles del programa ya están disponibles y los enlaces de inscripción se abrirán el 27 de abril. Mientras tanto\, le recomendamos guardar esta página para estar listo: popfb.org/SPFF.
URL:https://popfb.org/es/event/inscripciones-formacion-en-la-fe-y-preparacion-sacramental/2026-05-14/
CATEGORIES:Eventos Destacados,Formación de Fe para Jóvenes,Formación de Fe para Niños,Preparación sacramental juvenil,Preparación Sacramental para Niños
ATTACH;FMTTYPE=image/png:https://popfb.org/wp-content/uploads/2026/04/Registration.png
END:VEVENT
BEGIN:VEVENT
DTSTART;VALUE=DATE:20260515
DTEND;VALUE=DATE:20260516
DTSTAMP:20260420T064450
CREATED:20260401T144343Z
LAST-MODIFIED:20260401T144845Z
UID:10009931-1778803200-1778889599@popfb.org
SUMMARY:Inscripciones: Formación en la Fe y Preparación Sacramental
DESCRIPTION:La inscripción para nuestros programas de Formación de Fe y Preparación Sacramental 2026-2027 (Grados K–12) comienza el lunes\, 27 de abril de 2026. \nYa sea que su hijo se esté preparando para recibir un sacramento o que continúe creciendo en su camino en la fe católica\, nuestros programas están diseñados para ayudarle a fortalecer su amor\, conocimiento y relación con Cristo. \nLos detalles del programa ya están disponibles y los enlaces de inscripción se abrirán el 27 de abril. Mientras tanto\, le recomendamos guardar esta página para estar listo: popfb.org/SPFF.
URL:https://popfb.org/es/event/inscripciones-formacion-en-la-fe-y-preparacion-sacramental/2026-05-15/
CATEGORIES:Eventos Destacados,Formación de Fe para Jóvenes,Formación de Fe para Niños,Preparación sacramental juvenil,Preparación Sacramental para Niños
ATTACH;FMTTYPE=image/png:https://popfb.org/wp-content/uploads/2026/04/Registration.png
END:VEVENT
BEGIN:VEVENT
DTSTART;VALUE=DATE:20260516
DTEND;VALUE=DATE:20260517
DTSTAMP:20260420T064450
CREATED:20260401T144343Z
LAST-MODIFIED:20260401T144845Z
UID:10009932-1778889600-1778975999@popfb.org
SUMMARY:Inscripciones: Formación en la Fe y Preparación Sacramental
DESCRIPTION:La inscripción para nuestros programas de Formación de Fe y Preparación Sacramental 2026-2027 (Grados K–12) comienza el lunes\, 27 de abril de 2026. \nYa sea que su hijo se esté preparando para recibir un sacramento o que continúe creciendo en su camino en la fe católica\, nuestros programas están diseñados para ayudarle a fortalecer su amor\, conocimiento y relación con Cristo. \nLos detalles del programa ya están disponibles y los enlaces de inscripción se abrirán el 27 de abril. Mientras tanto\, le recomendamos guardar esta página para estar listo: popfb.org/SPFF.
URL:https://popfb.org/es/event/inscripciones-formacion-en-la-fe-y-preparacion-sacramental/2026-05-16/
CATEGORIES:Eventos Destacados,Formación de Fe para Jóvenes,Formación de Fe para Niños,Preparación sacramental juvenil,Preparación Sacramental para Niños
ATTACH;FMTTYPE=image/png:https://popfb.org/wp-content/uploads/2026/04/Registration.png
END:VEVENT
BEGIN:VEVENT
DTSTART;VALUE=DATE:20260517
DTEND;VALUE=DATE:20260518
DTSTAMP:20260420T064450
CREATED:20260401T144343Z
LAST-MODIFIED:20260401T144845Z
UID:10009933-1778976000-1779062399@popfb.org
SUMMARY:Inscripciones: Formación en la Fe y Preparación Sacramental
DESCRIPTION:La inscripción para nuestros programas de Formación de Fe y Preparación Sacramental 2026-2027 (Grados K–12) comienza el lunes\, 27 de abril de 2026. \nYa sea que su hijo se esté preparando para recibir un sacramento o que continúe creciendo en su camino en la fe católica\, nuestros programas están diseñados para ayudarle a fortalecer su amor\, conocimiento y relación con Cristo. \nLos detalles del programa ya están disponibles y los enlaces de inscripción se abrirán el 27 de abril. Mientras tanto\, le recomendamos guardar esta página para estar listo: popfb.org/SPFF.
URL:https://popfb.org/es/event/inscripciones-formacion-en-la-fe-y-preparacion-sacramental/2026-05-17/
CATEGORIES:Eventos Destacados,Formación de Fe para Jóvenes,Formación de Fe para Niños,Preparación sacramental juvenil,Preparación Sacramental para Niños
ATTACH;FMTTYPE=image/png:https://popfb.org/wp-content/uploads/2026/04/Registration.png
END:VEVENT
BEGIN:VEVENT
DTSTART;VALUE=DATE:20260518
DTEND;VALUE=DATE:20260519
DTSTAMP:20260420T064450
CREATED:20260401T144343Z
LAST-MODIFIED:20260401T144845Z
UID:10009934-1779062400-1779148799@popfb.org
SUMMARY:Inscripciones: Formación en la Fe y Preparación Sacramental
DESCRIPTION:La inscripción para nuestros programas de Formación de Fe y Preparación Sacramental 2026-2027 (Grados K–12) comienza el lunes\, 27 de abril de 2026. \nYa sea que su hijo se esté preparando para recibir un sacramento o que continúe creciendo en su camino en la fe católica\, nuestros programas están diseñados para ayudarle a fortalecer su amor\, conocimiento y relación con Cristo. \nLos detalles del programa ya están disponibles y los enlaces de inscripción se abrirán el 27 de abril. Mientras tanto\, le recomendamos guardar esta página para estar listo: popfb.org/SPFF.
URL:https://popfb.org/es/event/inscripciones-formacion-en-la-fe-y-preparacion-sacramental/2026-05-18/
CATEGORIES:Eventos Destacados,Formación de Fe para Jóvenes,Formación de Fe para Niños,Preparación sacramental juvenil,Preparación Sacramental para Niños
ATTACH;FMTTYPE=image/png:https://popfb.org/wp-content/uploads/2026/04/Registration.png
END:VEVENT
BEGIN:VEVENT
DTSTART;VALUE=DATE:20260608
DTEND;VALUE=DATE:20260613
DTSTAMP:20260420T064450
CREATED:20250416T152708Z
LAST-MODIFIED:20260123T200553Z
UID:10008139-1780876800-1781308799@popfb.org
SUMMARY:Escuela Bíblica de Verano
DESCRIPTION:Adéntrese en la niebla\, camine bajo un dosel exuberante y escuche el canto de los pájaros y los aullidos lejanos de los monos. Acompáñenos mientras nos sumergimos en una aventura que dura toda la vida\, descubriendo las maravillas asombrosas de la creación de Dios. En el corazón de la selva tropical\, exploraremos lo que significa estar arraigado en una relación con Dios: un refugio en las tormentas de la vida\, una fuente de fortaleza y un lugar de paz.   \nParticipe en la Escuela Bíblica de Verano 2026 del 8 al 13 de junio. \nLas inscripciones para Escuela Bíblica de Verano 2026 abrirán el 2 de marzo de 2026. ¡Los cupos se llenan rápidamente\, así que regístrese con anticipación!  \nEsta inscripción incluirá la opción para inscribirse como voluntario. ¡Necesitamos su ayuda! ¡Considere en oración dónde podría sentirse llamado a servir!
URL:https://popfb.org/es/event/vbs-creando-con-un-proposito/
CATEGORIES:Eventos Destacados,Formación de Fe para Niños
ATTACH;FMTTYPE=image/png:https://popfb.org/wp-content/uploads/2025/04/Events-Calendar-Thumbnail-website-68.png
END:VEVENT
BEGIN:VEVENT
DTSTART;TZID=America/New_York:20270617T093000
DTEND;TZID=America/New_York:20270617T110000
DTSTAMP:20260420T064450
CREATED:20250821T174722Z
LAST-MODIFIED:20250821T174722Z
UID:10008929-1813224600-1813230000@popfb.org
SUMMARY:Adoración Familiar
DESCRIPTION:Enseñar a sus hijos a adorar a Jesús en la Eucaristía es un regalo que nunca olvidarán. Lo invitamos a nuestra Adoración Familiar mensual del Santísimo Sacramento en la Capilla del Santísimo Sacramento. ¡Los niños que se mueven y se ríen de todas las edades y sus padres están invitados a venir y pasar tiempo con Jesús! \nTodos son bienvenidos a venir por el menor o el mayor tiempo posible\, pero le pedimos que\, si puede comprometerse\, se registre para que sepamos que al menos una familia estará presente para ser guardián del Santísimo Sacramento en todo momento.
URL:https://popfb.org/es/event/adoracion-familiar/2027-06-17/
CATEGORIES:Adoracion Familiar,Eventos Destacados,Formación de Fe para Niños,Página de Adoración
ATTACH;FMTTYPE=image/png:https://popfb.org/wp-content/uploads/2025/04/Events-Calendar-Thumbnail-website-67.png
END:VEVENT
END:VCALENDAR