BEGIN:VCALENDAR
VERSION:2.0
PRODID:-//Prince of Peace - ECPv6.15.16.1//NONSGML v1.0//EN
CALSCALE:GREGORIAN
METHOD:PUBLISH
X-WR-CALNAME:Prince of Peace
X-ORIGINAL-URL:https://popfb.org/es/
X-WR-CALDESC:Eventos para Prince of Peace
REFRESH-INTERVAL;VALUE=DURATION:PT1H
X-Robots-Tag:noindex
X-PUBLISHED-TTL:PT1H
BEGIN:VTIMEZONE
TZID:America/New_York
BEGIN:DAYLIGHT
TZOFFSETFROM:-0500
TZOFFSETTO:-0400
TZNAME:EDT
DTSTART:20250309T070000
END:DAYLIGHT
BEGIN:STANDARD
TZOFFSETFROM:-0400
TZOFFSETTO:-0500
TZNAME:EST
DTSTART:20251102T060000
END:STANDARD
BEGIN:DAYLIGHT
TZOFFSETFROM:-0500
TZOFFSETTO:-0400
TZNAME:EDT
DTSTART:20260308T070000
END:DAYLIGHT
BEGIN:STANDARD
TZOFFSETFROM:-0400
TZOFFSETTO:-0500
TZNAME:EST
DTSTART:20261101T060000
END:STANDARD
BEGIN:DAYLIGHT
TZOFFSETFROM:-0500
TZOFFSETTO:-0400
TZNAME:EDT
DTSTART:20270314T070000
END:DAYLIGHT
BEGIN:STANDARD
TZOFFSETFROM:-0400
TZOFFSETTO:-0500
TZNAME:EST
DTSTART:20271107T060000
END:STANDARD
END:VTIMEZONE
BEGIN:VEVENT
DTSTART;VALUE=DATE:20260608
DTEND;VALUE=DATE:20260613
DTSTAMP:20260420T064151
CREATED:20250416T152708Z
LAST-MODIFIED:20260123T200553Z
UID:10008139-1780876800-1781308799@popfb.org
SUMMARY:Escuela Bíblica de Verano
DESCRIPTION:Adéntrese en la niebla\, camine bajo un dosel exuberante y escuche el canto de los pájaros y los aullidos lejanos de los monos. Acompáñenos mientras nos sumergimos en una aventura que dura toda la vida\, descubriendo las maravillas asombrosas de la creación de Dios. En el corazón de la selva tropical\, exploraremos lo que significa estar arraigado en una relación con Dios: un refugio en las tormentas de la vida\, una fuente de fortaleza y un lugar de paz.   \nParticipe en la Escuela Bíblica de Verano 2026 del 8 al 13 de junio. \nLas inscripciones para Escuela Bíblica de Verano 2026 abrirán el 2 de marzo de 2026. ¡Los cupos se llenan rápidamente\, así que regístrese con anticipación!  \nEsta inscripción incluirá la opción para inscribirse como voluntario. ¡Necesitamos su ayuda! ¡Considere en oración dónde podría sentirse llamado a servir!
URL:https://popfb.org/es/event/vbs-creando-con-un-proposito/
CATEGORIES:Eventos Destacados,Formación de Fe para Niños
ATTACH;FMTTYPE=image/png:https://popfb.org/wp-content/uploads/2025/04/Events-Calendar-Thumbnail-website-68.png
END:VEVENT
END:VCALENDAR