BEGIN:VCALENDAR
VERSION:2.0
PRODID:-//Prince of Peace - ECPv6.15.16.1//NONSGML v1.0//EN
CALSCALE:GREGORIAN
METHOD:PUBLISH
X-WR-CALNAME:Prince of Peace
X-ORIGINAL-URL:https://popfb.org/es/
X-WR-CALDESC:Eventos para Prince of Peace
REFRESH-INTERVAL;VALUE=DURATION:PT1H
X-Robots-Tag:noindex
X-PUBLISHED-TTL:PT1H
BEGIN:VTIMEZONE
TZID:America/New_York
BEGIN:DAYLIGHT
TZOFFSETFROM:-0500
TZOFFSETTO:-0400
TZNAME:EDT
DTSTART:20240310T070000
END:DAYLIGHT
BEGIN:STANDARD
TZOFFSETFROM:-0400
TZOFFSETTO:-0500
TZNAME:EST
DTSTART:20241103T060000
END:STANDARD
BEGIN:DAYLIGHT
TZOFFSETFROM:-0500
TZOFFSETTO:-0400
TZNAME:EDT
DTSTART:20250309T070000
END:DAYLIGHT
BEGIN:STANDARD
TZOFFSETFROM:-0400
TZOFFSETTO:-0500
TZNAME:EST
DTSTART:20251102T060000
END:STANDARD
BEGIN:DAYLIGHT
TZOFFSETFROM:-0500
TZOFFSETTO:-0400
TZNAME:EDT
DTSTART:20260308T070000
END:DAYLIGHT
BEGIN:STANDARD
TZOFFSETFROM:-0400
TZOFFSETTO:-0500
TZNAME:EST
DTSTART:20261101T060000
END:STANDARD
END:VTIMEZONE
BEGIN:VEVENT
DTSTART;TZID=America/New_York:20250518T170000
DTEND;TZID=America/New_York:20250518T180000
DTSTAMP:20260422T031305
CREATED:20250512T130603Z
LAST-MODIFIED:20250512T130603Z
UID:10008162-1747587600-1747591200@popfb.org
SUMMARY:Bendición para graduados
DESCRIPTION:¡Todos los estudiantes que se gradúan de High School o de la universidad están invitados a nuestra Bendición para Graduados el domingo\, 18 de mayo en la Misa de 5pm! \nDurante la Misa\, se ofrecerá un reconocimiento especial y una bendición para honrar a nuestros graduados que se preparan para comenzar una nueva etapa en sus vidas. Se les invita a los graduados a traer sus togas de graduación para la Misa.
URL:https://popfb.org/es/event/bendicion-para-graduados/
CATEGORIES:Eventos Destacados,Formación de Fe para Jóvenes
ATTACH;FMTTYPE=image/png:https://popfb.org/wp-content/uploads/2025/05/Events-Calendar-Thumbnail-website.png
END:VEVENT
END:VCALENDAR