BEGIN:VCALENDAR
VERSION:2.0
PRODID:-//Prince of Peace - ECPv6.15.16.1//NONSGML v1.0//EN
CALSCALE:GREGORIAN
METHOD:PUBLISH
X-ORIGINAL-URL:https://popfb.org/es/
X-WR-CALDESC:Eventos para Prince of Peace
REFRESH-INTERVAL;VALUE=DURATION:PT1H
X-Robots-Tag:noindex
X-PUBLISHED-TTL:PT1H
BEGIN:VTIMEZONE
TZID:America/New_York
BEGIN:DAYLIGHT
TZOFFSETFROM:-0500
TZOFFSETTO:-0400
TZNAME:EDT
DTSTART:20250309T070000
END:DAYLIGHT
BEGIN:STANDARD
TZOFFSETFROM:-0400
TZOFFSETTO:-0500
TZNAME:EST
DTSTART:20251102T060000
END:STANDARD
BEGIN:DAYLIGHT
TZOFFSETFROM:-0500
TZOFFSETTO:-0400
TZNAME:EDT
DTSTART:20260308T070000
END:DAYLIGHT
BEGIN:STANDARD
TZOFFSETFROM:-0400
TZOFFSETTO:-0500
TZNAME:EST
DTSTART:20261101T060000
END:STANDARD
BEGIN:DAYLIGHT
TZOFFSETFROM:-0500
TZOFFSETTO:-0400
TZNAME:EDT
DTSTART:20270314T070000
END:DAYLIGHT
BEGIN:STANDARD
TZOFFSETFROM:-0400
TZOFFSETTO:-0500
TZNAME:EST
DTSTART:20271107T060000
END:STANDARD
END:VTIMEZONE
BEGIN:VEVENT
DTSTART;TZID=America/New_York:20260205T100000
DTEND;TZID=America/New_York:20260205T113000
DTSTAMP:20260421T064814
CREATED:20251227T145524Z
LAST-MODIFIED:20251227T145524Z
UID:10009138-1770285600-1770291000@popfb.org
SUMMARY:Sígueme: Encontrarse con Jesús en el Evangelio de Juan
DESCRIPTION:• Estudio Bíblico de 8 semanas en inglés\n• 5 de febrero – 26 de marzo de 2026\n• 10am o 7pm \nSeguir a Cristo requiere más que simplemente creer en Él o cumplir con lo que nos pide. Jesús quiere que usted sea más que un creyente; quiere que sea su discípulo y su amigo.   \nSígueme: Encontrarse con Jesús en el Evangelio de Juan es su guía para un encuentro personal con Cristo. Como el Buen Pastor\, Jesús nos busca. Viene a nuestro encuentro y nos invita a seguirlo. Nos llama a ser sus discípulos\, a confiar en Él\, a abrirnos a su amor misericordioso y a amar a los demás como Él nos ha amado.    \nSígueme lo invita a experimentar la alegría de una amistad renovada con Cristo. En este estudio aprenderá lo que significa seguir a Cristo y descubrirá la alegría de la amistad divina. Verá cómo Dios\, y solo Dios\, puede satisfacer los deseos más profundos de su corazón.   \nPara cualquier pregunta\, comuníquese con Suzanne Coughlin en suzanne@popfb.org.
URL:https://popfb.org/es/event/sigueme-encontrarse-con-jesus-en-el-evangelio-de-juan/2026-02-05/1/
CATEGORIES:Eventos Destacados,Formación de fe para adultos
ATTACH;FMTTYPE=image/png:https://popfb.org/wp-content/uploads/2026/01/Events-Calendar-Thumbnail-website-62.png
END:VEVENT
BEGIN:VEVENT
DTSTART;TZID=America/New_York:20260205T190000
DTEND;TZID=America/New_York:20260205T203000
DTSTAMP:20260421T064814
CREATED:20251227T142700Z
LAST-MODIFIED:20251227T142700Z
UID:10009104-1770318000-1770323400@popfb.org
SUMMARY:Encontrar a Jesús en el Evangelio de San Juan
DESCRIPTION:• 22 de enero – 26 de marzo\n• Jueves a las 7:00pm\n• En español \nEncontrarse con Jesús en el Evangelio de Juan le invita a profundizar su relación con Cristo. Descubra a Jesús como el Buen Pastor que nos busca\, nos llama por nuestro nombre y nos invita a confiar en Él\, seguirlo y crecer en la fe y en una alegría duradera.  \nContacto: carmela@popfb.org
URL:https://popfb.org/es/event/encontrar-a-jesus-en-el-evangelio-de-san-juan/2026-02-05/
CATEGORIES:Eventos Destacados,Formación de fe para adultos
ATTACH;FMTTYPE=image/png:https://popfb.org/wp-content/uploads/2025/12/Events-Calendar-Thumbnail-website-65.png
END:VEVENT
BEGIN:VEVENT
DTSTART;TZID=America/New_York:20260205T190000
DTEND;TZID=America/New_York:20260205T203000
DTSTAMP:20260421T064814
CREATED:20251227T145524Z
LAST-MODIFIED:20251227T145524Z
UID:10009162-1770318000-1770323400@popfb.org
SUMMARY:Sígueme: Encontrarse con Jesús en el Evangelio de Juan
DESCRIPTION:• Estudio Bíblico de 8 semanas en inglés\n• 5 de febrero – 26 de marzo de 2026\n• 10am o 7pm \nSeguir a Cristo requiere más que simplemente creer en Él o cumplir con lo que nos pide. Jesús quiere que usted sea más que un creyente; quiere que sea su discípulo y su amigo.   \nSígueme: Encontrarse con Jesús en el Evangelio de Juan es su guía para un encuentro personal con Cristo. Como el Buen Pastor\, Jesús nos busca. Viene a nuestro encuentro y nos invita a seguirlo. Nos llama a ser sus discípulos\, a confiar en Él\, a abrirnos a su amor misericordioso y a amar a los demás como Él nos ha amado.    \nSígueme lo invita a experimentar la alegría de una amistad renovada con Cristo. En este estudio aprenderá lo que significa seguir a Cristo y descubrirá la alegría de la amistad divina. Verá cómo Dios\, y solo Dios\, puede satisfacer los deseos más profundos de su corazón.   \nPara cualquier pregunta\, comuníquese con Suzanne Coughlin en suzanne@popfb.org.
URL:https://popfb.org/es/event/sigueme-encontrarse-con-jesus-en-el-evangelio-de-juan/2026-02-05/2/
CATEGORIES:Eventos Destacados,Formación de fe para adultos
ATTACH;FMTTYPE=image/png:https://popfb.org/wp-content/uploads/2026/01/Events-Calendar-Thumbnail-website-62.png
END:VEVENT
BEGIN:VEVENT
DTSTART;TZID=America/New_York:20260212T100000
DTEND;TZID=America/New_York:20260212T113000
DTSTAMP:20260421T064814
CREATED:20251227T145524Z
LAST-MODIFIED:20251227T145524Z
UID:10009139-1770890400-1770895800@popfb.org
SUMMARY:Sígueme: Encontrarse con Jesús en el Evangelio de Juan
DESCRIPTION:• Estudio Bíblico de 8 semanas en inglés\n• 5 de febrero – 26 de marzo de 2026\n• 10am o 7pm \nSeguir a Cristo requiere más que simplemente creer en Él o cumplir con lo que nos pide. Jesús quiere que usted sea más que un creyente; quiere que sea su discípulo y su amigo.   \nSígueme: Encontrarse con Jesús en el Evangelio de Juan es su guía para un encuentro personal con Cristo. Como el Buen Pastor\, Jesús nos busca. Viene a nuestro encuentro y nos invita a seguirlo. Nos llama a ser sus discípulos\, a confiar en Él\, a abrirnos a su amor misericordioso y a amar a los demás como Él nos ha amado.    \nSígueme lo invita a experimentar la alegría de una amistad renovada con Cristo. En este estudio aprenderá lo que significa seguir a Cristo y descubrirá la alegría de la amistad divina. Verá cómo Dios\, y solo Dios\, puede satisfacer los deseos más profundos de su corazón.   \nPara cualquier pregunta\, comuníquese con Suzanne Coughlin en suzanne@popfb.org.
URL:https://popfb.org/es/event/sigueme-encontrarse-con-jesus-en-el-evangelio-de-juan/2026-02-12/1/
CATEGORIES:Eventos Destacados,Formación de fe para adultos
ATTACH;FMTTYPE=image/png:https://popfb.org/wp-content/uploads/2026/01/Events-Calendar-Thumbnail-website-62.png
END:VEVENT
BEGIN:VEVENT
DTSTART;TZID=America/New_York:20260212T190000
DTEND;TZID=America/New_York:20260212T203000
DTSTAMP:20260421T064814
CREATED:20251227T142700Z
LAST-MODIFIED:20251227T142700Z
UID:10009105-1770922800-1770928200@popfb.org
SUMMARY:Encontrar a Jesús en el Evangelio de San Juan
DESCRIPTION:• 22 de enero – 26 de marzo\n• Jueves a las 7:00pm\n• En español \nEncontrarse con Jesús en el Evangelio de Juan le invita a profundizar su relación con Cristo. Descubra a Jesús como el Buen Pastor que nos busca\, nos llama por nuestro nombre y nos invita a confiar en Él\, seguirlo y crecer en la fe y en una alegría duradera.  \nContacto: carmela@popfb.org
URL:https://popfb.org/es/event/encontrar-a-jesus-en-el-evangelio-de-san-juan/2026-02-12/
CATEGORIES:Eventos Destacados,Formación de fe para adultos
ATTACH;FMTTYPE=image/png:https://popfb.org/wp-content/uploads/2025/12/Events-Calendar-Thumbnail-website-65.png
END:VEVENT
BEGIN:VEVENT
DTSTART;TZID=America/New_York:20260212T190000
DTEND;TZID=America/New_York:20260212T203000
DTSTAMP:20260421T064814
CREATED:20251227T145524Z
LAST-MODIFIED:20251227T145524Z
UID:10009163-1770922800-1770928200@popfb.org
SUMMARY:Sígueme: Encontrarse con Jesús en el Evangelio de Juan
DESCRIPTION:• Estudio Bíblico de 8 semanas en inglés\n• 5 de febrero – 26 de marzo de 2026\n• 10am o 7pm \nSeguir a Cristo requiere más que simplemente creer en Él o cumplir con lo que nos pide. Jesús quiere que usted sea más que un creyente; quiere que sea su discípulo y su amigo.   \nSígueme: Encontrarse con Jesús en el Evangelio de Juan es su guía para un encuentro personal con Cristo. Como el Buen Pastor\, Jesús nos busca. Viene a nuestro encuentro y nos invita a seguirlo. Nos llama a ser sus discípulos\, a confiar en Él\, a abrirnos a su amor misericordioso y a amar a los demás como Él nos ha amado.    \nSígueme lo invita a experimentar la alegría de una amistad renovada con Cristo. En este estudio aprenderá lo que significa seguir a Cristo y descubrirá la alegría de la amistad divina. Verá cómo Dios\, y solo Dios\, puede satisfacer los deseos más profundos de su corazón.   \nPara cualquier pregunta\, comuníquese con Suzanne Coughlin en suzanne@popfb.org.
URL:https://popfb.org/es/event/sigueme-encontrarse-con-jesus-en-el-evangelio-de-juan/2026-02-12/2/
CATEGORIES:Eventos Destacados,Formación de fe para adultos
ATTACH;FMTTYPE=image/png:https://popfb.org/wp-content/uploads/2026/01/Events-Calendar-Thumbnail-website-62.png
END:VEVENT
BEGIN:VEVENT
DTSTART;TZID=America/New_York:20260219T100000
DTEND;TZID=America/New_York:20260219T113000
DTSTAMP:20260421T064814
CREATED:20251227T145524Z
LAST-MODIFIED:20251227T145524Z
UID:10009140-1771495200-1771500600@popfb.org
SUMMARY:Sígueme: Encontrarse con Jesús en el Evangelio de Juan
DESCRIPTION:• Estudio Bíblico de 8 semanas en inglés\n• 5 de febrero – 26 de marzo de 2026\n• 10am o 7pm \nSeguir a Cristo requiere más que simplemente creer en Él o cumplir con lo que nos pide. Jesús quiere que usted sea más que un creyente; quiere que sea su discípulo y su amigo.   \nSígueme: Encontrarse con Jesús en el Evangelio de Juan es su guía para un encuentro personal con Cristo. Como el Buen Pastor\, Jesús nos busca. Viene a nuestro encuentro y nos invita a seguirlo. Nos llama a ser sus discípulos\, a confiar en Él\, a abrirnos a su amor misericordioso y a amar a los demás como Él nos ha amado.    \nSígueme lo invita a experimentar la alegría de una amistad renovada con Cristo. En este estudio aprenderá lo que significa seguir a Cristo y descubrirá la alegría de la amistad divina. Verá cómo Dios\, y solo Dios\, puede satisfacer los deseos más profundos de su corazón.   \nPara cualquier pregunta\, comuníquese con Suzanne Coughlin en suzanne@popfb.org.
URL:https://popfb.org/es/event/sigueme-encontrarse-con-jesus-en-el-evangelio-de-juan/2026-02-19/1/
CATEGORIES:Eventos Destacados,Formación de fe para adultos
ATTACH;FMTTYPE=image/png:https://popfb.org/wp-content/uploads/2026/01/Events-Calendar-Thumbnail-website-62.png
END:VEVENT
BEGIN:VEVENT
DTSTART;TZID=America/New_York:20260219T190000
DTEND;TZID=America/New_York:20260219T203000
DTSTAMP:20260421T064814
CREATED:20251227T142700Z
LAST-MODIFIED:20251227T142700Z
UID:10009106-1771527600-1771533000@popfb.org
SUMMARY:Encontrar a Jesús en el Evangelio de San Juan
DESCRIPTION:• 22 de enero – 26 de marzo\n• Jueves a las 7:00pm\n• En español \nEncontrarse con Jesús en el Evangelio de Juan le invita a profundizar su relación con Cristo. Descubra a Jesús como el Buen Pastor que nos busca\, nos llama por nuestro nombre y nos invita a confiar en Él\, seguirlo y crecer en la fe y en una alegría duradera.  \nContacto: carmela@popfb.org
URL:https://popfb.org/es/event/encontrar-a-jesus-en-el-evangelio-de-san-juan/2026-02-19/
CATEGORIES:Eventos Destacados,Formación de fe para adultos
ATTACH;FMTTYPE=image/png:https://popfb.org/wp-content/uploads/2025/12/Events-Calendar-Thumbnail-website-65.png
END:VEVENT
BEGIN:VEVENT
DTSTART;TZID=America/New_York:20260219T190000
DTEND;TZID=America/New_York:20260219T203000
DTSTAMP:20260421T064814
CREATED:20251227T145524Z
LAST-MODIFIED:20251227T145524Z
UID:10009164-1771527600-1771533000@popfb.org
SUMMARY:Sígueme: Encontrarse con Jesús en el Evangelio de Juan
DESCRIPTION:• Estudio Bíblico de 8 semanas en inglés\n• 5 de febrero – 26 de marzo de 2026\n• 10am o 7pm \nSeguir a Cristo requiere más que simplemente creer en Él o cumplir con lo que nos pide. Jesús quiere que usted sea más que un creyente; quiere que sea su discípulo y su amigo.   \nSígueme: Encontrarse con Jesús en el Evangelio de Juan es su guía para un encuentro personal con Cristo. Como el Buen Pastor\, Jesús nos busca. Viene a nuestro encuentro y nos invita a seguirlo. Nos llama a ser sus discípulos\, a confiar en Él\, a abrirnos a su amor misericordioso y a amar a los demás como Él nos ha amado.    \nSígueme lo invita a experimentar la alegría de una amistad renovada con Cristo. En este estudio aprenderá lo que significa seguir a Cristo y descubrirá la alegría de la amistad divina. Verá cómo Dios\, y solo Dios\, puede satisfacer los deseos más profundos de su corazón.   \nPara cualquier pregunta\, comuníquese con Suzanne Coughlin en suzanne@popfb.org.
URL:https://popfb.org/es/event/sigueme-encontrarse-con-jesus-en-el-evangelio-de-juan/2026-02-19/2/
CATEGORIES:Eventos Destacados,Formación de fe para adultos
ATTACH;FMTTYPE=image/png:https://popfb.org/wp-content/uploads/2026/01/Events-Calendar-Thumbnail-website-62.png
END:VEVENT
BEGIN:VEVENT
DTSTART;TZID=America/New_York:20260226T100000
DTEND;TZID=America/New_York:20260226T113000
DTSTAMP:20260421T064814
CREATED:20251227T145524Z
LAST-MODIFIED:20251227T145524Z
UID:10009141-1772100000-1772105400@popfb.org
SUMMARY:Sígueme: Encontrarse con Jesús en el Evangelio de Juan
DESCRIPTION:• Estudio Bíblico de 8 semanas en inglés\n• 5 de febrero – 26 de marzo de 2026\n• 10am o 7pm \nSeguir a Cristo requiere más que simplemente creer en Él o cumplir con lo que nos pide. Jesús quiere que usted sea más que un creyente; quiere que sea su discípulo y su amigo.   \nSígueme: Encontrarse con Jesús en el Evangelio de Juan es su guía para un encuentro personal con Cristo. Como el Buen Pastor\, Jesús nos busca. Viene a nuestro encuentro y nos invita a seguirlo. Nos llama a ser sus discípulos\, a confiar en Él\, a abrirnos a su amor misericordioso y a amar a los demás como Él nos ha amado.    \nSígueme lo invita a experimentar la alegría de una amistad renovada con Cristo. En este estudio aprenderá lo que significa seguir a Cristo y descubrirá la alegría de la amistad divina. Verá cómo Dios\, y solo Dios\, puede satisfacer los deseos más profundos de su corazón.   \nPara cualquier pregunta\, comuníquese con Suzanne Coughlin en suzanne@popfb.org.
URL:https://popfb.org/es/event/sigueme-encontrarse-con-jesus-en-el-evangelio-de-juan/2026-02-26/1/
CATEGORIES:Eventos Destacados,Formación de fe para adultos
ATTACH;FMTTYPE=image/png:https://popfb.org/wp-content/uploads/2026/01/Events-Calendar-Thumbnail-website-62.png
END:VEVENT
BEGIN:VEVENT
DTSTART;TZID=America/New_York:20260226T190000
DTEND;TZID=America/New_York:20260226T203000
DTSTAMP:20260421T064814
CREATED:20251227T142700Z
LAST-MODIFIED:20251227T142700Z
UID:10009107-1772132400-1772137800@popfb.org
SUMMARY:Encontrar a Jesús en el Evangelio de San Juan
DESCRIPTION:• 22 de enero – 26 de marzo\n• Jueves a las 7:00pm\n• En español \nEncontrarse con Jesús en el Evangelio de Juan le invita a profundizar su relación con Cristo. Descubra a Jesús como el Buen Pastor que nos busca\, nos llama por nuestro nombre y nos invita a confiar en Él\, seguirlo y crecer en la fe y en una alegría duradera.  \nContacto: carmela@popfb.org
URL:https://popfb.org/es/event/encontrar-a-jesus-en-el-evangelio-de-san-juan/2026-02-26/
CATEGORIES:Eventos Destacados,Formación de fe para adultos
ATTACH;FMTTYPE=image/png:https://popfb.org/wp-content/uploads/2025/12/Events-Calendar-Thumbnail-website-65.png
END:VEVENT
BEGIN:VEVENT
DTSTART;TZID=America/New_York:20260226T190000
DTEND;TZID=America/New_York:20260226T203000
DTSTAMP:20260421T064814
CREATED:20251227T145524Z
LAST-MODIFIED:20251227T145524Z
UID:10009165-1772132400-1772137800@popfb.org
SUMMARY:Sígueme: Encontrarse con Jesús en el Evangelio de Juan
DESCRIPTION:• Estudio Bíblico de 8 semanas en inglés\n• 5 de febrero – 26 de marzo de 2026\n• 10am o 7pm \nSeguir a Cristo requiere más que simplemente creer en Él o cumplir con lo que nos pide. Jesús quiere que usted sea más que un creyente; quiere que sea su discípulo y su amigo.   \nSígueme: Encontrarse con Jesús en el Evangelio de Juan es su guía para un encuentro personal con Cristo. Como el Buen Pastor\, Jesús nos busca. Viene a nuestro encuentro y nos invita a seguirlo. Nos llama a ser sus discípulos\, a confiar en Él\, a abrirnos a su amor misericordioso y a amar a los demás como Él nos ha amado.    \nSígueme lo invita a experimentar la alegría de una amistad renovada con Cristo. En este estudio aprenderá lo que significa seguir a Cristo y descubrirá la alegría de la amistad divina. Verá cómo Dios\, y solo Dios\, puede satisfacer los deseos más profundos de su corazón.   \nPara cualquier pregunta\, comuníquese con Suzanne Coughlin en suzanne@popfb.org.
URL:https://popfb.org/es/event/sigueme-encontrarse-con-jesus-en-el-evangelio-de-juan/2026-02-26/2/
CATEGORIES:Eventos Destacados,Formación de fe para adultos
ATTACH;FMTTYPE=image/png:https://popfb.org/wp-content/uploads/2026/01/Events-Calendar-Thumbnail-website-62.png
END:VEVENT
END:VCALENDAR