BEGIN:VCALENDAR
VERSION:2.0
PRODID:-//Prince of Peace - ECPv6.15.16.1//NONSGML v1.0//EN
CALSCALE:GREGORIAN
METHOD:PUBLISH
X-ORIGINAL-URL:https://popfb.org/es/
X-WR-CALDESC:Eventos para Prince of Peace
REFRESH-INTERVAL;VALUE=DURATION:PT1H
X-Robots-Tag:noindex
X-PUBLISHED-TTL:PT1H
BEGIN:VTIMEZONE
TZID:America/New_York
BEGIN:DAYLIGHT
TZOFFSETFROM:-0500
TZOFFSETTO:-0400
TZNAME:EDT
DTSTART:20240310T070000
END:DAYLIGHT
BEGIN:STANDARD
TZOFFSETFROM:-0400
TZOFFSETTO:-0500
TZNAME:EST
DTSTART:20241103T060000
END:STANDARD
BEGIN:DAYLIGHT
TZOFFSETFROM:-0500
TZOFFSETTO:-0400
TZNAME:EDT
DTSTART:20250309T070000
END:DAYLIGHT
BEGIN:STANDARD
TZOFFSETFROM:-0400
TZOFFSETTO:-0500
TZNAME:EST
DTSTART:20251102T060000
END:STANDARD
BEGIN:DAYLIGHT
TZOFFSETFROM:-0500
TZOFFSETTO:-0400
TZNAME:EDT
DTSTART:20260308T070000
END:DAYLIGHT
BEGIN:STANDARD
TZOFFSETFROM:-0400
TZOFFSETTO:-0500
TZNAME:EST
DTSTART:20261101T060000
END:STANDARD
END:VTIMEZONE
BEGIN:VEVENT
DTSTART;TZID=America/New_York:20251002T100000
DTEND;TZID=America/New_York:20251002T113000
DTSTAMP:20260421T112737
CREATED:20250814T182804Z
LAST-MODIFIED:20250814T182804Z
UID:10008483-1759399200-1759404600@popfb.org
SUMMARY:Lucas: La Historia de la Salvación Cumplida (EN)
DESCRIPTION:• Estudio Bíblico de 8 Semanas en Inglés\n• 9/11/25 – 10/30/25\n• 10am o 7pm \nEl Evangelio de San Lucas lo llevará en un recorrido que inicia con el anuncio del nacimiento de Juan el Bautista y culmina con la Ascensión de Jesús al cielo. En el camino\, será testigo de momentos clave en la historia de la salvación\, incluyendo la Anunciación\, el Nacimiento de Jesús\, su Bautismo\, su ministerio público\, la Última Cena y la Pasión\, Muerte y gloriosa Resurrección del Señor. La fuerza de su mensaje y la belleza de sus detalles despertarán en usted un deseo más profundo de acercarse a Jesús y dejarse transformar por sus enseñanzas.   \nEste Evangelio muestra constantemente cómo Jesús es el cumplimiento de las profecías del Antiguo Testamento. Con Lucas: La Historia de la Salvación Cumplida\, experimentará la alegría de descubrir la fidelidad de Dios a lo largo de los siglos y cómo sus promesas pueden guiarle en la vida diaria.  \nSi tiene alguna pregunta\, comuníquese con Suzanne Coughlin en suzanne@popfb.org.
URL:https://popfb.org/es/event/lucas-la-historia-de-la-salvacion-cumplida-en/2025-10-02/
CATEGORIES:Eventos Destacados,Formación de fe para adultos
ATTACH;FMTTYPE=image/png:https://popfb.org/wp-content/uploads/2025/08/Events-Calendar-Thumbnail-website-11.png
END:VEVENT
BEGIN:VEVENT
DTSTART;TZID=America/New_York:20251007T100000
DTEND;TZID=America/New_York:20251007T120000
DTSTAMP:20260421T112737
CREATED:20250804T161205Z
LAST-MODIFIED:20250804T161205Z
UID:10008514-1759831200-1759838400@popfb.org
SUMMARY:Talleres de Oración y Vida (eng)
DESCRIPTION:¿Desea aprender a alcanzar el silencio y la paz? ¿Liberarse de la angustia y el miedo? \n¡Venga y aprenda a vivir asistiendo a un Taller de Oración y Vida! Durante este taller de 15 semanas\, los participantes aprenderán un método práctico de oración\, aprendiendo a orar orando. A través de la práctica de la fe y la entrega\, y como resultado de la oración\, los participantes comienzan a sanar las heridas del corazón y a experimentar una mayor serenidad. Al contemplar la imagen de Jesús e imitar Sus características\, los participantes lentamente comienzan a transformarse en personas más parecidas a Él.
URL:https://popfb.org/es/event/talleres-de-oracion-y-vida-eng-3/2025-10-07/
CATEGORIES:Formación de fe para adultos
ATTACH;FMTTYPE=image/png:https://popfb.org/wp-content/uploads/2025/08/Prayer-and-Life-Workshop.png
END:VEVENT
BEGIN:VEVENT
DTSTART;TZID=America/New_York:20251007T190000
DTEND;TZID=America/New_York:20251007T210000
DTSTAMP:20260421T112737
CREATED:20250804T161416Z
LAST-MODIFIED:20250804T161416Z
UID:10008544-1759863600-1759870800@popfb.org
SUMMARY:Talleres de Oración y Vida (esp)
DESCRIPTION:¿Desea aprender a alcanzar el silencio y la paz? ¿Liberarse de la angustia y el miedo? \n¡Venga y aprenda a vivir asistiendo a un Taller de Oración y Vida! Durante este taller de 15 semanas\, los participantes aprenderán un método práctico de oración\, aprendiendo a orar orando. A través de la práctica de la fe y la entrega\, y como resultado de la oración\, los participantes comienzan a sanar las heridas del corazón y a experimentar una mayor serenidad. Al contemplar la imagen de Jesús e imitar Sus características\, los participantes lentamente comienzan a transformarse en personas más parecidas a Él.
URL:https://popfb.org/es/event/talleres-de-oracion-y-vida-esp-4/2025-10-07/
CATEGORIES:Formación de fe para adultos
END:VEVENT
BEGIN:VEVENT
DTSTART;TZID=America/New_York:20251009T100000
DTEND;TZID=America/New_York:20251009T113000
DTSTAMP:20260421T112737
CREATED:20250814T182804Z
LAST-MODIFIED:20250814T182804Z
UID:10008484-1760004000-1760009400@popfb.org
SUMMARY:Lucas: La Historia de la Salvación Cumplida (EN)
DESCRIPTION:• Estudio Bíblico de 8 Semanas en Inglés\n• 9/11/25 – 10/30/25\n• 10am o 7pm \nEl Evangelio de San Lucas lo llevará en un recorrido que inicia con el anuncio del nacimiento de Juan el Bautista y culmina con la Ascensión de Jesús al cielo. En el camino\, será testigo de momentos clave en la historia de la salvación\, incluyendo la Anunciación\, el Nacimiento de Jesús\, su Bautismo\, su ministerio público\, la Última Cena y la Pasión\, Muerte y gloriosa Resurrección del Señor. La fuerza de su mensaje y la belleza de sus detalles despertarán en usted un deseo más profundo de acercarse a Jesús y dejarse transformar por sus enseñanzas.   \nEste Evangelio muestra constantemente cómo Jesús es el cumplimiento de las profecías del Antiguo Testamento. Con Lucas: La Historia de la Salvación Cumplida\, experimentará la alegría de descubrir la fidelidad de Dios a lo largo de los siglos y cómo sus promesas pueden guiarle en la vida diaria.  \nSi tiene alguna pregunta\, comuníquese con Suzanne Coughlin en suzanne@popfb.org.
URL:https://popfb.org/es/event/lucas-la-historia-de-la-salvacion-cumplida-en/2025-10-09/
CATEGORIES:Eventos Destacados,Formación de fe para adultos
ATTACH;FMTTYPE=image/png:https://popfb.org/wp-content/uploads/2025/08/Events-Calendar-Thumbnail-website-11.png
END:VEVENT
BEGIN:VEVENT
DTSTART;TZID=America/New_York:20251014T100000
DTEND;TZID=America/New_York:20251014T120000
DTSTAMP:20260421T112737
CREATED:20250804T161205Z
LAST-MODIFIED:20250804T161205Z
UID:10008515-1760436000-1760443200@popfb.org
SUMMARY:Talleres de Oración y Vida (eng)
DESCRIPTION:¿Desea aprender a alcanzar el silencio y la paz? ¿Liberarse de la angustia y el miedo? \n¡Venga y aprenda a vivir asistiendo a un Taller de Oración y Vida! Durante este taller de 15 semanas\, los participantes aprenderán un método práctico de oración\, aprendiendo a orar orando. A través de la práctica de la fe y la entrega\, y como resultado de la oración\, los participantes comienzan a sanar las heridas del corazón y a experimentar una mayor serenidad. Al contemplar la imagen de Jesús e imitar Sus características\, los participantes lentamente comienzan a transformarse en personas más parecidas a Él.
URL:https://popfb.org/es/event/talleres-de-oracion-y-vida-eng-3/2025-10-14/
CATEGORIES:Formación de fe para adultos
ATTACH;FMTTYPE=image/png:https://popfb.org/wp-content/uploads/2025/08/Prayer-and-Life-Workshop.png
END:VEVENT
BEGIN:VEVENT
DTSTART;TZID=America/New_York:20251014T190000
DTEND;TZID=America/New_York:20251014T210000
DTSTAMP:20260421T112737
CREATED:20250804T161416Z
LAST-MODIFIED:20250804T161416Z
UID:10008545-1760468400-1760475600@popfb.org
SUMMARY:Talleres de Oración y Vida (esp)
DESCRIPTION:¿Desea aprender a alcanzar el silencio y la paz? ¿Liberarse de la angustia y el miedo? \n¡Venga y aprenda a vivir asistiendo a un Taller de Oración y Vida! Durante este taller de 15 semanas\, los participantes aprenderán un método práctico de oración\, aprendiendo a orar orando. A través de la práctica de la fe y la entrega\, y como resultado de la oración\, los participantes comienzan a sanar las heridas del corazón y a experimentar una mayor serenidad. Al contemplar la imagen de Jesús e imitar Sus características\, los participantes lentamente comienzan a transformarse en personas más parecidas a Él.
URL:https://popfb.org/es/event/talleres-de-oracion-y-vida-esp-4/2025-10-14/
CATEGORIES:Formación de fe para adultos
END:VEVENT
BEGIN:VEVENT
DTSTART;TZID=America/New_York:20251016T100000
DTEND;TZID=America/New_York:20251016T113000
DTSTAMP:20260421T112737
CREATED:20250814T182804Z
LAST-MODIFIED:20250814T182804Z
UID:10008485-1760608800-1760614200@popfb.org
SUMMARY:Lucas: La Historia de la Salvación Cumplida (EN)
DESCRIPTION:• Estudio Bíblico de 8 Semanas en Inglés\n• 9/11/25 – 10/30/25\n• 10am o 7pm \nEl Evangelio de San Lucas lo llevará en un recorrido que inicia con el anuncio del nacimiento de Juan el Bautista y culmina con la Ascensión de Jesús al cielo. En el camino\, será testigo de momentos clave en la historia de la salvación\, incluyendo la Anunciación\, el Nacimiento de Jesús\, su Bautismo\, su ministerio público\, la Última Cena y la Pasión\, Muerte y gloriosa Resurrección del Señor. La fuerza de su mensaje y la belleza de sus detalles despertarán en usted un deseo más profundo de acercarse a Jesús y dejarse transformar por sus enseñanzas.   \nEste Evangelio muestra constantemente cómo Jesús es el cumplimiento de las profecías del Antiguo Testamento. Con Lucas: La Historia de la Salvación Cumplida\, experimentará la alegría de descubrir la fidelidad de Dios a lo largo de los siglos y cómo sus promesas pueden guiarle en la vida diaria.  \nSi tiene alguna pregunta\, comuníquese con Suzanne Coughlin en suzanne@popfb.org.
URL:https://popfb.org/es/event/lucas-la-historia-de-la-salvacion-cumplida-en/2025-10-16/
CATEGORIES:Eventos Destacados,Formación de fe para adultos
ATTACH;FMTTYPE=image/png:https://popfb.org/wp-content/uploads/2025/08/Events-Calendar-Thumbnail-website-11.png
END:VEVENT
BEGIN:VEVENT
DTSTART;TZID=America/New_York:20251021T100000
DTEND;TZID=America/New_York:20251021T120000
DTSTAMP:20260421T112737
CREATED:20250804T161205Z
LAST-MODIFIED:20250804T161205Z
UID:10008516-1761040800-1761048000@popfb.org
SUMMARY:Talleres de Oración y Vida (eng)
DESCRIPTION:¿Desea aprender a alcanzar el silencio y la paz? ¿Liberarse de la angustia y el miedo? \n¡Venga y aprenda a vivir asistiendo a un Taller de Oración y Vida! Durante este taller de 15 semanas\, los participantes aprenderán un método práctico de oración\, aprendiendo a orar orando. A través de la práctica de la fe y la entrega\, y como resultado de la oración\, los participantes comienzan a sanar las heridas del corazón y a experimentar una mayor serenidad. Al contemplar la imagen de Jesús e imitar Sus características\, los participantes lentamente comienzan a transformarse en personas más parecidas a Él.
URL:https://popfb.org/es/event/talleres-de-oracion-y-vida-eng-3/2025-10-21/
CATEGORIES:Formación de fe para adultos
ATTACH;FMTTYPE=image/png:https://popfb.org/wp-content/uploads/2025/08/Prayer-and-Life-Workshop.png
END:VEVENT
BEGIN:VEVENT
DTSTART;TZID=America/New_York:20251021T190000
DTEND;TZID=America/New_York:20251021T210000
DTSTAMP:20260421T112737
CREATED:20250804T161416Z
LAST-MODIFIED:20250804T161416Z
UID:10008546-1761073200-1761080400@popfb.org
SUMMARY:Talleres de Oración y Vida (esp)
DESCRIPTION:¿Desea aprender a alcanzar el silencio y la paz? ¿Liberarse de la angustia y el miedo? \n¡Venga y aprenda a vivir asistiendo a un Taller de Oración y Vida! Durante este taller de 15 semanas\, los participantes aprenderán un método práctico de oración\, aprendiendo a orar orando. A través de la práctica de la fe y la entrega\, y como resultado de la oración\, los participantes comienzan a sanar las heridas del corazón y a experimentar una mayor serenidad. Al contemplar la imagen de Jesús e imitar Sus características\, los participantes lentamente comienzan a transformarse en personas más parecidas a Él.
URL:https://popfb.org/es/event/talleres-de-oracion-y-vida-esp-4/2025-10-21/
CATEGORIES:Formación de fe para adultos
END:VEVENT
BEGIN:VEVENT
DTSTART;TZID=America/New_York:20251023T100000
DTEND;TZID=America/New_York:20251023T113000
DTSTAMP:20260421T112737
CREATED:20250814T182804Z
LAST-MODIFIED:20250814T182804Z
UID:10008486-1761213600-1761219000@popfb.org
SUMMARY:Lucas: La Historia de la Salvación Cumplida (EN)
DESCRIPTION:• Estudio Bíblico de 8 Semanas en Inglés\n• 9/11/25 – 10/30/25\n• 10am o 7pm \nEl Evangelio de San Lucas lo llevará en un recorrido que inicia con el anuncio del nacimiento de Juan el Bautista y culmina con la Ascensión de Jesús al cielo. En el camino\, será testigo de momentos clave en la historia de la salvación\, incluyendo la Anunciación\, el Nacimiento de Jesús\, su Bautismo\, su ministerio público\, la Última Cena y la Pasión\, Muerte y gloriosa Resurrección del Señor. La fuerza de su mensaje y la belleza de sus detalles despertarán en usted un deseo más profundo de acercarse a Jesús y dejarse transformar por sus enseñanzas.   \nEste Evangelio muestra constantemente cómo Jesús es el cumplimiento de las profecías del Antiguo Testamento. Con Lucas: La Historia de la Salvación Cumplida\, experimentará la alegría de descubrir la fidelidad de Dios a lo largo de los siglos y cómo sus promesas pueden guiarle en la vida diaria.  \nSi tiene alguna pregunta\, comuníquese con Suzanne Coughlin en suzanne@popfb.org.
URL:https://popfb.org/es/event/lucas-la-historia-de-la-salvacion-cumplida-en/2025-10-23/
CATEGORIES:Eventos Destacados,Formación de fe para adultos
ATTACH;FMTTYPE=image/png:https://popfb.org/wp-content/uploads/2025/08/Events-Calendar-Thumbnail-website-11.png
END:VEVENT
BEGIN:VEVENT
DTSTART;TZID=America/New_York:20251028T100000
DTEND;TZID=America/New_York:20251028T120000
DTSTAMP:20260421T112737
CREATED:20250804T161205Z
LAST-MODIFIED:20250804T161205Z
UID:10008517-1761645600-1761652800@popfb.org
SUMMARY:Talleres de Oración y Vida (eng)
DESCRIPTION:¿Desea aprender a alcanzar el silencio y la paz? ¿Liberarse de la angustia y el miedo? \n¡Venga y aprenda a vivir asistiendo a un Taller de Oración y Vida! Durante este taller de 15 semanas\, los participantes aprenderán un método práctico de oración\, aprendiendo a orar orando. A través de la práctica de la fe y la entrega\, y como resultado de la oración\, los participantes comienzan a sanar las heridas del corazón y a experimentar una mayor serenidad. Al contemplar la imagen de Jesús e imitar Sus características\, los participantes lentamente comienzan a transformarse en personas más parecidas a Él.
URL:https://popfb.org/es/event/talleres-de-oracion-y-vida-eng-3/2025-10-28/
CATEGORIES:Formación de fe para adultos
ATTACH;FMTTYPE=image/png:https://popfb.org/wp-content/uploads/2025/08/Prayer-and-Life-Workshop.png
END:VEVENT
BEGIN:VEVENT
DTSTART;TZID=America/New_York:20251028T190000
DTEND;TZID=America/New_York:20251028T210000
DTSTAMP:20260421T112737
CREATED:20250804T161416Z
LAST-MODIFIED:20250804T161416Z
UID:10008547-1761678000-1761685200@popfb.org
SUMMARY:Talleres de Oración y Vida (esp)
DESCRIPTION:¿Desea aprender a alcanzar el silencio y la paz? ¿Liberarse de la angustia y el miedo? \n¡Venga y aprenda a vivir asistiendo a un Taller de Oración y Vida! Durante este taller de 15 semanas\, los participantes aprenderán un método práctico de oración\, aprendiendo a orar orando. A través de la práctica de la fe y la entrega\, y como resultado de la oración\, los participantes comienzan a sanar las heridas del corazón y a experimentar una mayor serenidad. Al contemplar la imagen de Jesús e imitar Sus características\, los participantes lentamente comienzan a transformarse en personas más parecidas a Él.
URL:https://popfb.org/es/event/talleres-de-oracion-y-vida-esp-4/2025-10-28/
CATEGORIES:Formación de fe para adultos
END:VEVENT
BEGIN:VEVENT
DTSTART;TZID=America/New_York:20251030T100000
DTEND;TZID=America/New_York:20251030T113000
DTSTAMP:20260421T112737
CREATED:20250814T182804Z
LAST-MODIFIED:20250814T182804Z
UID:10008487-1761818400-1761823800@popfb.org
SUMMARY:Lucas: La Historia de la Salvación Cumplida (EN)
DESCRIPTION:• Estudio Bíblico de 8 Semanas en Inglés\n• 9/11/25 – 10/30/25\n• 10am o 7pm \nEl Evangelio de San Lucas lo llevará en un recorrido que inicia con el anuncio del nacimiento de Juan el Bautista y culmina con la Ascensión de Jesús al cielo. En el camino\, será testigo de momentos clave en la historia de la salvación\, incluyendo la Anunciación\, el Nacimiento de Jesús\, su Bautismo\, su ministerio público\, la Última Cena y la Pasión\, Muerte y gloriosa Resurrección del Señor. La fuerza de su mensaje y la belleza de sus detalles despertarán en usted un deseo más profundo de acercarse a Jesús y dejarse transformar por sus enseñanzas.   \nEste Evangelio muestra constantemente cómo Jesús es el cumplimiento de las profecías del Antiguo Testamento. Con Lucas: La Historia de la Salvación Cumplida\, experimentará la alegría de descubrir la fidelidad de Dios a lo largo de los siglos y cómo sus promesas pueden guiarle en la vida diaria.  \nSi tiene alguna pregunta\, comuníquese con Suzanne Coughlin en suzanne@popfb.org.
URL:https://popfb.org/es/event/lucas-la-historia-de-la-salvacion-cumplida-en/2025-10-30/
CATEGORIES:Eventos Destacados,Formación de fe para adultos
ATTACH;FMTTYPE=image/png:https://popfb.org/wp-content/uploads/2025/08/Events-Calendar-Thumbnail-website-11.png
END:VEVENT
END:VCALENDAR