BEGIN:VCALENDAR
VERSION:2.0
PRODID:-//Prince of Peace - ECPv6.15.16.1//NONSGML v1.0//EN
CALSCALE:GREGORIAN
METHOD:PUBLISH
X-ORIGINAL-URL:https://popfb.org/es/
X-WR-CALDESC:Eventos para Prince of Peace
REFRESH-INTERVAL;VALUE=DURATION:PT1H
X-Robots-Tag:noindex
X-PUBLISHED-TTL:PT1H
BEGIN:VTIMEZONE
TZID:America/New_York
BEGIN:DAYLIGHT
TZOFFSETFROM:-0500
TZOFFSETTO:-0400
TZNAME:EDT
DTSTART:20240310T070000
END:DAYLIGHT
BEGIN:STANDARD
TZOFFSETFROM:-0400
TZOFFSETTO:-0500
TZNAME:EST
DTSTART:20241103T060000
END:STANDARD
BEGIN:DAYLIGHT
TZOFFSETFROM:-0500
TZOFFSETTO:-0400
TZNAME:EDT
DTSTART:20250309T070000
END:DAYLIGHT
BEGIN:STANDARD
TZOFFSETFROM:-0400
TZOFFSETTO:-0500
TZNAME:EST
DTSTART:20251102T060000
END:STANDARD
BEGIN:DAYLIGHT
TZOFFSETFROM:-0500
TZOFFSETTO:-0400
TZNAME:EDT
DTSTART:20260308T070000
END:DAYLIGHT
BEGIN:STANDARD
TZOFFSETFROM:-0400
TZOFFSETTO:-0500
TZNAME:EST
DTSTART:20261101T060000
END:STANDARD
END:VTIMEZONE
BEGIN:VEVENT
DTSTART;VALUE=DATE:20250311
DTEND;VALUE=DATE:20250312
DTSTAMP:20260422T014113
CREATED:20241224T001226Z
LAST-MODIFIED:20241224T001226Z
UID:10007476-1741651200-1741737599@popfb.org
SUMMARY:Talleres de Oración y Vida (esp)
DESCRIPTION:¿Desea aprender a alcanzar el silencio y la paz? ¿Liberarse de la angustia y el miedo? \n¡Venga y aprenda a vivir asistiendo a un Taller de Oración y Vida! Durante este taller de 15 semanas\, los participantes aprenderán un método práctico de oración\, aprendiendo a orar orando. A través de la práctica de la fe y la entrega\, y como resultado de la oración\, los participantes comienzan a sanar las heridas del corazón y a experimentar una mayor serenidad. Al contemplar la imagen de Jesús e imitar Sus características\, los participantes lentamente comienzan a transformarse en personas más parecidas a Él.    \nOpciones Disponibles:\n• Martes\, 10am–mediodía\, a partir del 14 de enero\n• Martes\, 7pm–9pm\, a partir del 14 de enero
URL:https://popfb.org/es/event/talleres-de-oracion-y-vida-esp-3/2025-03-11/
CATEGORIES:Formación de fe para adultos
ATTACH;FMTTYPE=image/png:https://popfb.org/wp-content/uploads/2023/01/2.png
END:VEVENT
BEGIN:VEVENT
DTSTART;TZID=America/New_York:20250311T190000
DTEND;TZID=America/New_York:20250311T204500
DTSTAMP:20260422T014113
CREATED:20250107T165341Z
LAST-MODIFIED:20250107T165341Z
UID:10007864-1741719600-1741725900@popfb.org
SUMMARY:El Ganso Salvaje (esp)
DESCRIPTION:Serie de 8 semanas | Jueves a las 7 PM | Del 14 de enero al 4 de marzo \nEl Ganso Salvaje es una serie de 8 semanas diseñada para ayudarle a profundizar su relación con el Espíritu Santo. A lo largo de este recorrido\, experimentaremos el amor de Dios y su poder transformador\, revelado por Jesucristo\, guiándonos hacia nuestro Padre celestial. Exploraremos la presencia del Espíritu Santo en nuestra fe\, incluyendo los sacramentos\, María\, los santos y otras tradiciones católicas.   \nTodos están invitados a unirse a esta inspiradora serie\, disponible en inglés y en español\, que comienza el jueves 16 de enero. Guardería disponible bajo solicitud durante el registro. Los participantes recibirán una guía de estudio gratuita.
URL:https://popfb.org/es/event/el-ganso-salvaje-esp/2025-03-11/
CATEGORIES:Formación de fe para adultos
ATTACH;FMTTYPE=image/png:https://popfb.org/wp-content/uploads/2024/12/96-1.png
END:VEVENT
BEGIN:VEVENT
DTSTART;TZID=America/New_York:20250312T100000
DTEND;TZID=America/New_York:20250312T120000
DTSTAMP:20260422T014113
CREATED:20241224T000206Z
LAST-MODIFIED:20241224T000206Z
UID:10007428-1741773600-1741780800@popfb.org
SUMMARY:Talleres de Oración y Vida (eng)
DESCRIPTION:¿Desea aprender a alcanzar el silencio y la paz? ¿Liberarse de la angustia y el miedo? \n¡Venga y aprenda a vivir asistiendo a un Taller de Oración y Vida! Durante este taller de 15 semanas\, los participantes aprenderán un método práctico de oración\, aprendiendo a orar orando. A través de la práctica de la fe y la entrega\, y como resultado de la oración\, los participantes comienzan a sanar las heridas del corazón y a experimentar una mayor serenidad. Al contemplar la imagen de Jesús e imitar Sus características\, los participantes lentamente comienzan a transformarse en personas más parecidas a Él.
URL:https://popfb.org/es/event/talleres-de-oracion-y-vida-eng-2/2025-03-12/
CATEGORIES:Formación de fe para adultos
ATTACH;FMTTYPE=image/png:https://popfb.org/wp-content/uploads/2023/01/2.png
END:VEVENT
BEGIN:VEVENT
DTSTART;TZID=America/New_York:20250312T100000
DTEND;TZID=America/New_York:20250312T120000
DTSTAMP:20260422T014113
CREATED:20250221T153136Z
LAST-MODIFIED:20250221T160719Z
UID:10007861-1741773600-1741780800@popfb.org
SUMMARY:Cuaresma: ¡El Tiempo Más Maravilloso del Año!
DESCRIPTION:Miércoles 12 de marzo\, de 10am-12pm [o] [or] Jueves\, 13 de marzo | 6:30pm-8:30pm \nPresentado por la Hermana Susan Arcaro\, rc en inglés \nCada año\, se nos llama a vivir la Cuaresma con un espíritu de sacrificio\, contrición y reparación. Sin embargo\, rara vez la vemos como un camino de amor profundo\, alegría inimaginable y un anhelo ardiente. La maravilla de la Cuaresma comienza con la invitación a “ver” con mayor claridad cuánto nos ama Dios y continúa con nuestro deseo de responder con amor ferviente al AMOR eterno.   \nSi tiene alguna pregunta\, comuníquese con Suzanne Coughlin en suzanne@popfb.org.
URL:https://popfb.org/es/event/cuaresma-el-tiempo-mas-maravilloso-del-ano/2025-03-12/
CATEGORIES:Eventos Destacados,Formación de fe para adultos
ATTACH;FMTTYPE=image/png:https://popfb.org/wp-content/uploads/2025/02/113.png
END:VEVENT
BEGIN:VEVENT
DTSTART;TZID=America/New_York:20250312T190000
DTEND;TZID=America/New_York:20250312T210000
DTSTAMP:20260422T014113
CREATED:20241224T001750Z
LAST-MODIFIED:20250804T161828Z
UID:10007523-1741806000-1741813200@popfb.org
SUMMARY:Talleres de Oración y Vida (portugués)
DESCRIPTION:¿Desea aprender a alcanzar el silencio y la paz? ¿Liberarse de la angustia y el miedo? \n¡Venga y aprenda a vivir asistiendo a un Taller de Oración y Vida! Durante este taller de 15 semanas\, los participantes aprenderán un método práctico de oración\, aprendiendo a orar orando. A través de la práctica de la fe y la entrega\, y como resultado de la oración\, los participantes comienzan a sanar las heridas del corazón y a experimentar una mayor serenidad. Al contemplar la imagen de Jesús e imitar Sus características\, los participantes lentamente comienzan a transformarse en personas más parecidas a Él.
URL:https://popfb.org/es/event/talleres-de-oracion-y-vida-portugues/2025-03-12/
CATEGORIES:Formación de fe para adultos
ATTACH;FMTTYPE=image/png:https://popfb.org/wp-content/uploads/2023/01/2.png
END:VEVENT
BEGIN:VEVENT
DTSTART;TZID=America/New_York:20250313T183000
DTEND;TZID=America/New_York:20250313T203000
DTSTAMP:20260422T014113
CREATED:20250221T153136Z
LAST-MODIFIED:20250221T160719Z
UID:10007862-1741890600-1741897800@popfb.org
SUMMARY:Cuaresma: ¡El Tiempo Más Maravilloso del Año!
DESCRIPTION:Miércoles 12 de marzo\, de 10am-12pm [o] [or] Jueves\, 13 de marzo | 6:30pm-8:30pm \nPresentado por la Hermana Susan Arcaro\, rc en inglés \nCada año\, se nos llama a vivir la Cuaresma con un espíritu de sacrificio\, contrición y reparación. Sin embargo\, rara vez la vemos como un camino de amor profundo\, alegría inimaginable y un anhelo ardiente. La maravilla de la Cuaresma comienza con la invitación a “ver” con mayor claridad cuánto nos ama Dios y continúa con nuestro deseo de responder con amor ferviente al AMOR eterno.   \nSi tiene alguna pregunta\, comuníquese con Suzanne Coughlin en suzanne@popfb.org.
URL:https://popfb.org/es/event/cuaresma-el-tiempo-mas-maravilloso-del-ano/2025-03-13/
CATEGORIES:Eventos Destacados,Formación de fe para adultos
ATTACH;FMTTYPE=image/png:https://popfb.org/wp-content/uploads/2025/02/113.png
END:VEVENT
BEGIN:VEVENT
DTSTART;VALUE=DATE:20250318
DTEND;VALUE=DATE:20250319
DTSTAMP:20260422T014113
CREATED:20241224T001226Z
LAST-MODIFIED:20241224T001226Z
UID:10007477-1742256000-1742342399@popfb.org
SUMMARY:Talleres de Oración y Vida (esp)
DESCRIPTION:¿Desea aprender a alcanzar el silencio y la paz? ¿Liberarse de la angustia y el miedo? \n¡Venga y aprenda a vivir asistiendo a un Taller de Oración y Vida! Durante este taller de 15 semanas\, los participantes aprenderán un método práctico de oración\, aprendiendo a orar orando. A través de la práctica de la fe y la entrega\, y como resultado de la oración\, los participantes comienzan a sanar las heridas del corazón y a experimentar una mayor serenidad. Al contemplar la imagen de Jesús e imitar Sus características\, los participantes lentamente comienzan a transformarse en personas más parecidas a Él.    \nOpciones Disponibles:\n• Martes\, 10am–mediodía\, a partir del 14 de enero\n• Martes\, 7pm–9pm\, a partir del 14 de enero
URL:https://popfb.org/es/event/talleres-de-oracion-y-vida-esp-3/2025-03-18/
CATEGORIES:Formación de fe para adultos
ATTACH;FMTTYPE=image/png:https://popfb.org/wp-content/uploads/2023/01/2.png
END:VEVENT
BEGIN:VEVENT
DTSTART;TZID=America/New_York:20250319T100000
DTEND;TZID=America/New_York:20250319T120000
DTSTAMP:20260422T014113
CREATED:20241224T000206Z
LAST-MODIFIED:20241224T000206Z
UID:10007429-1742378400-1742385600@popfb.org
SUMMARY:Talleres de Oración y Vida (eng)
DESCRIPTION:¿Desea aprender a alcanzar el silencio y la paz? ¿Liberarse de la angustia y el miedo? \n¡Venga y aprenda a vivir asistiendo a un Taller de Oración y Vida! Durante este taller de 15 semanas\, los participantes aprenderán un método práctico de oración\, aprendiendo a orar orando. A través de la práctica de la fe y la entrega\, y como resultado de la oración\, los participantes comienzan a sanar las heridas del corazón y a experimentar una mayor serenidad. Al contemplar la imagen de Jesús e imitar Sus características\, los participantes lentamente comienzan a transformarse en personas más parecidas a Él.
URL:https://popfb.org/es/event/talleres-de-oracion-y-vida-eng-2/2025-03-19/
CATEGORIES:Formación de fe para adultos
ATTACH;FMTTYPE=image/png:https://popfb.org/wp-content/uploads/2023/01/2.png
END:VEVENT
BEGIN:VEVENT
DTSTART;TZID=America/New_York:20250319T190000
DTEND;TZID=America/New_York:20250319T210000
DTSTAMP:20260422T014113
CREATED:20241224T001750Z
LAST-MODIFIED:20250804T161828Z
UID:10007524-1742410800-1742418000@popfb.org
SUMMARY:Talleres de Oración y Vida (portugués)
DESCRIPTION:¿Desea aprender a alcanzar el silencio y la paz? ¿Liberarse de la angustia y el miedo? \n¡Venga y aprenda a vivir asistiendo a un Taller de Oración y Vida! Durante este taller de 15 semanas\, los participantes aprenderán un método práctico de oración\, aprendiendo a orar orando. A través de la práctica de la fe y la entrega\, y como resultado de la oración\, los participantes comienzan a sanar las heridas del corazón y a experimentar una mayor serenidad. Al contemplar la imagen de Jesús e imitar Sus características\, los participantes lentamente comienzan a transformarse en personas más parecidas a Él.
URL:https://popfb.org/es/event/talleres-de-oracion-y-vida-portugues/2025-03-19/
CATEGORIES:Formación de fe para adultos
ATTACH;FMTTYPE=image/png:https://popfb.org/wp-content/uploads/2023/01/2.png
END:VEVENT
BEGIN:VEVENT
DTSTART;VALUE=DATE:20250325
DTEND;VALUE=DATE:20250326
DTSTAMP:20260422T014113
CREATED:20241224T001226Z
LAST-MODIFIED:20241224T001226Z
UID:10007478-1742860800-1742947199@popfb.org
SUMMARY:Talleres de Oración y Vida (esp)
DESCRIPTION:¿Desea aprender a alcanzar el silencio y la paz? ¿Liberarse de la angustia y el miedo? \n¡Venga y aprenda a vivir asistiendo a un Taller de Oración y Vida! Durante este taller de 15 semanas\, los participantes aprenderán un método práctico de oración\, aprendiendo a orar orando. A través de la práctica de la fe y la entrega\, y como resultado de la oración\, los participantes comienzan a sanar las heridas del corazón y a experimentar una mayor serenidad. Al contemplar la imagen de Jesús e imitar Sus características\, los participantes lentamente comienzan a transformarse en personas más parecidas a Él.    \nOpciones Disponibles:\n• Martes\, 10am–mediodía\, a partir del 14 de enero\n• Martes\, 7pm–9pm\, a partir del 14 de enero
URL:https://popfb.org/es/event/talleres-de-oracion-y-vida-esp-3/2025-03-25/
CATEGORIES:Formación de fe para adultos
ATTACH;FMTTYPE=image/png:https://popfb.org/wp-content/uploads/2023/01/2.png
END:VEVENT
BEGIN:VEVENT
DTSTART;TZID=America/New_York:20250326T100000
DTEND;TZID=America/New_York:20250326T120000
DTSTAMP:20260422T014113
CREATED:20241224T000206Z
LAST-MODIFIED:20241224T000206Z
UID:10007430-1742983200-1742990400@popfb.org
SUMMARY:Talleres de Oración y Vida (eng)
DESCRIPTION:¿Desea aprender a alcanzar el silencio y la paz? ¿Liberarse de la angustia y el miedo? \n¡Venga y aprenda a vivir asistiendo a un Taller de Oración y Vida! Durante este taller de 15 semanas\, los participantes aprenderán un método práctico de oración\, aprendiendo a orar orando. A través de la práctica de la fe y la entrega\, y como resultado de la oración\, los participantes comienzan a sanar las heridas del corazón y a experimentar una mayor serenidad. Al contemplar la imagen de Jesús e imitar Sus características\, los participantes lentamente comienzan a transformarse en personas más parecidas a Él.
URL:https://popfb.org/es/event/talleres-de-oracion-y-vida-eng-2/2025-03-26/
CATEGORIES:Formación de fe para adultos
ATTACH;FMTTYPE=image/png:https://popfb.org/wp-content/uploads/2023/01/2.png
END:VEVENT
BEGIN:VEVENT
DTSTART;TZID=America/New_York:20250326T190000
DTEND;TZID=America/New_York:20250326T210000
DTSTAMP:20260422T014113
CREATED:20241224T001750Z
LAST-MODIFIED:20250804T161828Z
UID:10007525-1743015600-1743022800@popfb.org
SUMMARY:Talleres de Oración y Vida (portugués)
DESCRIPTION:¿Desea aprender a alcanzar el silencio y la paz? ¿Liberarse de la angustia y el miedo? \n¡Venga y aprenda a vivir asistiendo a un Taller de Oración y Vida! Durante este taller de 15 semanas\, los participantes aprenderán un método práctico de oración\, aprendiendo a orar orando. A través de la práctica de la fe y la entrega\, y como resultado de la oración\, los participantes comienzan a sanar las heridas del corazón y a experimentar una mayor serenidad. Al contemplar la imagen de Jesús e imitar Sus características\, los participantes lentamente comienzan a transformarse en personas más parecidas a Él.
URL:https://popfb.org/es/event/talleres-de-oracion-y-vida-portugues/2025-03-26/
CATEGORIES:Formación de fe para adultos
ATTACH;FMTTYPE=image/png:https://popfb.org/wp-content/uploads/2023/01/2.png
END:VEVENT
END:VCALENDAR