BEGIN:VCALENDAR
VERSION:2.0
PRODID:-//Prince of Peace - ECPv6.15.16.1//NONSGML v1.0//EN
CALSCALE:GREGORIAN
METHOD:PUBLISH
X-WR-CALNAME:Prince of Peace
X-ORIGINAL-URL:https://popfb.org/es/
X-WR-CALDESC:Eventos para Prince of Peace
REFRESH-INTERVAL;VALUE=DURATION:PT1H
X-Robots-Tag:noindex
X-PUBLISHED-TTL:PT1H
BEGIN:VTIMEZONE
TZID:America/New_York
BEGIN:DAYLIGHT
TZOFFSETFROM:-0500
TZOFFSETTO:-0400
TZNAME:EDT
DTSTART:20290311T070000
END:DAYLIGHT
BEGIN:STANDARD
TZOFFSETFROM:-0400
TZOFFSETTO:-0500
TZNAME:EST
DTSTART:20291104T060000
END:STANDARD
BEGIN:DAYLIGHT
TZOFFSETFROM:-0500
TZOFFSETTO:-0400
TZNAME:EDT
DTSTART:20300310T070000
END:DAYLIGHT
BEGIN:STANDARD
TZOFFSETFROM:-0400
TZOFFSETTO:-0500
TZNAME:EST
DTSTART:20301103T060000
END:STANDARD
BEGIN:DAYLIGHT
TZOFFSETFROM:-0500
TZOFFSETTO:-0400
TZNAME:EDT
DTSTART:20310309T070000
END:DAYLIGHT
BEGIN:STANDARD
TZOFFSETFROM:-0400
TZOFFSETTO:-0500
TZNAME:EST
DTSTART:20311102T060000
END:STANDARD
END:VTIMEZONE
BEGIN:VEVENT
DTSTART;TZID=America/New_York:20300705T090000
DTEND;TZID=America/New_York:20300705T200000
DTSTAMP:20260420T195955
CREATED:20251023T150236Z
LAST-MODIFIED:20251023T150236Z
UID:10008818-1909472400-1909512000@popfb.org
SUMMARY:Encuentro
DESCRIPTION:En nuestras vidas ocupadas\, es fácil perder de vista a Aquel que nos da la verdadera paz y propósito. Por eso\, hemos reservado tiempo para Encuentro\, un día dedicado a la oración\, adoración y conexión personal con Jesucristo en la Eucaristía.  \nLa Adoración Eucarística es una manera poderosa de pasar tiempo en silencio con el Señor\, descansar en Su presencia y permitir que Él hable a nuestros corazones. Ya sea que puedas venir unos minutos o quedarte una hora\, tu tiempo ante el Santísimo Sacramento es una ofrenda de amor y confianza.  \nEste viernes\, te invitamos a hacer un espacio en tu día para estar con Jesús. Ven cuando tu horario lo permita:  \n9am: Nuestro día de oración comienza con la Misa en inglés. \n9:30am-7pm: Después de la Misa\, el Padre expondrá el Santísimo Sacramento en el altar principal de la iglesia para oración en silencio. La adoración continuará en la iglesia hasta las 7pm. Todos son bienvenidos—feligreses\, amigos\, visitantes\, ministerios y grupos pequeños están invitados a venir\, pasar tiempo con Jesús y adorarlo en el Santísimo Sacramento.   \n7pm:Comenzaremos un período especial de alabanza y adoración\, oración y reflexión\, que culminará con la Bendición.
URL:https://popfb.org/es/event/encuentro/2030-07-05/
CATEGORIES:Eventos Destacados,Página de Adoración,Página de Misa y Confesiones
ATTACH;FMTTYPE=image/png:https://popfb.org/wp-content/uploads/2024/02/Encounter.png
END:VEVENT
BEGIN:VEVENT
DTSTART;TZID=America/New_York:20300802T090000
DTEND;TZID=America/New_York:20300802T200000
DTSTAMP:20260420T195955
CREATED:20251023T150236Z
LAST-MODIFIED:20251023T150236Z
UID:10008819-1911891600-1911931200@popfb.org
SUMMARY:Encuentro
DESCRIPTION:En nuestras vidas ocupadas\, es fácil perder de vista a Aquel que nos da la verdadera paz y propósito. Por eso\, hemos reservado tiempo para Encuentro\, un día dedicado a la oración\, adoración y conexión personal con Jesucristo en la Eucaristía.  \nLa Adoración Eucarística es una manera poderosa de pasar tiempo en silencio con el Señor\, descansar en Su presencia y permitir que Él hable a nuestros corazones. Ya sea que puedas venir unos minutos o quedarte una hora\, tu tiempo ante el Santísimo Sacramento es una ofrenda de amor y confianza.  \nEste viernes\, te invitamos a hacer un espacio en tu día para estar con Jesús. Ven cuando tu horario lo permita:  \n9am: Nuestro día de oración comienza con la Misa en inglés. \n9:30am-7pm: Después de la Misa\, el Padre expondrá el Santísimo Sacramento en el altar principal de la iglesia para oración en silencio. La adoración continuará en la iglesia hasta las 7pm. Todos son bienvenidos—feligreses\, amigos\, visitantes\, ministerios y grupos pequeños están invitados a venir\, pasar tiempo con Jesús y adorarlo en el Santísimo Sacramento.   \n7pm:Comenzaremos un período especial de alabanza y adoración\, oración y reflexión\, que culminará con la Bendición.
URL:https://popfb.org/es/event/encuentro/2030-08-02/
CATEGORIES:Eventos Destacados,Página de Adoración,Página de Misa y Confesiones
ATTACH;FMTTYPE=image/png:https://popfb.org/wp-content/uploads/2024/02/Encounter.png
END:VEVENT
BEGIN:VEVENT
DTSTART;TZID=America/New_York:20300906T090000
DTEND;TZID=America/New_York:20300906T200000
DTSTAMP:20260420T195955
CREATED:20251023T150236Z
LAST-MODIFIED:20251023T150236Z
UID:10008820-1914915600-1914955200@popfb.org
SUMMARY:Encuentro
DESCRIPTION:En nuestras vidas ocupadas\, es fácil perder de vista a Aquel que nos da la verdadera paz y propósito. Por eso\, hemos reservado tiempo para Encuentro\, un día dedicado a la oración\, adoración y conexión personal con Jesucristo en la Eucaristía.  \nLa Adoración Eucarística es una manera poderosa de pasar tiempo en silencio con el Señor\, descansar en Su presencia y permitir que Él hable a nuestros corazones. Ya sea que puedas venir unos minutos o quedarte una hora\, tu tiempo ante el Santísimo Sacramento es una ofrenda de amor y confianza.  \nEste viernes\, te invitamos a hacer un espacio en tu día para estar con Jesús. Ven cuando tu horario lo permita:  \n9am: Nuestro día de oración comienza con la Misa en inglés. \n9:30am-7pm: Después de la Misa\, el Padre expondrá el Santísimo Sacramento en el altar principal de la iglesia para oración en silencio. La adoración continuará en la iglesia hasta las 7pm. Todos son bienvenidos—feligreses\, amigos\, visitantes\, ministerios y grupos pequeños están invitados a venir\, pasar tiempo con Jesús y adorarlo en el Santísimo Sacramento.   \n7pm:Comenzaremos un período especial de alabanza y adoración\, oración y reflexión\, que culminará con la Bendición.
URL:https://popfb.org/es/event/encuentro/2030-09-06/
CATEGORIES:Eventos Destacados,Página de Adoración,Página de Misa y Confesiones
ATTACH;FMTTYPE=image/png:https://popfb.org/wp-content/uploads/2024/02/Encounter.png
END:VEVENT
BEGIN:VEVENT
DTSTART;TZID=America/New_York:20301004T090000
DTEND;TZID=America/New_York:20301004T200000
DTSTAMP:20260420T195955
CREATED:20251023T150236Z
LAST-MODIFIED:20251023T150236Z
UID:10008821-1917334800-1917374400@popfb.org
SUMMARY:Encuentro
DESCRIPTION:En nuestras vidas ocupadas\, es fácil perder de vista a Aquel que nos da la verdadera paz y propósito. Por eso\, hemos reservado tiempo para Encuentro\, un día dedicado a la oración\, adoración y conexión personal con Jesucristo en la Eucaristía.  \nLa Adoración Eucarística es una manera poderosa de pasar tiempo en silencio con el Señor\, descansar en Su presencia y permitir que Él hable a nuestros corazones. Ya sea que puedas venir unos minutos o quedarte una hora\, tu tiempo ante el Santísimo Sacramento es una ofrenda de amor y confianza.  \nEste viernes\, te invitamos a hacer un espacio en tu día para estar con Jesús. Ven cuando tu horario lo permita:  \n9am: Nuestro día de oración comienza con la Misa en inglés. \n9:30am-7pm: Después de la Misa\, el Padre expondrá el Santísimo Sacramento en el altar principal de la iglesia para oración en silencio. La adoración continuará en la iglesia hasta las 7pm. Todos son bienvenidos—feligreses\, amigos\, visitantes\, ministerios y grupos pequeños están invitados a venir\, pasar tiempo con Jesús y adorarlo en el Santísimo Sacramento.   \n7pm:Comenzaremos un período especial de alabanza y adoración\, oración y reflexión\, que culminará con la Bendición.
URL:https://popfb.org/es/event/encuentro/2030-10-04/
CATEGORIES:Eventos Destacados,Página de Adoración,Página de Misa y Confesiones
ATTACH;FMTTYPE=image/png:https://popfb.org/wp-content/uploads/2024/02/Encounter.png
END:VEVENT
END:VCALENDAR