BEGIN:VCALENDAR
VERSION:2.0
PRODID:-//Prince of Peace - ECPv6.15.16.1//NONSGML v1.0//EN
CALSCALE:GREGORIAN
METHOD:PUBLISH
X-WR-CALNAME:Prince of Peace
X-ORIGINAL-URL:https://popfb.org/es/
X-WR-CALDESC:Eventos para Prince of Peace
REFRESH-INTERVAL;VALUE=DURATION:PT1H
X-Robots-Tag:noindex
X-PUBLISHED-TTL:PT1H
BEGIN:VTIMEZONE
TZID:America/New_York
BEGIN:DAYLIGHT
TZOFFSETFROM:-0500
TZOFFSETTO:-0400
TZNAME:EDT
DTSTART:20240310T070000
END:DAYLIGHT
BEGIN:STANDARD
TZOFFSETFROM:-0400
TZOFFSETTO:-0500
TZNAME:EST
DTSTART:20241103T060000
END:STANDARD
BEGIN:DAYLIGHT
TZOFFSETFROM:-0500
TZOFFSETTO:-0400
TZNAME:EDT
DTSTART:20250309T070000
END:DAYLIGHT
BEGIN:STANDARD
TZOFFSETFROM:-0400
TZOFFSETTO:-0500
TZNAME:EST
DTSTART:20251102T060000
END:STANDARD
BEGIN:DAYLIGHT
TZOFFSETFROM:-0500
TZOFFSETTO:-0400
TZNAME:EDT
DTSTART:20260308T070000
END:DAYLIGHT
BEGIN:STANDARD
TZOFFSETFROM:-0400
TZOFFSETTO:-0500
TZNAME:EST
DTSTART:20261101T060000
END:STANDARD
BEGIN:DAYLIGHT
TZOFFSETFROM:-0500
TZOFFSETTO:-0400
TZNAME:EDT
DTSTART:20270314T070000
END:DAYLIGHT
BEGIN:STANDARD
TZOFFSETFROM:-0400
TZOFFSETTO:-0500
TZNAME:EST
DTSTART:20271107T060000
END:STANDARD
END:VTIMEZONE
BEGIN:VEVENT
DTSTART;TZID=America/New_York:20251201T190000
DTEND;TZID=America/New_York:20251201T200000
DTSTAMP:20260421T123356
CREATED:20251105T153526Z
LAST-MODIFIED:20251105T153526Z
UID:10008853-1764615600-1764619200@popfb.org
SUMMARY:Servicios Penitenciales de Adviento en la Localidad
DESCRIPTION:Venga y reciba el regalo del perdón de Dios a través de un Servicio de Penitencia de Adviento. Esta es una hermosa oportunidad para preparar su corazón para la venida de Jesús en Navidad mediante el Sacramento de la Reconciliación. Varios sacerdotes estarán disponibles para la confesión.   \n\n\n\n\n\n\n\nA continuación\, se enumeran algunos servicios de penitencia en nuestra área:\n \n12/1 – St. Stephen the Martyr (Lilburn) – 7pm\n12/2 – St. Patrick (Norcross) – 7pm\n12/3 – Prince of Peace (Flowery Branch) – 7pm\n12/4 – Our Lady of the Americas (Lilburn) – 7pm\n12/9 – St. Monica (Duluth) – 7pm\n12/9 – St. Matthew (Winder)- 7pm\n12/10 – Christ Our Hope (Lithonia) – 7pm\n12/15 – St. John Neumann (Lilburn) – 7pm\n12/15 – St. Michael (Gainesville) – 7pm\n12/16 – St. John Paul II (Gainesville) – 7pm\n12/16 – Holy Cross (Atlanta) – 7pm\n12/17 – St. Lawrence (Lawrenceville) – 7pm\n12/18 – St. Oliver Plunkett (Snellville) – 7pm\n12/19 – St. Marguerite d’Youville (Lawrenceville) – 7pm
URL:https://popfb.org/es/event/servicios-penitenciales-de-adviento-en-la-localidad/
LOCATION:Georgia
CATEGORIES:Confesiones,Eventos Destacados,Página de Misa y Confesiones
ATTACH;FMTTYPE=image/png:https://popfb.org/wp-content/uploads/2024/02/Confessions.png
END:VEVENT
BEGIN:VEVENT
DTSTART;TZID=America/New_York:20251203T190000
DTEND;TZID=America/New_York:20251203T200000
DTSTAMP:20260421T123356
CREATED:20251118T181041Z
LAST-MODIFIED:20251118T181041Z
UID:10008855-1764788400-1764792000@popfb.org
SUMMARY:Servicio Penitencial de Adviento
DESCRIPTION:Venga y reciba el regalo del perdón de Dios a través de un Servicio de Penitencia de Adviento. Esta es una hermosa oportunidad para preparar su corazón para la venida de Jesús en Navidad mediante el Sacramento de la Reconciliación. Varios sacerdotes estarán disponibles para la confesión.   \n\n\n\n\n\n\n\nA continuación\, se enumeran algunos servicios de penitencia en nuestra área:\n \n12/1 – St. Stephen the Martyr (Lilburn) – 7pm\n12/2 – St. Patrick (Norcross) – 7pm\n12/3 – Prince of Peace (Flowery Branch) – 7pm\n12/4 – Our Lady of the Americas (Lilburn) – 7pm\n12/9 – St. Monica (Duluth) – 7pm\n12/9 – St. Matthew (Winder)- 7pm\n12/10 – Christ Our Hope (Lithonia) – 7pm\n12/15 – St. John Neumann (Lilburn) – 7pm\n12/15 – St. Michael (Gainesville) – 7pm\n12/16 – St. John Paul II (Gainesville) – 7pm\n12/16 – Holy Cross (Atlanta) – 7pm\n12/17 – St. Lawrence (Lawrenceville) – 7pm\n12/18 – St. Oliver Plunkett (Snellville) – 7pm\n12/19 – St. Marguerite d’Youville (Lawrenceville) – 7pm
URL:https://popfb.org/es/event/servicio-penitencial-de-adviento/
LOCATION:Georgia
CATEGORIES:Confesiones,Eventos Destacados,Página de Misa y Confesiones
ATTACH;FMTTYPE=image/png:https://popfb.org/wp-content/uploads/2024/02/Confessions.png
END:VEVENT
BEGIN:VEVENT
DTSTART;TZID=America/New_York:20251205T090000
DTEND;TZID=America/New_York:20251205T200000
DTSTAMP:20260421T123356
CREATED:20251023T150236Z
LAST-MODIFIED:20251023T150236Z
UID:10008763-1764925200-1764964800@popfb.org
SUMMARY:Encuentro
DESCRIPTION:En nuestras vidas ocupadas\, es fácil perder de vista a Aquel que nos da la verdadera paz y propósito. Por eso\, hemos reservado tiempo para Encuentro\, un día dedicado a la oración\, adoración y conexión personal con Jesucristo en la Eucaristía.  \nLa Adoración Eucarística es una manera poderosa de pasar tiempo en silencio con el Señor\, descansar en Su presencia y permitir que Él hable a nuestros corazones. Ya sea que puedas venir unos minutos o quedarte una hora\, tu tiempo ante el Santísimo Sacramento es una ofrenda de amor y confianza.  \nEste viernes\, te invitamos a hacer un espacio en tu día para estar con Jesús. Ven cuando tu horario lo permita:  \n9am: Nuestro día de oración comienza con la Misa en inglés. \n9:30am-7pm: Después de la Misa\, el Padre expondrá el Santísimo Sacramento en el altar principal de la iglesia para oración en silencio. La adoración continuará en la iglesia hasta las 7pm. Todos son bienvenidos—feligreses\, amigos\, visitantes\, ministerios y grupos pequeños están invitados a venir\, pasar tiempo con Jesús y adorarlo en el Santísimo Sacramento.   \n7pm:Comenzaremos un período especial de alabanza y adoración\, oración y reflexión\, que culminará con la Bendición.
URL:https://popfb.org/es/event/encuentro/2025-12-05/
LOCATION:Georgia
CATEGORIES:Eventos Destacados,Página de Adoración,Página de Misa y Confesiones
ATTACH;FMTTYPE=image/png:https://popfb.org/wp-content/uploads/2024/02/Encounter.png
END:VEVENT
BEGIN:VEVENT
DTSTART;TZID=America/New_York:20251205T200000
DTEND;TZID=America/New_York:20251205T213000
DTSTAMP:20260421T123356
CREATED:20251113T182513Z
LAST-MODIFIED:20251113T182730Z
UID:10008846-1764964800-1764970200@popfb.org
SUMMARY:Adviento\, un Kairos de Esperanza y Renovación [ES]
DESCRIPTION:Presentado por Pablo y Ana Correa en español \nViernes\, 5 de diciembre | 8pm – 9:30pm \nEn un mundo donde el ruido cotidiano puede distraernos de nuestro propósito espiritual\, el Adviento\, tiempo de espera y preparación\, nos ofrece la oportunidad para detenernos\, respirar y volver la mirada hacia Dios. \nLo invitamos durante este “tiempo propicio” a hacer una parada en el camino de la vida y reflexionar sobre cómo las virtudes teologales de la fe\, la esperanza y la caridad se convierten en el eje central que guía nuestros corazones y nuestras acciones hacia un futuro iluminado por la luz de Cristo. Comencemos el año nuevo\, renovados por Su nacimiento.  \nEn caso de preguntas\, por favor comunicarse con Carmela Trevino al 678-960-0069 o por email a carmela@popfb.org.
URL:https://popfb.org/es/event/adviento-un-kairos-de-esperanza-y-renovacion-es/
LOCATION:Georgia
CATEGORIES:Eventos Destacados,Formación de fe para adultos
ATTACH;FMTTYPE=image/png:https://popfb.org/wp-content/uploads/2025/11/Events-Calendar-Thumbnail-website-32.png
END:VEVENT
BEGIN:VEVENT
DTSTART;TZID=America/New_York:20251206T173000
DTEND;TZID=America/New_York:20251206T193000
DTSTAMP:20260421T123356
CREATED:20251023T145341Z
LAST-MODIFIED:20251023T145502Z
UID:10008684-1765042200-1765049400@popfb.org
SUMMARY:Advent Dinner By Candlelight
DESCRIPTION:Acompáñenos en Advent Dinner By Candlelight\, un Evento de Caridad para Mujeres\, el sábado\, 6 de diciembre a las 5:30 PM. Disfrute de una reflexión inspiradora sobre “La Esperanza en el Camino” con nuestra oradora invitada\, Jennifer Thomas\, feligresa de Prince of Peace\, mientras celebramos el inicio del Adviento.  \nDisfrute de una cena buffet preparada por Little Vinny’s y participe en una rifa 50/50 y una subasta de canastas de regalos\, todo en apoyo al Fondo de Caridad de las Columbiettes\, que beneficia a los ministerios de Prince of Peace y a nuestra comunidad. \n¿Preguntas? Comumuniquese con Stephanie Reiniche en sreiniche@yahoo.com \nBoletos: $25 cada uno\, disponibles hasta el 21 de noviembre de 2025. ¡Compre sus boletos hoy mismo!
URL:https://popfb.org/es/event/advent-dinner-by-candlelight/
LOCATION:Georgia
CATEGORIES:Eventos Destacados
ATTACH;FMTTYPE=image/png:https://popfb.org/wp-content/uploads/2025/10/113.png
END:VEVENT
BEGIN:VEVENT
DTSTART;VALUE=DATE:20251208
DTEND;VALUE=DATE:20251209
DTSTAMP:20260421T123356
CREATED:20251113T190707Z
LAST-MODIFIED:20251118T164522Z
UID:10008851-1765152000-1765238399@popfb.org
SUMMARY:Solemnidad de la Inmaculada Concepción de la Santísima Virgen María
DESCRIPTION:Acompáñenos a celebrar la Solemnidad de la Inmaculada Concepción de la Santísima Virgen María\, un día de precepto. \n• Lunes\, 8 de diciembre\n• Horarios de Misa: 9 am\, 12:15 pm\, 5 pm \, 7 pm (en/es) \nEsta solemnidad honra a María\, concebida sin pecado original\, como un signo de la gracia de Dios y su papel especial en la historia de la salvación. Declarada dogma de la Iglesia en 1854 por el Papa Pío IX\, la Inmaculada Concepción nos recuerda el poder y el amor de Dios al preparar a María para ser la Madre de Cristo.  \n¡Venga y celebre este sagrado misterio con nosotros!
URL:https://popfb.org/es/event/solemnidad-de-la-inmaculada-concepcion-de-la-santisima-virgen-maria-2/
LOCATION:Georgia
CATEGORIES:Eventos Destacados,Página de Misa y Confesiones
ATTACH;FMTTYPE=image/png:https://popfb.org/wp-content/uploads/2024/11/Events-Calendar-Thumbnail-website-47.png
END:VEVENT
BEGIN:VEVENT
DTSTART;TZID=America/New_York:20251210T110000
DTEND;TZID=America/New_York:20251210T120000
DTSTAMP:20260421T123356
CREATED:20251208T191417Z
LAST-MODIFIED:20251208T191417Z
UID:10008944-1765364400-1765368000@popfb.org
SUMMARY:Funeral: Ernest Downs
DESCRIPTION:Por favor\, recen por el eterno descanso del alma de Ernest Downs\, quien falleció el 5 de diciembre de 2025. El padre Pete celebrará una Misa de resurrección el miércoles 10 de diciembre a las 11 de la mañana.
URL:https://popfb.org/es/event/funeral-ernest-downs/
LOCATION:Prince of Peace\, 6439 Spout Springs Rd.\, Flowery Branch\, Georgia\, 30542\, United States
CATEGORIES:Eventos Destacados,Funerales
ATTACH;FMTTYPE=image/png:https://popfb.org/wp-content/uploads/2025/12/For-Funerals-Page-8.png
END:VEVENT
BEGIN:VEVENT
DTSTART;TZID=America/New_York:20251211T203000
DTEND;TZID=America/New_York:20251212T203000
DTSTAMP:20260421T123356
CREATED:20251113T192011Z
LAST-MODIFIED:20251113T192011Z
UID:10008850-1765485000-1765571400@popfb.org
SUMMARY:Celebración de Nuestra Señora de Guadalupe
DESCRIPTION:Les invitamos a unirse a nuestras celebraciones en honor a la Virgen de Guadalupe\, comenzando este 3 de diciembre y culminando el 12 de diciembre\, día en que la Iglesia celebra oficialmente a la Virgen de Guadalupe como Emperatriz de las Américas\, un título que resalta su importancia no solo en México\, sino en toda América. \nEsta celebración\, que es una de las más significativas para la comunidad católica\, conmemora la aparición de la Virgen María a San Juan Diego en el Tepeyac\, en México\, en 1531. Este evento milagroso ha sido un símbolo de esperanza y amor para millones de fieles alrededor del mundo.  \nA lo largo de estos días\, celebraremos con oración\, reflexión\, y comunidad\, recordando el mensaje de la Virgen de Guadalupe: unidad\, fe y compasión por los demás. \nMiércoles\, 3 de diciembre\nComienza la novena de Nuestra Señora de Guadalupe a las 7:30 pm en el Salón de Jóvenes. \nJueves\, 11 de diciembre\nAcompáñenos a las 8:30 pm para el último día de la novena\, con música de adoración\, danzas tradicionales y deliciosa comida en el Salón de Jóvenes. La noche concluirá a la medianoche con las clásicas Mañanitas mexicanas.  \nViernes\, 12 de diciembre\nCelebre la Misa a las 7 pm en español\, en honor a Nuestra Señora de Guadalupe\, seguida de una procesión de la iglesia al Salón de Jóvenes. La velada continúa con más música de adoración\, danzas\, comida y convivencia.
URL:https://popfb.org/es/event/celebracion-de-nuestra-senora-de-guadalupe/
LOCATION:Georgia
CATEGORIES:Adviento y Navidad,Eventos Destacados,Página de Misa y Confesiones
ATTACH;FMTTYPE=image/png:https://popfb.org/wp-content/uploads/2024/11/Events-Calendar-Thumbnail-website-45.png
END:VEVENT
BEGIN:VEVENT
DTSTART;VALUE=DATE:20251220
DTEND;VALUE=DATE:20251221
DTSTAMP:20260421T123356
CREATED:20250709T150444Z
LAST-MODIFIED:20250709T150444Z
UID:10008931-1766188800-1766275199@popfb.org
SUMMARY:Misa del 50 Aniversario
DESCRIPTION:Acompáñenos el sábado 20 de diciembre para una Misa de Vigilia especial en celebración del 50 Aniversario de Prince of Peace\, presidida por el Arzobispo Hartmayer. Posteriormente\, se ofrecerá una recepción. \n¡Más detalles próximamente!
URL:https://popfb.org/es/event/misa-del-50-aniversario/
LOCATION:Georgia
CATEGORIES:Eventos Destacados,Página del 50 Aniversario
ATTACH;FMTTYPE=image/png:https://popfb.org/wp-content/uploads/2025/07/Events-Calendar-Thumbnail-website-3.png
END:VEVENT
BEGIN:VEVENT
DTSTART;TZID=America/New_York:20251220T093000
DTEND;TZID=America/New_York:20251220T110000
DTSTAMP:20260421T123356
CREATED:20250821T174722Z
LAST-MODIFIED:20250821T174722Z
UID:10008923-1766223000-1766228400@popfb.org
SUMMARY:Adoración Familiar
DESCRIPTION:Enseñar a sus hijos a adorar a Jesús en la Eucaristía es un regalo que nunca olvidarán. Lo invitamos a nuestra Adoración Familiar mensual del Santísimo Sacramento en la Capilla del Santísimo Sacramento. ¡Los niños que se mueven y se ríen de todas las edades y sus padres están invitados a venir y pasar tiempo con Jesús! \nTodos son bienvenidos a venir por el menor o el mayor tiempo posible\, pero le pedimos que\, si puede comprometerse\, se registre para que sepamos que al menos una familia estará presente para ser guardián del Santísimo Sacramento en todo momento.
URL:https://popfb.org/es/event/adoracion-familiar/2025-12-20/
LOCATION:Georgia
CATEGORIES:Adoracion Familiar,Eventos Destacados,Formación de Fe para Niños,Página de Adoración
ATTACH;FMTTYPE=image/png:https://popfb.org/wp-content/uploads/2025/04/Events-Calendar-Thumbnail-website-67.png
END:VEVENT
BEGIN:VEVENT
DTSTART;TZID=America/New_York:20251220T120000
DTEND;TZID=America/New_York:20251220T130000
DTSTAMP:20260421T123356
CREATED:20251216T193622Z
LAST-MODIFIED:20251216T193622Z
UID:10009083-1766232000-1766235600@popfb.org
SUMMARY:Funeral: Diana Irene O'Connell
DESCRIPTION:Por favor\, recen por el eterno descanso del alma de Diana Irene O’Connell\, quien falleció el 9 de diciembre de 2025. El Padre Pete celebrará una Misa de resurrección el sábado 20 de diciembre a las 12:00 p. m.
URL:https://popfb.org/es/event/funeral-diana-irene-oconnell/
LOCATION:Prince of Peace\, 6439 Spout Springs Rd.\, Flowery Branch\, Georgia\, 30542\, United States
CATEGORIES:Eventos Destacados,Funerales
ATTACH;FMTTYPE=image/png:https://popfb.org/wp-content/uploads/2025/12/For-Funerals-Page-9.png
END:VEVENT
BEGIN:VEVENT
DTSTART;VALUE=DATE:20251224
DTEND;VALUE=DATE:20251226
DTSTAMP:20260421T123356
CREATED:20251216T182254Z
LAST-MODIFIED:20251216T182254Z
UID:10009080-1766534400-1766707199@popfb.org
SUMMARY:Horario de Navidad
DESCRIPTION:Nochebuena\n• 12/24: *3pm\, 5:30pm & 8pm (es) \n* Obra Navideña Infantil a las 2:30pm \nNavidad\n• 12/25: Medianoche & 10am \nMaría\, Madre de Dios\n• 12/31: 7pm (Vigilia)\n• 1/1: 9am\, 12:15pm & 7pm (es) \nAvisos\n• 12/22–01/04: Exposición suspendida (La capilla permanecerá abierta para la oración silenciosa de 9am a 9pm)\n• 12/23: No habrá Misa ni Servicio de Comunión a las 7pm\n• 12/24–01/02: Edificio cerrado\, excepto para los eventos litúrgicos\n• 12/23\, 12/25 & 1/1: No habrá confesiones\n• 01/05: La oficina parroquial reabre\n• 12/22–1/2: La línea de asistencia y la despensa de SVDP permanecerán cerradas.
URL:https://popfb.org/es/event/horario-de-navidad-2/
LOCATION:Georgia
CATEGORIES:Eventos Destacados,Página de Misa y Confesiones
ATTACH;FMTTYPE=image/png:https://popfb.org/wp-content/uploads/2024/12/98-1.png
END:VEVENT
BEGIN:VEVENT
DTSTART;VALUE=DATE:20251231
DTEND;VALUE=DATE:20260102
DTSTAMP:20260421T123356
CREATED:20251227T140654Z
LAST-MODIFIED:20251227T140654Z
UID:10009089-1767139200-1767311999@popfb.org
SUMMARY:María\, Madre de Dios
DESCRIPTION:••• Horario de Misa •••\n• Miércoles\, 31 de diciembre: 7pm (Vigilia)\n• Jueves\, 1 de enero: 9am\, 12:15pm\, 7pm (es) \n••• Avisos •••\n• 12/22–01/04: Exposición suspendida (La capilla permanecerá abierta para la oración silenciosa de 9am a 9pm)\n• 12/24–01/02: Edificio cerrado\, excepto para los eventos litúrgicos\n• 1/1: No habrá confesiones\n• 01/05: La oficina parroquial reabre\n• 12/22–1/2: La línea de asistencia y la despensa de SVDP permanecerán cerradas.
URL:https://popfb.org/es/event/maria-madre-de-dios-2/
LOCATION:Georgia
CATEGORIES:Eventos Destacados,Página de Misa y Confesiones
ATTACH;FMTTYPE=image/png:https://popfb.org/wp-content/uploads/2025/12/Events-Calendar-Thumbnail-website-47.png
END:VEVENT
END:VCALENDAR