BEGIN:VCALENDAR
VERSION:2.0
PRODID:-//Prince of Peace - ECPv6.15.16.1//NONSGML v1.0//EN
CALSCALE:GREGORIAN
METHOD:PUBLISH
X-ORIGINAL-URL:https://popfb.org/es/
X-WR-CALDESC:Eventos para Prince of Peace
REFRESH-INTERVAL;VALUE=DURATION:PT1H
X-Robots-Tag:noindex
X-PUBLISHED-TTL:PT1H
BEGIN:VTIMEZONE
TZID:America/New_York
BEGIN:DAYLIGHT
TZOFFSETFROM:-0500
TZOFFSETTO:-0400
TZNAME:EDT
DTSTART:20240310T070000
END:DAYLIGHT
BEGIN:STANDARD
TZOFFSETFROM:-0400
TZOFFSETTO:-0500
TZNAME:EST
DTSTART:20241103T060000
END:STANDARD
BEGIN:DAYLIGHT
TZOFFSETFROM:-0500
TZOFFSETTO:-0400
TZNAME:EDT
DTSTART:20250309T070000
END:DAYLIGHT
BEGIN:STANDARD
TZOFFSETFROM:-0400
TZOFFSETTO:-0500
TZNAME:EST
DTSTART:20251102T060000
END:STANDARD
BEGIN:DAYLIGHT
TZOFFSETFROM:-0500
TZOFFSETTO:-0400
TZNAME:EDT
DTSTART:20260308T070000
END:DAYLIGHT
BEGIN:STANDARD
TZOFFSETFROM:-0400
TZOFFSETTO:-0500
TZNAME:EST
DTSTART:20261101T060000
END:STANDARD
END:VTIMEZONE
BEGIN:VEVENT
DTSTART;TZID=America/New_York:20251106T180000
DTEND;TZID=America/New_York:20251106T184500
DTSTAMP:20260421T105335
CREATED:20251103T180647Z
LAST-MODIFIED:20251103T180812Z
UID:10008835-1762452000-1762454700@popfb.org
SUMMARY:No Hay Confesiones
DESCRIPTION:Fechas que no habra confesiones: 11/6 & 11/13
URL:https://popfb.org/es/event/no-hay-confesiones-8/2025-11-06/
CATEGORIES:Comunicado Parroquial,Confesiones,Página de Misa y Confesiones
ATTACH;FMTTYPE=image/png:https://popfb.org/wp-content/uploads/2024/02/Confessions.png
END:VEVENT
BEGIN:VEVENT
DTSTART;TZID=America/New_York:20251106T190000
DTEND;TZID=America/New_York:20251106T200000
DTSTAMP:20260421T105335
CREATED:20251103T180601Z
LAST-MODIFIED:20251103T180719Z
UID:10008833-1762455600-1762459200@popfb.org
SUMMARY:Servicio de Comunión
DESCRIPTION:Fechas del servicio de comunión a las 7pm: 11/6 & 11/13
URL:https://popfb.org/es/event/servicio-de-comunion-4/2025-11-06/
CATEGORIES:Comunicado Parroquial,Página de Misa y Confesiones
ATTACH;FMTTYPE=image/png:https://popfb.org/wp-content/uploads/2024/02/Communion-Service.png
END:VEVENT
BEGIN:VEVENT
DTSTART;TZID=America/New_York:20251113T180000
DTEND;TZID=America/New_York:20251113T184500
DTSTAMP:20260421T105335
CREATED:20251103T180647Z
LAST-MODIFIED:20251103T180812Z
UID:10008836-1763056800-1763059500@popfb.org
SUMMARY:No Hay Confesiones
DESCRIPTION:Fechas que no habra confesiones: 11/6 & 11/13
URL:https://popfb.org/es/event/no-hay-confesiones-8/2025-11-13/
CATEGORIES:Comunicado Parroquial,Confesiones,Página de Misa y Confesiones
ATTACH;FMTTYPE=image/png:https://popfb.org/wp-content/uploads/2024/02/Confessions.png
END:VEVENT
BEGIN:VEVENT
DTSTART;TZID=America/New_York:20251113T190000
DTEND;TZID=America/New_York:20251113T200000
DTSTAMP:20260421T105335
CREATED:20251103T180601Z
LAST-MODIFIED:20251103T180719Z
UID:10008834-1763060400-1763064000@popfb.org
SUMMARY:Servicio de Comunión
DESCRIPTION:Fechas del servicio de comunión a las 7pm: 11/6 & 11/13
URL:https://popfb.org/es/event/servicio-de-comunion-4/2025-11-13/
CATEGORIES:Comunicado Parroquial,Página de Misa y Confesiones
ATTACH;FMTTYPE=image/png:https://popfb.org/wp-content/uploads/2024/02/Communion-Service.png
END:VEVENT
BEGIN:VEVENT
DTSTART;VALUE=DATE:20251124
DTEND;VALUE=DATE:20251129
DTSTAMP:20260421T105335
CREATED:20251107T171553Z
LAST-MODIFIED:20251107T171553Z
UID:10008911-1763942400-1764374399@popfb.org
SUMMARY:Semana de Acción de Gracias
DESCRIPTION:Lunes\, 24 de Noviembre\n– Horario regular \nMartes 25 de noviembre\n– Horario regular \nMiércoles\, 26 de noviembre\n– Misa a las 9h\n– Adoración: Se pospone la Exposición. La capilla está abierta para la oración silenciosa\, de 9 am a 9 pm.\n– Cierre del edificio a mediodía \nJueves 27 de noviembre (Acción de Gracias)\n– Misa sólo a las 9 h (No hay Misa vespertina)\n– No hay confesiones\n– Adoración: Se pospone la Exposición. La capilla está abierta para la oración silenciosa\, de 9 am a 9 pm.\n– Edificio cerrado \nViernes\, 28 de noviembre\n– No hay Misa ni Servicio de Comunión\n– Adoración: Se pospone la Exposición. La capilla está abierta para la oración silenciosa\, de 9 am a 9 pm.\n– Edificio cerrado
URL:https://popfb.org/es/event/semana-de-accion-de-gracias/
CATEGORIES:Comunicado Parroquial,Confesiones,Eventos Destacados,Página de Adoración,Página de Misa y Confesiones
ATTACH;FMTTYPE=image/png:https://popfb.org/wp-content/uploads/2025/11/Events-Calendar-Thumbnail-website-31.png
END:VEVENT
BEGIN:VEVENT
DTSTART;TZID=America/New_York:20251127T180000
DTEND;TZID=America/New_York:20251127T184500
DTSTAMP:20260421T105335
CREATED:20251121T153435Z
LAST-MODIFIED:20251209T140208Z
UID:10008903-1764266400-1764269100@popfb.org
SUMMARY:No Hay Confesiones
DESCRIPTION:Date(s) of no Confessions on: 12/9\, 12/16\, 12/18\, 12/25\, 12/27\, 12/30 1/1
URL:https://popfb.org/es/event/no-hay-confesiones-10/2025-11-27/
CATEGORIES:Comunicado Parroquial,Confesiones,Página de Misa y Confesiones
ATTACH;FMTTYPE=image/png:https://popfb.org/wp-content/uploads/2024/02/Confessions.png
END:VEVENT
BEGIN:VEVENT
DTSTART;TZID=America/New_York:20251127T190000
DTEND;TZID=America/New_York:20251127T200000
DTSTAMP:20260421T105335
CREATED:20251121T152710Z
LAST-MODIFIED:20251121T152710Z
UID:10008865-1764270000-1764273600@popfb.org
SUMMARY:No habrá Misa ni Servicio de Comunión
DESCRIPTION:No se celebrará Misa ni Servicio de Comunión en: \n7 pm: 11/27\n9 am: 11/28
URL:https://popfb.org/es/event/no-habra-misa-ni-servicio-de-comunion-2/2025-11-27/
CATEGORIES:Comunicado Parroquial,Página de Misa y Confesiones
ATTACH;FMTTYPE=image/png:https://popfb.org/wp-content/uploads/2024/02/Events-Calendar-Thumbnail-website-12.png
END:VEVENT
BEGIN:VEVENT
DTSTART;TZID=America/New_York:20251128T090000
DTEND;TZID=America/New_York:20251128T100000
DTSTAMP:20260421T105335
CREATED:20251121T152710Z
LAST-MODIFIED:20251121T152710Z
UID:10008866-1764320400-1764324000@popfb.org
SUMMARY:No habrá Misa ni Servicio de Comunión
DESCRIPTION:No se celebrará Misa ni Servicio de Comunión en: \n7 pm: 11/27\n9 am: 11/28
URL:https://popfb.org/es/event/no-habra-misa-ni-servicio-de-comunion-2/2025-11-28/
CATEGORIES:Comunicado Parroquial,Página de Misa y Confesiones
ATTACH;FMTTYPE=image/png:https://popfb.org/wp-content/uploads/2024/02/Events-Calendar-Thumbnail-website-12.png
END:VEVENT
END:VCALENDAR