BEGIN:VCALENDAR
VERSION:2.0
PRODID:-//Prince of Peace - ECPv6.15.16.1//NONSGML v1.0//EN
CALSCALE:GREGORIAN
METHOD:PUBLISH
X-ORIGINAL-URL:https://popfb.org/es/
X-WR-CALDESC:Eventos para Prince of Peace
REFRESH-INTERVAL;VALUE=DURATION:PT1H
X-Robots-Tag:noindex
X-PUBLISHED-TTL:PT1H
BEGIN:VTIMEZONE
TZID:America/New_York
BEGIN:DAYLIGHT
TZOFFSETFROM:-0500
TZOFFSETTO:-0400
TZNAME:EDT
DTSTART:20240310T070000
END:DAYLIGHT
BEGIN:STANDARD
TZOFFSETFROM:-0400
TZOFFSETTO:-0500
TZNAME:EST
DTSTART:20241103T060000
END:STANDARD
BEGIN:DAYLIGHT
TZOFFSETFROM:-0500
TZOFFSETTO:-0400
TZNAME:EDT
DTSTART:20250309T070000
END:DAYLIGHT
BEGIN:STANDARD
TZOFFSETFROM:-0400
TZOFFSETTO:-0500
TZNAME:EST
DTSTART:20251102T060000
END:STANDARD
BEGIN:DAYLIGHT
TZOFFSETFROM:-0500
TZOFFSETTO:-0400
TZNAME:EDT
DTSTART:20260308T070000
END:DAYLIGHT
BEGIN:STANDARD
TZOFFSETFROM:-0400
TZOFFSETTO:-0500
TZNAME:EST
DTSTART:20261101T060000
END:STANDARD
END:VTIMEZONE
BEGIN:VEVENT
DTSTART;TZID=America/New_York:20251028T180000
DTEND;TZID=America/New_York:20251028T184500
DTSTAMP:20260421T123454
CREATED:20251028T140255Z
LAST-MODIFIED:20251028T140343Z
UID:10008761-1761674400-1761677100@popfb.org
SUMMARY:No Hay Confesiones
DESCRIPTION:Fecha(s) que no hay confesiones: 10/28
URL:https://popfb.org/es/event/no-hay-confesiones-9/
CATEGORIES:Comunicado Parroquial,Confesiones,Página de Misa y Confesiones
ATTACH;FMTTYPE=image/png:https://popfb.org/wp-content/uploads/2024/02/Confessions.png
END:VEVENT
BEGIN:VEVENT
DTSTART;TZID=America/New_York:20251028T190000
DTEND;TZID=America/New_York:20251028T200000
DTSTAMP:20260421T123454
CREATED:20251028T140011Z
LAST-MODIFIED:20251028T140011Z
UID:10008760-1761678000-1761681600@popfb.org
SUMMARY:Servicio de Comunión
DESCRIPTION:Dates of Communion Service at 7pm: 10/28
URL:https://popfb.org/es/event/servicio-de-comunion-3/
CATEGORIES:Comunicado Parroquial,Página de Misa y Confesiones
ATTACH;FMTTYPE=image/png:https://popfb.org/wp-content/uploads/2024/02/Communion-Service.png
END:VEVENT
END:VCALENDAR