BEGIN:VCALENDAR
VERSION:2.0
PRODID:-//Prince of Peace - ECPv6.15.16.1//NONSGML v1.0//EN
CALSCALE:GREGORIAN
METHOD:PUBLISH
X-ORIGINAL-URL:https://popfb.org/es/
X-WR-CALDESC:Eventos para Prince of Peace
REFRESH-INTERVAL;VALUE=DURATION:PT1H
X-Robots-Tag:noindex
X-PUBLISHED-TTL:PT1H
BEGIN:VTIMEZONE
TZID:America/New_York
BEGIN:DAYLIGHT
TZOFFSETFROM:-0500
TZOFFSETTO:-0400
TZNAME:EDT
DTSTART:20240310T070000
END:DAYLIGHT
BEGIN:STANDARD
TZOFFSETFROM:-0400
TZOFFSETTO:-0500
TZNAME:EST
DTSTART:20241103T060000
END:STANDARD
BEGIN:DAYLIGHT
TZOFFSETFROM:-0500
TZOFFSETTO:-0400
TZNAME:EDT
DTSTART:20250309T070000
END:DAYLIGHT
BEGIN:STANDARD
TZOFFSETFROM:-0400
TZOFFSETTO:-0500
TZNAME:EST
DTSTART:20251102T060000
END:STANDARD
BEGIN:DAYLIGHT
TZOFFSETFROM:-0500
TZOFFSETTO:-0400
TZNAME:EDT
DTSTART:20260308T070000
END:DAYLIGHT
BEGIN:STANDARD
TZOFFSETFROM:-0400
TZOFFSETTO:-0500
TZNAME:EST
DTSTART:20261101T060000
END:STANDARD
END:VTIMEZONE
BEGIN:VEVENT
DTSTART;VALUE=DATE:20250704
DTEND;VALUE=DATE:20250705
DTSTAMP:20260421T185956
CREATED:20250613T141115Z
LAST-MODIFIED:20250613T141115Z
UID:10008279-1751587200-1751673599@popfb.org
SUMMARY:Avisos del 4 de Julio
DESCRIPTION:Avisos del 4 de Julio \n• 4 de julio La oficina parroquial estará cerrada\n• Se celebrará la Misa a las 9am\n• NO habrá exposición del Santísimo Sacramento\, pero la capilla estará abierta para oración privada de 9am a 9pm\n• No hay otros eventos programados en la parroquia\n• La despensa de SVDP estará cerrada el 2 y el 4 de julio. La línea de ayuda permanecerá abierta durante la semana del 4 de julio
URL:https://popfb.org/es/event/avisos-del-4-de-julio-2/
CATEGORIES:Comunicado Parroquial,Eventos Destacados,Página de Adoración,Página de Misa y Confesiones
ATTACH;FMTTYPE=image/png:https://popfb.org/wp-content/uploads/2025/06/Events-Calendar-Thumbnail-website-7.png
END:VEVENT
END:VCALENDAR