BEGIN:VCALENDAR
VERSION:2.0
PRODID:-//Prince of Peace - ECPv6.15.16.1//NONSGML v1.0//EN
CALSCALE:GREGORIAN
METHOD:PUBLISH
X-WR-CALNAME:Prince of Peace
X-ORIGINAL-URL:https://popfb.org/es/
X-WR-CALDESC:Eventos para Prince of Peace
REFRESH-INTERVAL;VALUE=DURATION:PT1H
X-Robots-Tag:noindex
X-PUBLISHED-TTL:PT1H
BEGIN:VTIMEZONE
TZID:America/New_York
BEGIN:DAYLIGHT
TZOFFSETFROM:-0500
TZOFFSETTO:-0400
TZNAME:EDT
DTSTART:20240310T070000
END:DAYLIGHT
BEGIN:STANDARD
TZOFFSETFROM:-0400
TZOFFSETTO:-0500
TZNAME:EST
DTSTART:20241103T060000
END:STANDARD
BEGIN:DAYLIGHT
TZOFFSETFROM:-0500
TZOFFSETTO:-0400
TZNAME:EDT
DTSTART:20250309T070000
END:DAYLIGHT
BEGIN:STANDARD
TZOFFSETFROM:-0400
TZOFFSETTO:-0500
TZNAME:EST
DTSTART:20251102T060000
END:STANDARD
BEGIN:DAYLIGHT
TZOFFSETFROM:-0500
TZOFFSETTO:-0400
TZNAME:EDT
DTSTART:20260308T070000
END:DAYLIGHT
BEGIN:STANDARD
TZOFFSETFROM:-0400
TZOFFSETTO:-0500
TZNAME:EST
DTSTART:20261101T060000
END:STANDARD
END:VTIMEZONE
BEGIN:VEVENT
DTSTART;TZID=America/New_York:20250607T090000
DTEND;TZID=America/New_York:20250607T100000
DTSTAMP:20260421T204617
CREATED:20250529T140013Z
LAST-MODIFIED:20250529T140013Z
UID:10008235-1749286800-1749290400@popfb.org
SUMMARY:No habrá Misa ni Servicio de Comunión
DESCRIPTION:No habrá Misa ni Servicio de Comunión: 6/7 y 6/28 a las 9am\, 7 6/26 a las 7pm. \nTenga en cuenta: todas las Misas celebrarán la liturgia del día y todos están invitados a asistir. \n• Primeras Comuniones: El Sacramento de la Primera Comunión se celebrará el sábado\, 7 de junio a las 10am y 1pm. Por favor\, tenga en cuenta que ese día no habrá Misa de las 9am ni confesiones.\n• Confirmaciones: El Sacramento de la Confirmación será celebrado por el Obispo Konzen el sábado 28 de junio a las 10am y 1pm. Ese día tampoco habrá Misa de las 9am ni confesiones. \n 
URL:https://popfb.org/es/event/no-habra-misa-ni-servicio-de-comunion/2025-06-07/
CATEGORIES:Comunicado Parroquial,Página de Misa y Confesiones
ATTACH;FMTTYPE=image/png:https://popfb.org/wp-content/uploads/2024/02/Events-Calendar-Thumbnail-website-12.png
END:VEVENT
BEGIN:VEVENT
DTSTART;TZID=America/New_York:20250607T093000
DTEND;TZID=America/New_York:20250607T103000
DTSTAMP:20260421T204617
CREATED:20250529T141012Z
LAST-MODIFIED:20250529T141012Z
UID:10008248-1749288600-1749292200@popfb.org
SUMMARY:No Hay Confesiones
DESCRIPTION:No hay Confesiones: 6/7\, 6/26\, 6/28
URL:https://popfb.org/es/event/no-hay-confesiones-2/2025-06-07/
CATEGORIES:Comunicado Parroquial,Confesiones,Página de Misa y Confesiones
ATTACH;FMTTYPE=image/png:https://popfb.org/wp-content/uploads/2024/02/Confessions.png
END:VEVENT
BEGIN:VEVENT
DTSTART;TZID=America/New_York:20250626T180000
DTEND;TZID=America/New_York:20250626T184500
DTSTAMP:20260421T204617
CREATED:20250529T141012Z
LAST-MODIFIED:20250529T141012Z
UID:10008249-1750960800-1750963500@popfb.org
SUMMARY:No Hay Confesiones
DESCRIPTION:No hay Confesiones: 6/7\, 6/26\, 6/28
URL:https://popfb.org/es/event/no-hay-confesiones-2/2025-06-26/
CATEGORIES:Comunicado Parroquial,Confesiones,Página de Misa y Confesiones
ATTACH;FMTTYPE=image/png:https://popfb.org/wp-content/uploads/2024/02/Confessions.png
END:VEVENT
BEGIN:VEVENT
DTSTART;TZID=America/New_York:20250626T190000
DTEND;TZID=America/New_York:20250626T200000
DTSTAMP:20260421T204617
CREATED:20250529T140013Z
LAST-MODIFIED:20250529T140013Z
UID:10008236-1750964400-1750968000@popfb.org
SUMMARY:No habrá Misa ni Servicio de Comunión
DESCRIPTION:No habrá Misa ni Servicio de Comunión: 6/7 y 6/28 a las 9am\, 7 6/26 a las 7pm. \nTenga en cuenta: todas las Misas celebrarán la liturgia del día y todos están invitados a asistir. \n• Primeras Comuniones: El Sacramento de la Primera Comunión se celebrará el sábado\, 7 de junio a las 10am y 1pm. Por favor\, tenga en cuenta que ese día no habrá Misa de las 9am ni confesiones.\n• Confirmaciones: El Sacramento de la Confirmación será celebrado por el Obispo Konzen el sábado 28 de junio a las 10am y 1pm. Ese día tampoco habrá Misa de las 9am ni confesiones. \n 
URL:https://popfb.org/es/event/no-habra-misa-ni-servicio-de-comunion/2025-06-26/
CATEGORIES:Comunicado Parroquial,Página de Misa y Confesiones
ATTACH;FMTTYPE=image/png:https://popfb.org/wp-content/uploads/2024/02/Events-Calendar-Thumbnail-website-12.png
END:VEVENT
BEGIN:VEVENT
DTSTART;TZID=America/New_York:20250628T090000
DTEND;TZID=America/New_York:20250628T100000
DTSTAMP:20260421T204617
CREATED:20250529T140013Z
LAST-MODIFIED:20250529T140013Z
UID:10008237-1751101200-1751104800@popfb.org
SUMMARY:No habrá Misa ni Servicio de Comunión
DESCRIPTION:No habrá Misa ni Servicio de Comunión: 6/7 y 6/28 a las 9am\, 7 6/26 a las 7pm. \nTenga en cuenta: todas las Misas celebrarán la liturgia del día y todos están invitados a asistir. \n• Primeras Comuniones: El Sacramento de la Primera Comunión se celebrará el sábado\, 7 de junio a las 10am y 1pm. Por favor\, tenga en cuenta que ese día no habrá Misa de las 9am ni confesiones.\n• Confirmaciones: El Sacramento de la Confirmación será celebrado por el Obispo Konzen el sábado 28 de junio a las 10am y 1pm. Ese día tampoco habrá Misa de las 9am ni confesiones. \n 
URL:https://popfb.org/es/event/no-habra-misa-ni-servicio-de-comunion/2025-06-28/
CATEGORIES:Comunicado Parroquial,Página de Misa y Confesiones
ATTACH;FMTTYPE=image/png:https://popfb.org/wp-content/uploads/2024/02/Events-Calendar-Thumbnail-website-12.png
END:VEVENT
BEGIN:VEVENT
DTSTART;TZID=America/New_York:20250628T093000
DTEND;TZID=America/New_York:20250628T103000
DTSTAMP:20260421T204617
CREATED:20250529T141012Z
LAST-MODIFIED:20250529T141012Z
UID:10008250-1751103000-1751106600@popfb.org
SUMMARY:No Hay Confesiones
DESCRIPTION:No hay Confesiones: 6/7\, 6/26\, 6/28
URL:https://popfb.org/es/event/no-hay-confesiones-2/2025-06-28/
CATEGORIES:Comunicado Parroquial,Confesiones,Página de Misa y Confesiones
ATTACH;FMTTYPE=image/png:https://popfb.org/wp-content/uploads/2024/02/Confessions.png
END:VEVENT
END:VCALENDAR