BEGIN:VCALENDAR
VERSION:2.0
PRODID:-//Prince of Peace - ECPv6.15.16.1//NONSGML v1.0//EN
CALSCALE:GREGORIAN
METHOD:PUBLISH
X-WR-CALNAME:Prince of Peace
X-ORIGINAL-URL:https://popfb.org/es/
X-WR-CALDESC:Eventos para Prince of Peace
REFRESH-INTERVAL;VALUE=DURATION:PT1H
X-Robots-Tag:noindex
X-PUBLISHED-TTL:PT1H
BEGIN:VTIMEZONE
TZID:America/New_York
BEGIN:DAYLIGHT
TZOFFSETFROM:-0500
TZOFFSETTO:-0400
TZNAME:EDT
DTSTART:20240310T070000
END:DAYLIGHT
BEGIN:STANDARD
TZOFFSETFROM:-0400
TZOFFSETTO:-0500
TZNAME:EST
DTSTART:20241103T060000
END:STANDARD
BEGIN:DAYLIGHT
TZOFFSETFROM:-0500
TZOFFSETTO:-0400
TZNAME:EDT
DTSTART:20250309T070000
END:DAYLIGHT
BEGIN:STANDARD
TZOFFSETFROM:-0400
TZOFFSETTO:-0500
TZNAME:EST
DTSTART:20251102T060000
END:STANDARD
BEGIN:DAYLIGHT
TZOFFSETFROM:-0500
TZOFFSETTO:-0400
TZNAME:EDT
DTSTART:20260308T070000
END:DAYLIGHT
BEGIN:STANDARD
TZOFFSETFROM:-0400
TZOFFSETTO:-0500
TZNAME:EST
DTSTART:20261101T060000
END:STANDARD
END:VTIMEZONE
BEGIN:VEVENT
DTSTART;TZID=America/New_York:20250501T180000
DTEND;TZID=America/New_York:20250501T184500
DTSTAMP:20260421T203820
CREATED:20250501T133606Z
LAST-MODIFIED:20250501T133606Z
UID:10008154-1746122400-1746125100@popfb.org
SUMMARY:No Hay Confesiones
DESCRIPTION:No hay confesiones a las 6pm: 5/1
URL:https://popfb.org/es/event/no-hay-confesiones/
CATEGORIES:Comunicado Parroquial,Confesiones,Página de Misa y Confesiones
ATTACH;FMTTYPE=image/png:https://popfb.org/wp-content/uploads/2024/02/Confessions.png
END:VEVENT
BEGIN:VEVENT
DTSTART;TZID=America/New_York:20250501T190000
DTEND;TZID=America/New_York:20250501T200000
DTSTAMP:20260421T203820
CREATED:20250501T134506Z
LAST-MODIFIED:20250501T134751Z
UID:10008157-1746126000-1746129600@popfb.org
SUMMARY:Servicio de Comunión
DESCRIPTION:Servicio de Comunión a las 7pm: 5/1
URL:https://popfb.org/es/event/servicio-de-comunion/
CATEGORIES:Comunicado Parroquial,Página de Misa y Confesiones
ATTACH;FMTTYPE=image/png:https://popfb.org/wp-content/uploads/2024/02/Communion-Service.png
END:VEVENT
BEGIN:VEVENT
DTSTART;VALUE=DATE:20250526
DTEND;VALUE=DATE:20250527
DTSTAMP:20260421T203820
CREATED:20250514T140103Z
LAST-MODIFIED:20250514T140458Z
UID:10008183-1748217600-1748303999@popfb.org
SUMMARY:Memorial Day
DESCRIPTION:Lunes 26 de mayo \n– La oficina de la Parroquia permanecerá cerrada el lunes 26 de mayo con motivo del Día de los Caídos.\n– La Misa se celebrará a las 9 de la mañana\n– NO habrá Exposición del Santísimo Sacramento (ni Adoración nocturna). La capilla estará abierta para la oración privada de 9am a 9pm\n– El Santísimo Sacramento será expuesto de nuevo después de la Misa de 9am el martes 27 de mayo.\n– No hay otros eventos programados en la parroquia el Día de los Caídos.
URL:https://popfb.org/es/event/memorial-day/
CATEGORIES:Comunicado Parroquial,Eventos Destacados,Página de Adoración,Página de Misa y Confesiones
ATTACH;FMTTYPE=image/png:https://popfb.org/wp-content/uploads/2024/05/Memorial-Day.png
END:VEVENT
END:VCALENDAR